BEGIN:VCALENDAR
VERSION:2.0
PRODID:-//Summit Metro Parks - ECPv6.15.20//NONSGML v1.0//EN
CALSCALE:GREGORIAN
METHOD:PUBLISH
X-WR-CALNAME:Summit Metro Parks
X-ORIGINAL-URL:https://www.summitmetroparks.org
X-WR-CALDESC:Events for Summit Metro Parks
REFRESH-INTERVAL;VALUE=DURATION:PT1H
X-Robots-Tag:noindex
X-PUBLISHED-TTL:PT1H
BEGIN:VTIMEZONE
TZID:America/New_York
BEGIN:DAYLIGHT
TZOFFSETFROM:-0500
TZOFFSETTO:-0400
TZNAME:EDT
DTSTART:20230312T070000
END:DAYLIGHT
BEGIN:STANDARD
TZOFFSETFROM:-0400
TZOFFSETTO:-0500
TZNAME:EST
DTSTART:20231105T060000
END:STANDARD
BEGIN:DAYLIGHT
TZOFFSETFROM:-0500
TZOFFSETTO:-0400
TZNAME:EDT
DTSTART:20240310T070000
END:DAYLIGHT
BEGIN:STANDARD
TZOFFSETFROM:-0400
TZOFFSETTO:-0500
TZNAME:EST
DTSTART:20241103T060000
END:STANDARD
BEGIN:DAYLIGHT
TZOFFSETFROM:-0500
TZOFFSETTO:-0400
TZNAME:EDT
DTSTART:20250309T070000
END:DAYLIGHT
BEGIN:STANDARD
TZOFFSETFROM:-0400
TZOFFSETTO:-0500
TZNAME:EST
DTSTART:20251102T060000
END:STANDARD
END:VTIMEZONE
BEGIN:VEVENT
DTSTART;TZID=America/New_York:20240904T103000
DTEND;TZID=America/New_York:20240904T113000
DTSTAMP:20260425T092545
CREATED:20240728T164506Z
LAST-MODIFIED:20240806T111157Z
UID:10003492-1725445800-1725449400@www.summitmetroparks.org
SUMMARY:Kinderealm: Fungi
DESCRIPTION:Children 3 to 6 and their adult companions can explore the fascinating secret world of fungi. Program includes a hike and craft. Please make other arrangements for younger children unable to remain in infant seats or strollers. Registration is required and begins 8/29.
URL:https://www.summitmetroparks.org/program-events/kinderealm-fungi-2/
LOCATION:SLNC\, 411 Ira Ave.\, Akron\, OH\, 44301\, United States
CATEGORIES:Nature Education
ATTACH;FMTTYPE=image/jpeg:https://www.summitmetroparks.org/wp-content/uploads/event-image-mushroom.jpg
END:VEVENT
BEGIN:VEVENT
DTSTART;TZID=America/New_York:20240814T103000
DTEND;TZID=America/New_York:20240814T103000
DTSTAMP:20260425T092545
CREATED:20240510T143454Z
LAST-MODIFIED:20240510T143454Z
UID:10000551-1723631400-1723631400@www.summitmetroparks.org
SUMMARY:Kinderealm: Sandhill Cranes
DESCRIPTION:Children ages 3 to 6 and their adult companions will learn about sandhill cranes\, unique birds dating back to prehistoric times that dance\, yell\, build floating nests and are celebrated as a symbol of good fortune. Children will enjoy a craft\, educational activities\, a game and music. Please make other arrangements for younger children unable to remain in infant seats or strollers.
URL:https://www.summitmetroparks.org/program-events/kinderealm-sandhill-cranes-2/
LOCATION:OH
CATEGORIES:Nature Education
END:VEVENT
BEGIN:VEVENT
DTSTART;TZID=America/New_York:20240809T103000
DTEND;TZID=America/New_York:20240809T103000
DTSTAMP:20260425T092545
CREATED:20240510T143453Z
LAST-MODIFIED:20240510T143453Z
UID:10000550-1723199400-1723199400@www.summitmetroparks.org
SUMMARY:Kinderealm: Sandhill Cranes
DESCRIPTION:Children ages 3 to 6 and their adult companions will learn about sandhill cranes\, unique birds dating back to prehistoric times that dance\, yell\, build floating nests and are celebrated as a symbol of good fortune. Children will enjoy a craft\, educational activities\, a game and music. Please make other arrangements for younger children unable to remain in infant seats or strollers.
URL:https://www.summitmetroparks.org/program-events/kinderealm-sandhill-cranes/
LOCATION:OH
CATEGORIES:Nature Education
END:VEVENT
BEGIN:VEVENT
DTSTART;TZID=America/New_York:20240802T103000
DTEND;TZID=America/New_York:20240802T103000
DTSTAMP:20260425T092545
CREATED:20240510T143652Z
LAST-MODIFIED:20240510T143652Z
UID:10000552-1722594600-1722594600@www.summitmetroparks.org
SUMMARY:Kinderealm: Sandhill Cranes
DESCRIPTION:Children ages 3 to 6 and their adult companions will learn about sandhill cranes\, unique birds dating back to prehistoric times that dance\, yell\, build floating nests and are celebrated as a symbol of good fortune. Children will enjoy a craft\, educational activities\, a game and music. Please make other arrangements for younger children unable to remain in infant seats or strollers.
URL:https://www.summitmetroparks.org/program-events/kinderealm-sandhill-cranes-3/
LOCATION:OH
CATEGORIES:Nature Education
END:VEVENT
BEGIN:VEVENT
DTSTART;TZID=America/New_York:20240731T130000
DTEND;TZID=America/New_York:20240731T130000
DTSTAMP:20260425T092545
CREATED:20240510T134959Z
LAST-MODIFIED:20240510T134959Z
UID:10000446-1722430800-1722430800@www.summitmetroparks.org
SUMMARY:Kinderealm: Moths
DESCRIPTION:Children 3 to 6 and their adult companions will take a closer look at what makes these amazing\, night-flying\, butterfly cousins so special. A craft and short walk are included. Please make other arrangements for younger children unable to remain in infant seats or strollers.
URL:https://www.summitmetroparks.org/program-events/kinderealm-moths/
LOCATION:OH
CATEGORIES:Nature Education
END:VEVENT
BEGIN:VEVENT
DTSTART;TZID=America/New_York:20240724T103000
DTEND;TZID=America/New_York:20240724T103000
DTSTAMP:20260425T092545
CREATED:20240510T141241Z
LAST-MODIFIED:20240510T141241Z
UID:10000491-1721817000-1721817000@www.summitmetroparks.org
SUMMARY:Kinderealm: Moths
DESCRIPTION:Children 3 to 6 and their adult companions will take a closer look at what makes these amazing\, night-flying\, butterfly cousins so special. A craft and short walk are included. Please make other arrangements for younger children unable to remain in infant seats or strollers.
URL:https://www.summitmetroparks.org/program-events/kinderealm-moths-3/
LOCATION:OH
CATEGORIES:Nature Education
END:VEVENT
BEGIN:VEVENT
DTSTART;TZID=America/New_York:20240717T103000
DTEND;TZID=America/New_York:20240717T103000
DTSTAMP:20260425T092545
CREATED:20240510T141240Z
LAST-MODIFIED:20240510T141240Z
UID:10000490-1721212200-1721212200@www.summitmetroparks.org
SUMMARY:Kinderealm: Moths
DESCRIPTION:Children 3 to 6 and their adult companions will take a closer look at what makes these amazing\, night-flying\, butterfly cousins so special. A craft and short walk are included. Please make other arrangements for younger children unable to remain in infant seats or strollers.
URL:https://www.summitmetroparks.org/program-events/kinderealm-moths-2/
LOCATION:OH
CATEGORIES:Nature Education
END:VEVENT
BEGIN:VEVENT
DTSTART;TZID=America/New_York:20240626T103000
DTEND;TZID=America/New_York:20240626T103000
DTSTAMP:20260425T092545
CREATED:20240711T192822Z
LAST-MODIFIED:20240711T192822Z
UID:10003234-1719397800-1719397800@www.summitmetroparks.org
SUMMARY:Kinderealm: Trees
DESCRIPTION:Children 3 to 6 and their adult companions will learn all about trees and the beautiful lives they live. A craft and short walk are included. Please make other arrangements for younger children unable to remain in infant seats or strollers.
URL:https://www.summitmetroparks.org/program-events/kinderealm-trees/
LOCATION:OH
CATEGORIES:Nature Education
END:VEVENT
BEGIN:VEVENT
DTSTART;TZID=America/New_York:20240612T103000
DTEND;TZID=America/New_York:20240612T103000
DTSTAMP:20260425T092545
CREATED:20240711T192840Z
LAST-MODIFIED:20240711T192840Z
UID:10003236-1718188200-1718188200@www.summitmetroparks.org
SUMMARY:Kinderealm: Trees
DESCRIPTION:Children 3 to 6 and their adult companions will learn all about trees and the beautiful lives they live. A craft and short walk are included. Please make other arrangements for younger children unable to remain in infant seats or strollers.
URL:https://www.summitmetroparks.org/program-events/kinderealm-trees-3/
LOCATION:OH
CATEGORIES:Nature Education
END:VEVENT
BEGIN:VEVENT
DTSTART;TZID=America/New_York:20240605T103000
DTEND;TZID=America/New_York:20240605T103000
DTSTAMP:20260425T092545
CREATED:20240711T192823Z
LAST-MODIFIED:20240711T192823Z
UID:10003235-1717583400-1717583400@www.summitmetroparks.org
SUMMARY:Kinderealm: Trees
DESCRIPTION:Children 3 to 6 and their adult companions will learn all about trees and the beautiful lives they live. A craft and short walk are included. Please make other arrangements for younger children unable to remain in infant seats or strollers.
URL:https://www.summitmetroparks.org/program-events/kinderealm-trees-2/
LOCATION:OH
CATEGORIES:Nature Education
END:VEVENT
BEGIN:VEVENT
DTSTART;TZID=America/New_York:20240529T103000
DTEND;TZID=America/New_York:20240529T103000
DTSTAMP:20260425T092545
CREATED:20240510T134555Z
LAST-MODIFIED:20240510T134555Z
UID:10000433-1716978600-1716978600@www.summitmetroparks.org
SUMMARY:Kinderealm: Ladybugs
DESCRIPTION:Children ages 3 to 6 and their adult companions will enjoy a game\, craft\, story and song centered around a much-loved critter that some cultures believe brings good luck: the ladybug! A short walk will be included. Please make other arrangements for younger children unable to remain in infant seats or strollers.
URL:https://www.summitmetroparks.org/program-events/kinderealm-ladybugs/
LOCATION:OH
CATEGORIES:Nature Education
END:VEVENT
BEGIN:VEVENT
DTSTART;TZID=America/New_York:20240522T103000
DTEND;TZID=America/New_York:20240522T103000
DTSTAMP:20260425T092545
CREATED:20240711T193101Z
LAST-MODIFIED:20240711T193101Z
UID:10003309-1716373800-1716373800@www.summitmetroparks.org
SUMMARY:Kinderealm: Ladybugs
DESCRIPTION:Children ages 3 to 6 and their adult companions will enjoy a game\, craft\, story and song centered around a much-loved critter that some cultures believe brings good luck: the ladybug! A short walk will be included. Please make other arrangements for younger children unable to remain in infant seats or strollers.
URL:https://www.summitmetroparks.org/program-events/kinderealm-ladybugs-2/
LOCATION:OH
CATEGORIES:Nature Education
END:VEVENT
BEGIN:VEVENT
DTSTART;TZID=America/New_York:20240515T103000
DTEND;TZID=America/New_York:20240515T103000
DTSTAMP:20260425T092545
CREATED:20240711T193101Z
LAST-MODIFIED:20240711T193101Z
UID:10003310-1715769000-1715769000@www.summitmetroparks.org
SUMMARY:Kinderealm: Ladybugs
DESCRIPTION:Children ages 3 to 6 and their adult companions will enjoy a game\, craft\, story and song centered around a much-loved critter that some cultures believe brings good luck: the ladybug! A short walk will be included. Please make other arrangements for younger children unable to remain in infant seats or strollers.
URL:https://www.summitmetroparks.org/program-events/kinderealm-ladybugs-3/
LOCATION:OH
CATEGORIES:Nature Education
END:VEVENT
END:VCALENDAR