BEGIN:VCALENDAR
VERSION:2.0
PRODID:-//Summit Metro Parks - ECPv6.15.20//NONSGML v1.0//EN
CALSCALE:GREGORIAN
METHOD:PUBLISH
X-WR-CALNAME:Summit Metro Parks
X-ORIGINAL-URL:https://www.summitmetroparks.org
X-WR-CALDESC:Events for Summit Metro Parks
REFRESH-INTERVAL;VALUE=DURATION:PT1H
X-Robots-Tag:noindex
X-PUBLISHED-TTL:PT1H
BEGIN:VTIMEZONE
TZID:America/New_York
BEGIN:DAYLIGHT
TZOFFSETFROM:-0500
TZOFFSETTO:-0400
TZNAME:EDT
DTSTART:20230312T070000
END:DAYLIGHT
BEGIN:STANDARD
TZOFFSETFROM:-0400
TZOFFSETTO:-0500
TZNAME:EST
DTSTART:20231105T060000
END:STANDARD
BEGIN:DAYLIGHT
TZOFFSETFROM:-0500
TZOFFSETTO:-0400
TZNAME:EDT
DTSTART:20240310T070000
END:DAYLIGHT
BEGIN:STANDARD
TZOFFSETFROM:-0400
TZOFFSETTO:-0500
TZNAME:EST
DTSTART:20241103T060000
END:STANDARD
BEGIN:DAYLIGHT
TZOFFSETFROM:-0500
TZOFFSETTO:-0400
TZNAME:EDT
DTSTART:20250309T070000
END:DAYLIGHT
BEGIN:STANDARD
TZOFFSETFROM:-0400
TZOFFSETTO:-0500
TZNAME:EST
DTSTART:20251102T060000
END:STANDARD
BEGIN:DAYLIGHT
TZOFFSETFROM:-0500
TZOFFSETTO:-0400
TZNAME:EDT
DTSTART:20260308T070000
END:DAYLIGHT
BEGIN:STANDARD
TZOFFSETFROM:-0400
TZOFFSETTO:-0500
TZNAME:EST
DTSTART:20261101T060000
END:STANDARD
END:VTIMEZONE
BEGIN:VEVENT
DTSTART;TZID=America/New_York:20250827T103000
DTEND;TZID=America/New_York:20250827T113000
DTSTAMP:20260424T230214
CREATED:20250228T192948Z
LAST-MODIFIED:20250311T175049Z
UID:10004186-1756290600-1756294200@www.summitmetroparks.org
SUMMARY:Kinderealm: Seeds-n-Such
DESCRIPTION:Children 3 to 5 and their adult companions will explore the amazing\, tiny world of seeds — how they grow and travel and who they feed. Activities include a short hike. Please make arrangements for younger children unable to remain in infant seats or strollers. Registration is required and begins 8/6.
URL:https://www.summitmetroparks.org/program-events/kinderealm-seeds-n-such/
LOCATION:F/Tuscarawas Meadows Area\, 2620 Harrington Rd.\, Akron\, OH\, 44319\, United States
CATEGORIES:Educational,Nature Education
ATTACH;FMTTYPE=image/jpeg:https://www.summitmetroparks.org/wp-content/uploads/event-image-seed-collection.jpg
END:VEVENT
BEGIN:VEVENT
DTSTART;TZID=America/New_York:20250820T103000
DTEND;TZID=America/New_York:20250820T113000
DTSTAMP:20260424T230214
CREATED:20250304T231517Z
LAST-MODIFIED:20250311T173620Z
UID:10004257-1755685800-1755689400@www.summitmetroparks.org
SUMMARY:Kinderealm: Seeds n' Such
DESCRIPTION:Children 3 to 5 and their adult companions will explore the amazing\, tiny world of seeds — how they grow and travel and who they feed. Activities include a short hike. Please make arrangements for younger children unable to remain in infant seats or strollers. Registration is required and begins 8/6.
URL:https://www.summitmetroparks.org/program-events/kinderealm-seeds-n-such-3/
LOCATION:LP/Nature Center\, 9999 Liberty Rd.\, Twinsburg\, OH\, 44087\, United States
CATEGORIES:Nature Education
ATTACH;FMTTYPE=image/jpeg:https://www.summitmetroparks.org/wp-content/uploads/event-image-seed-collection.jpg
END:VEVENT
BEGIN:VEVENT
DTSTART;TZID=America/New_York:20250813T103000
DTEND;TZID=America/New_York:20250813T113000
DTSTAMP:20260424T230214
CREATED:20250228T201248Z
LAST-MODIFIED:20250311T184242Z
UID:10004240-1755081000-1755084600@www.summitmetroparks.org
SUMMARY:Kinderealm: Seeds-n-Such
DESCRIPTION:Children 3 to 5 and their adult companions will explore the amazing\, tiny world of seeds — how they grow and travel and who they feed. Activities include a short hike. Please make arrangements for younger children unable to remain in infant seats or strollers. Registration is required and begins 8/6.
URL:https://www.summitmetroparks.org/program-events/kinderealm-seeds-n-such-2/
LOCATION:FASN/Visitors Center\, 1828 Smith Rd.\, Akron\, OH\, 44313\, United States
CATEGORIES:Educational,Nature Education
ATTACH;FMTTYPE=image/jpeg:https://www.summitmetroparks.org/wp-content/uploads/event-image-seed-collection.jpg
END:VEVENT
BEGIN:VEVENT
DTSTART;TZID=America/New_York:20250723T103000
DTEND;TZID=America/New_York:20250723T113000
DTSTAMP:20260424T230214
CREATED:20250303T212446Z
LAST-MODIFIED:20250311T181109Z
UID:10004225-1753266600-1753270200@www.summitmetroparks.org
SUMMARY:Kinderealm: Snakes
DESCRIPTION:Children ages 3 to 6 and their adult companions will learn about our slithery friend: the snake! We’ll go over some amazing adaptations that makes them such unique animals through a craft\, story and activities. Please make other arrangements for younger children unable to remain in infant seats or strollers. Registration is required and begins on 7/2.
URL:https://www.summitmetroparks.org/program-events/kinderealm-snakes-3/
LOCATION:SLNC\, 411 Ira Ave.\, Akron\, OH\, 44301\, United States
CATEGORIES:Nature Education
ATTACH;FMTTYPE=image/jpeg:https://www.summitmetroparks.org/wp-content/uploads/event-image-snake.jpg
END:VEVENT
BEGIN:VEVENT
DTSTART;TZID=America/New_York:20250716T103000
DTEND;TZID=America/New_York:20250716T113000
DTSTAMP:20260424T230214
CREATED:20250228T193354Z
LAST-MODIFIED:20250311T155703Z
UID:10004222-1752661800-1752665400@www.summitmetroparks.org
SUMMARY:Kinderealm: Snakes
DESCRIPTION:Children ages 3 to 6 and their adult companions will learn about our slithery friend: the snake! We’ll go over some amazing adaptations that makes them such a unique animals through a craft\, story and activities. Please make other arrangements for younger children unable to remain in infant seats or strollers. Registration is required and begins on 7/2.
URL:https://www.summitmetroparks.org/program-events/kinderealm-snakes/
LOCATION:LP/Nature Center\, 9999 Liberty Rd.\, Twinsburg\, OH\, 44087\, United States
CATEGORIES:Nature Education
ATTACH;FMTTYPE=image/jpeg:https://www.summitmetroparks.org/wp-content/uploads/event-image-snake.jpg
END:VEVENT
BEGIN:VEVENT
DTSTART;TZID=America/New_York:20250709T103000
DTEND;TZID=America/New_York:20250709T113000
DTSTAMP:20260424T230214
CREATED:20250228T195003Z
LAST-MODIFIED:20250310T141213Z
UID:10004227-1752057000-1752060600@www.summitmetroparks.org
SUMMARY:Kinderealm: Snakes
DESCRIPTION:Children ages 3 to 6 and their adult companions will learn about our slithery friend: the snake! We’ll go over some amazing adaptations that makes them such unique animals through a craft\, story and activities. Please make other arrangements for younger children unable to remain in infant seats or strollers. Registration is required and begins on 7/2.
URL:https://www.summitmetroparks.org/program-events/kinderealm-snakes-2/
LOCATION:FASN/Visitors Center\, 1828 Smith Rd.\, Akron\, OH\, 44313\, United States
CATEGORIES:Educational,Nature Education
ATTACH;FMTTYPE=image/jpeg:https://www.summitmetroparks.org/wp-content/uploads/event-image-snake.jpg
END:VEVENT
BEGIN:VEVENT
DTSTART;TZID=America/New_York:20250625T103000
DTEND;TZID=America/New_York:20250625T113000
DTSTAMP:20260424T230214
CREATED:20250107T220107Z
LAST-MODIFIED:20250116T134325Z
UID:10004048-1750847400-1750851000@www.summitmetroparks.org
SUMMARY:Kinderealm: Bears
DESCRIPTION:Children ages 3 to 6 and their adult companions will learn about black bears\, beloved animals native to Ohio. A craft and game are part of the program. Please make other arrangements for younger children unable to remain in infant seats or strollers. Registration is required and begins on 6/5.
URL:https://www.summitmetroparks.org/program-events/kinderealm-blackbears/
LOCATION:SLNC\, 411 Ira Ave.\, Akron\, OH\, 44301\, United States
CATEGORIES:Nature Education
ATTACH;FMTTYPE=image/jpeg:https://www.summitmetroparks.org/wp-content/uploads/event-image-black-bear.jpg
END:VEVENT
BEGIN:VEVENT
DTSTART;TZID=America/New_York:20250624T103000
DTEND;TZID=America/New_York:20250624T113000
DTSTAMP:20260424T230214
CREATED:20260107T141208Z
LAST-MODIFIED:20260113T151642Z
UID:10004896-1750761000-1750764600@www.summitmetroparks.org
SUMMARY:Kinderealm: Crows
DESCRIPTION:Children ages 3 to 6 with their adult companions will learn all about crows — considered to be among the most intelligent of all birds because of their tool use\, problem solving skills\, ability to plan tasks and more! Please make other arrangements for younger children unable to remain in infant seats or strollers. Registration is required and begins 5/1.
URL:https://www.summitmetroparks.org/program-events/kinderealm-crows/
LOCATION:SLNC\, 411 Ira Ave.\, Akron\, OH\, 44301\, United States
CATEGORIES:Nature Education
ATTACH;FMTTYPE=image/jpeg:https://www.summitmetroparks.org/wp-content/uploads/crow-event-image.jpg
END:VEVENT
BEGIN:VEVENT
DTSTART;TZID=America/New_York:20250618T103000
DTEND;TZID=America/New_York:20250618T113000
DTSTAMP:20260424T230214
CREATED:20250107T210043Z
LAST-MODIFIED:20250116T133351Z
UID:10004067-1750242600-1750246200@www.summitmetroparks.org
SUMMARY:Kinderealm: Bears
DESCRIPTION:Children ages 3 to 6 and their adult companions will learn about black bears\, beloved animals native to Ohio. A craft and game are part of the program. Please make other arrangements for younger children unable to remain in infant seats or strollers. Registration is required and begins on 6/5.
URL:https://www.summitmetroparks.org/program-events/kinderealm-bears-2/
LOCATION:LP/Nature Center\, 9999 Liberty Rd.\, Twinsburg\, OH\, 44087\, United States
CATEGORIES:Nature Education
ATTACH;FMTTYPE=image/jpeg:https://www.summitmetroparks.org/wp-content/uploads/event-image-black-bear.jpg
END:VEVENT
BEGIN:VEVENT
DTSTART;TZID=America/New_York:20250611T103000
DTEND;TZID=America/New_York:20250611T113000
DTSTAMP:20260424T230214
CREATED:20250106T201027Z
LAST-MODIFIED:20250115T200121Z
UID:10004018-1749637800-1749641400@www.summitmetroparks.org
SUMMARY:Kinderealm: Bears
DESCRIPTION:Children ages 3 to 6 and their adult companions will learn about black bears\, beloved animals native to Ohio. A craft and game are part of the program. Please make other arrangements for younger children unable to remain in infant seats or strollers. Registration is required and begins on 6/5.
URL:https://www.summitmetroparks.org/program-events/kinderealm-bears/
LOCATION:FASN/Visitors Center\, 1828 Smith Rd.\, Akron\, OH\, 44313\, United States
CATEGORIES:Nature Education
ATTACH;FMTTYPE=image/jpeg:https://www.summitmetroparks.org/wp-content/uploads/event-image-black-bear.jpg
END:VEVENT
BEGIN:VEVENT
DTSTART;TZID=America/New_York:20250528T103000
DTEND;TZID=America/New_York:20250528T113000
DTSTAMP:20260424T230214
CREATED:20250107T214320Z
LAST-MODIFIED:20250413T171353Z
UID:10004047-1748428200-1748431800@www.summitmetroparks.org
SUMMARY:Kinderealm: Turtles
DESCRIPTION:Its turtle time! Children 3 to 6 with their adult companions can come and learn about our scaly\, shelled friends through a story\, craft and more. Please make other arrangements for younger children unable to remain in infant seats or strollers. Registration is required and begins on 5/7.
URL:https://www.summitmetroparks.org/program-events/kinderealm-turtles-3/
LOCATION:SLNC\, 411 Ira Ave.\, Akron\, OH\, 44301\, United States
CATEGORIES:Nature Education
ATTACH;FMTTYPE=image/jpeg:https://www.summitmetroparks.org/wp-content/uploads/event-image-box-turtle.jpg
END:VEVENT
BEGIN:VEVENT
DTSTART;TZID=America/New_York:20250521T103000
DTEND;TZID=America/New_York:20250521T113000
DTSTAMP:20260424T230214
CREATED:20250107T203435Z
LAST-MODIFIED:20250115T135236Z
UID:10004058-1747823400-1747827000@www.summitmetroparks.org
SUMMARY:Kinderealm: Turtles
DESCRIPTION:It’s turtle time! Children ages 3 to 6 and their adult companions can come learn about our scaly\, shelled friends through a story\, craft and more. Please make other arrangements for younger children unable to remain in infant seats or strollers. Registration is required and begins on 5/7.
URL:https://www.summitmetroparks.org/program-events/kinderealm-turtles-2/
LOCATION:LP/Nature Center\, 9999 Liberty Rd.\, Twinsburg\, OH\, 44087\, United States
CATEGORIES:Educational,Nature Education
ATTACH;FMTTYPE=image/jpeg:https://www.summitmetroparks.org/wp-content/uploads/event-image-box-turtle.jpg
END:VEVENT
BEGIN:VEVENT
DTSTART;TZID=America/New_York:20250514T103000
DTEND;TZID=America/New_York:20250514T113000
DTSTAMP:20260424T230214
CREATED:20250106T193851Z
LAST-MODIFIED:20250115T143423Z
UID:10004111-1747218600-1747222200@www.summitmetroparks.org
SUMMARY:Kinderealm: Turtles
DESCRIPTION:It’s turtle time! Children ages 3 to 6 and their adult companions can learn about our scaly\, shelled friends through a story\, craft and more. Please make other arrangements for younger children unable to remain in infant seats or strollers. Registration is required and begins on 5/7.
URL:https://www.summitmetroparks.org/program-events/kinderealm-turtles/
LOCATION:FASN/Visitors Center\, 1828 Smith Rd.\, Akron\, OH\, 44313\, United States
CATEGORIES:Nature Education
ATTACH;FMTTYPE=image/jpeg:https://www.summitmetroparks.org/wp-content/uploads/event-image-box-turtle.jpg
END:VEVENT
BEGIN:VEVENT
DTSTART;TZID=America/New_York:20250423T103000
DTEND;TZID=America/New_York:20250423T113000
DTSTAMP:20260424T230214
CREATED:20241022T171632Z
LAST-MODIFIED:20241113T140652Z
UID:10003974-1745404200-1745407800@www.summitmetroparks.org
SUMMARY:Kinderealm: April Showers
DESCRIPTION:Children 3 to 6 and their adult companions learn how April rains prepare plants and animals for spring. A craft and hike are part of the program. Please make other arrangements for younger children unable to remain in infant seats or strollers. Registration is required and begins on 3/20.
URL:https://www.summitmetroparks.org/program-events/kinderealm-april-showers/
LOCATION:LP/Nature Center\, 9999 Liberty Rd.\, Twinsburg\, OH\, 44087\, United States
CATEGORIES:Nature Education
ATTACH;FMTTYPE=image/jpeg:https://www.summitmetroparks.org/wp-content/uploads/event-image-trout-lily.jpg
END:VEVENT
BEGIN:VEVENT
DTSTART;TZID=America/New_York:20250409T103000
DTEND;TZID=America/New_York:20250409T113000
DTSTAMP:20260424T230214
CREATED:20241023T153111Z
LAST-MODIFIED:20241113T133504Z
UID:10003855-1744194600-1744198200@www.summitmetroparks.org
SUMMARY:Kinderealm: April Showers
DESCRIPTION:Children ages 3 to 6 and their adult companions will learn how April rains prepare plants and animals for spring. A craft and short walk are included. Please make other arrangements for younger children unable to remain in infant seats or strollers. Registration is required and begins on 3/20.
URL:https://www.summitmetroparks.org/program-events/kinderealm-april-showers-2/
LOCATION:FASN/Visitors Center\, 1828 Smith Rd.\, Akron\, OH\, 44313\, United States
CATEGORIES:Educational,Nature Education
ATTACH;FMTTYPE=image/jpeg:https://www.summitmetroparks.org/wp-content/uploads/Event-Image-Spring-Birding.jpg
END:VEVENT
BEGIN:VEVENT
DTSTART;TZID=America/New_York:20250402T103000
DTEND;TZID=America/New_York:20250402T113000
DTSTAMP:20260424T230215
CREATED:20241030T174002Z
LAST-MODIFIED:20241219T201354Z
UID:10003991-1743589800-1743593400@www.summitmetroparks.org
SUMMARY:Kinderealm: April Showers
DESCRIPTION:Children ages 3 to 6 and their adult companions can learn how April rains prepare plants and animals for spring. A craft and hike are part of the program. Please make other arrangements for younger children unable to remain in infant seats or strollers. Registration is required and begins on 3/20.
URL:https://www.summitmetroparks.org/program-events/kinderealm-april-showers-3/
LOCATION:SLNC\, 411 Ira Ave.\, Akron\, OH\, 44301\, United States
CATEGORIES:Educational,Nature Education
ATTACH;FMTTYPE=image/jpeg:https://www.summitmetroparks.org/wp-content/uploads/event-image-hawk.jpg
END:VEVENT
BEGIN:VEVENT
DTSTART;TZID=America/New_York:20250319T103000
DTEND;TZID=America/New_York:20250319T113000
DTSTAMP:20260424T230215
CREATED:20241030T153748Z
LAST-MODIFIED:20241108T175945Z
UID:10003967-1742380200-1742383800@www.summitmetroparks.org
SUMMARY:Kinderealm: Herons
DESCRIPTION:Here come the herons! We invite children ages 3 to 6 and their adult companions to join us as we learn about great blue herons through a short lesson\, story and craft. Please make other arrangements for younger children unable to remain in infant seats or strollers. Registration is required and begins on 2/20.
URL:https://www.summitmetroparks.org/program-events/kinderealm-herons-3/
LOCATION:LP/Nature Center\, 9999 Liberty Rd.\, Twinsburg\, OH\, 44087\, United States
CATEGORIES:Nature Education
ATTACH;FMTTYPE=image/jpeg:https://www.summitmetroparks.org/wp-content/uploads/event-image-blue-heron.jpg
END:VEVENT
BEGIN:VEVENT
DTSTART;TZID=America/New_York:20250312T103000
DTEND;TZID=America/New_York:20250312T113000
DTSTAMP:20260424T230215
CREATED:20241023T153000Z
LAST-MODIFIED:20241107T204041Z
UID:10003903-1741775400-1741779000@www.summitmetroparks.org
SUMMARY:Kinderealm: Herons
DESCRIPTION:Here come the herons! We invite children ages 3 to 6 and their adult companions to join us as we learn about great blue herons through a short lesson\, story and craft. Please make other arrangements for younger children unable to remain in infant seats or strollers. Registration is required and begins on 2/20.
URL:https://www.summitmetroparks.org/program-events/kinderealm-herons-2/
LOCATION:FASN/Visitors Center\, 1828 Smith Rd.\, Akron\, OH\, 44313\, United States
CATEGORIES:Nature Education
ATTACH;FMTTYPE=image/jpeg:https://www.summitmetroparks.org/wp-content/uploads/event-image-blue-heron.jpg
END:VEVENT
BEGIN:VEVENT
DTSTART;TZID=America/New_York:20250305T103000
DTEND;TZID=America/New_York:20250305T113000
DTSTAMP:20260424T230215
CREATED:20241023T152714Z
LAST-MODIFIED:20241106T170849Z
UID:10003852-1741170600-1741174200@www.summitmetroparks.org
SUMMARY:Kinderealm: Herons
DESCRIPTION:Here come the herons! We invite children ages 3 to 6 and their adult companions to join us as we learn about great blue herons through a short lesson\, story and craft. Please make other arrangements for younger children unable to remain in infant seats or strollers. Registration is required and begins on 2/20.
URL:https://www.summitmetroparks.org/program-events/kinderealm-herons/
LOCATION:SLNC\, 411 Ira Ave.\, Akron\, OH\, 44301\, United States
CATEGORIES:Nature Education
ATTACH;FMTTYPE=image/jpeg:https://www.summitmetroparks.org/wp-content/uploads/event-image-winter-pond.jpg
END:VEVENT
BEGIN:VEVENT
DTSTART;TZID=America/New_York:20250219T103000
DTEND;TZID=America/New_York:20250219T113000
DTSTAMP:20260424T230215
CREATED:20240828T161334Z
LAST-MODIFIED:20240909T152558Z
UID:10003566-1739961000-1739964600@www.summitmetroparks.org
SUMMARY:Kinderealm: Whoo's that Calling?
DESCRIPTION:We invite children ages 3 to 6 and their adult companions to join us as we learn “whoo” is making nighttime noise! We will explore owls through a story\, craft and activities. Please make other arrangements for younger children unable to remain in infant seats or strollers. Registration is required and begins on 1/29.
URL:https://www.summitmetroparks.org/program-events/kinderealm-whoos-that-calling/
LOCATION:LP/Nature Center\, 9999 Liberty Rd.\, Twinsburg\, OH\, 44087\, United States
CATEGORIES:Nature Education
END:VEVENT
BEGIN:VEVENT
DTSTART;TZID=America/New_York:20250212T103000
DTEND;TZID=America/New_York:20250212T113000
DTSTAMP:20260424T230215
CREATED:20240830T134846Z
LAST-MODIFIED:20240916T173604Z
UID:10003565-1739356200-1739359800@www.summitmetroparks.org
SUMMARY:Kinderealm: Whoo's that Calling?
DESCRIPTION:Children 3 to 6 and their adult companions can learn “whoo” is making nighttime noise! We will explore owls through a story\, craft and activities. Please make other arrangements for younger children unable to remain in infant seats or strollers. Registration begins on 1/29.
URL:https://www.summitmetroparks.org/program-events/kinderealm-whoos-that-calling-2/
LOCATION:FASN/Visitors Center\, 1828 Smith Rd.\, Akron\, OH\, 44313\, United States
CATEGORIES:Nature Education
ATTACH;FMTTYPE=image/jpeg:https://www.summitmetroparks.org/wp-content/uploads/Event-Image-Owls.jpg
END:VEVENT
BEGIN:VEVENT
DTSTART;TZID=America/New_York:20250205T103000
DTEND;TZID=America/New_York:20250205T113000
DTSTAMP:20260424T230215
CREATED:20240909T201942Z
LAST-MODIFIED:20250131T170331Z
UID:10003567-1738751400-1738755000@www.summitmetroparks.org
SUMMARY:Kinderealm: Whoo's that Calling?
DESCRIPTION:We invite children ages 3 to 6 and their adult companions to join us as we learn “hoo” is making nighttime noise! We will explore owls through a story\, craft and activities. Please make other arrangements for younger children unable to remain in infant seats or strollers. Registration is required and begins on 1/29.
URL:https://www.summitmetroparks.org/program-events/kinderealm-whoos-that-calling-3/
LOCATION:SLNC\, 411 Ira Ave.\, Akron\, OH\, 44301\, United States
CATEGORIES:Nature Education
ATTACH;FMTTYPE=image/jpeg:https://www.summitmetroparks.org/wp-content/uploads/Event-Image-Owls.jpg
END:VEVENT
BEGIN:VEVENT
DTSTART;TZID=America/New_York:20250129T103000
DTEND;TZID=America/New_York:20250129T113000
DTSTAMP:20260424T230215
CREATED:20240910T165416Z
LAST-MODIFIED:20241203T140922Z
UID:10003845-1738146600-1738150200@www.summitmetroparks.org
SUMMARY:Kinderealm: Frozen Frogs
DESCRIPTION:Children ages to 6 and their adult companions will learn all about frogs’ fantastic winter adaptations. This program includes a craft\, story and short walk. Please make other arrangements for younger children unable to remain in infant seats or strollers. Registration begins on 1/9.
URL:https://www.summitmetroparks.org/program-events/kinderealm-frozen-frogs-3/
LOCATION:LP/Nature Center\, 9999 Liberty Rd.\, Twinsburg\, OH\, 44087\, United States
CATEGORIES:Nature Education
ATTACH;FMTTYPE=image/jpeg:https://www.summitmetroparks.org/wp-content/uploads/event-image-log.jpg
END:VEVENT
BEGIN:VEVENT
DTSTART;TZID=America/New_York:20250122T103000
DTEND;TZID=America/New_York:20250122T113000
DTSTAMP:20260424T230215
CREATED:20240910T165249Z
LAST-MODIFIED:20241203T140837Z
UID:10003844-1737541800-1737545400@www.summitmetroparks.org
SUMMARY:Kinderealm: Frozen Frogs
DESCRIPTION:Children ages 3 to 6 and their adult companions will learn all about frogs’ fantastic winter adaptations. This program includes a craft\, story and short walk. Please make other arrangements for younger children unable to remain in infant seats or strollers. Registration begins on 1/9.
URL:https://www.summitmetroparks.org/program-events/kinderealm-frozen-frogs-2/
LOCATION:FASN/Nature Realm\, 1828 Smith Rd.\, Akron\, OH\, 44313\, United States
CATEGORIES:Nature Education
ATTACH;FMTTYPE=image/jpeg:https://www.summitmetroparks.org/wp-content/uploads/event-image-log.jpg
END:VEVENT
BEGIN:VEVENT
DTSTART;TZID=America/New_York:20250115T103000
DTEND;TZID=America/New_York:20250115T113000
DTSTAMP:20260424T230215
CREATED:20240910T165051Z
LAST-MODIFIED:20241219T185012Z
UID:10003843-1736937000-1736940600@www.summitmetroparks.org
SUMMARY:Kinderealm: Frozen Frogs
DESCRIPTION:Children ages 3 to 6 and their adult companions will learn all about frogs’ fantastic winter adaptations. This program includes a craft\, story and short walk. Please make other arrangements for younger children unable to remain in infant seats or strollers. Registration begins on 1/9.
URL:https://www.summitmetroparks.org/program-events/kinderealm-frozen-frogs/
LOCATION:SLNC\, 411 Ira Ave.\, Akron\, OH\, 44301\, United States
CATEGORIES:Nature Education
ATTACH;FMTTYPE=image/jpeg:https://www.summitmetroparks.org/wp-content/uploads/Event-Image-SLNC.jpg
END:VEVENT
BEGIN:VEVENT
DTSTART;TZID=America/New_York:20241218T103000
DTEND;TZID=America/New_York:20241218T113000
DTSTAMP:20260424T230215
CREATED:20240910T143359Z
LAST-MODIFIED:20240917T173521Z
UID:10003839-1734517800-1734521400@www.summitmetroparks.org
SUMMARY:Kinderealm: Winter's Canvas
DESCRIPTION:Winter’s not all white! Children 3 to 6 and their adult companions will learn all about nature’s unique winter palette and create crafts with the colors of the season. This program includes a story and short walk. Please make other arrangements for younger children unable to remain in infant seats or strollers.  Registration is required and begins on 11/22.
URL:https://www.summitmetroparks.org/program-events/kinderealm-winters-canvas/
LOCATION:LP/Nature Center\, 9999 Liberty Rd.\, Twinsburg\, OH\, 44087\, United States
CATEGORIES:Nature Education
ATTACH;FMTTYPE=image/jpeg:https://www.summitmetroparks.org/wp-content/uploads/event-image-winter-trees.jpg
END:VEVENT
BEGIN:VEVENT
DTSTART;TZID=America/New_York:20241211T103000
DTEND;TZID=America/New_York:20241211T113000
DTSTAMP:20260424T230215
CREATED:20240910T143458Z
LAST-MODIFIED:20240917T171004Z
UID:10003840-1733913000-1733916600@www.summitmetroparks.org
SUMMARY:Kinderealm: Winter's Canvas
DESCRIPTION:Winter’s not all white! Children 3 to 6 and their adult companions will learn all about nature’s unique winter palette and create crafts with the colors of the season. This program includes a story and short walk. Please make other arrangements for younger children unable to remain in infant seats or strollers.  Registration is required and begins on 11/22.
URL:https://www.summitmetroparks.org/program-events/kinderealm-winters-canvas-2/
LOCATION:FASN/Nature Realm\, 1828 Smith Rd.\, Akron\, OH\, 44313\, United States
CATEGORIES:Nature Education
ATTACH;FMTTYPE=image/jpeg:https://www.summitmetroparks.org/wp-content/uploads/event-image-winter-trees.jpg
END:VEVENT
BEGIN:VEVENT
DTSTART;TZID=America/New_York:20241204T103000
DTEND;TZID=America/New_York:20241204T113000
DTSTAMP:20260424T230215
CREATED:20240910T143617Z
LAST-MODIFIED:20241125T191640Z
UID:10003841-1733308200-1733311800@www.summitmetroparks.org
SUMMARY:Kinderealm: Winter's Canvas
DESCRIPTION:Winter’s not all white! Children 3 to 6 and their adult companions will learn all about nature’s unique winter palette and create crafts with the colors of the season. This program includes a story and short walk. Please make other arrangements for younger children unable to remain in infant seats or strollers.  Registration is required and begins on 11/22.
URL:https://www.summitmetroparks.org/program-events/kinderealm-winters-canvas-3/
LOCATION:SLNC\, 411 Ira Ave.\, Akron\, OH\, 44301\, United States
CATEGORIES:Nature Education
ATTACH;FMTTYPE=image/jpeg:https://www.summitmetroparks.org/wp-content/uploads/Event-Image-Paper-Crafting.jpg
END:VEVENT
BEGIN:VEVENT
DTSTART;TZID=America/New_York:20241120T103000
DTEND;TZID=America/New_York:20241120T113000
DTSTAMP:20260424T230215
CREATED:20240910T132643Z
LAST-MODIFIED:20240916T201503Z
UID:10003837-1732098600-1732102200@www.summitmetroparks.org
SUMMARY:Kinderealm: Who's Ready for a Nap?
DESCRIPTION:Children 3 to 6 and their adult companions will explore how some wildlife friends are preparing for long naps to survive the winter. Program includes a walk and craft. Please make other arrangements for younger children unable to remain in infant seats or strollers. Registration is required and begins on 10/31.
URL:https://www.summitmetroparks.org/program-events/kinderealm-whos-ready-for-a-nap-2/
LOCATION:LP/Nature Center\, 9999 Liberty Rd.\, Twinsburg\, OH\, 44087\, United States
CATEGORIES:Nature Education
ATTACH;FMTTYPE=image/jpeg:https://www.summitmetroparks.org/wp-content/uploads/event-image-chipmunk.jpg
END:VEVENT
BEGIN:VEVENT
DTSTART;TZID=America/New_York:20241113T103000
DTEND;TZID=America/New_York:20241113T113000
DTSTAMP:20260424T230215
CREATED:20240909T201727Z
LAST-MODIFIED:20240916T194301Z
UID:10003614-1731493800-1731497400@www.summitmetroparks.org
SUMMARY:Kinderealm: Who's Ready for a Nap?
DESCRIPTION:Children 3 to 6 and their adult companions will explore how some wildlife friends are preparing for long naps to survive the winter. Program includes a walk and craft. Please make other arrangements for younger children unable to remain in infant seats or strollers. Registration is required and begins on 10/31.
URL:https://www.summitmetroparks.org/program-events/kinderealm-whos-ready-for-a-nap/
LOCATION:FASN/Visitors Center\, 1828 Smith Rd.\, Akron\, OH\, 44313\, United States
CATEGORIES:Nature Education
ATTACH;FMTTYPE=image/jpeg:https://www.summitmetroparks.org/wp-content/uploads/event-image-chipmunk.jpg
END:VEVENT
END:VCALENDAR