BEGIN:VCALENDAR
VERSION:2.0
PRODID:-//Summit Metro Parks - ECPv6.15.20//NONSGML v1.0//EN
CALSCALE:GREGORIAN
METHOD:PUBLISH
X-WR-CALNAME:Summit Metro Parks
X-ORIGINAL-URL:https://www.summitmetroparks.org
X-WR-CALDESC:Events for Summit Metro Parks
REFRESH-INTERVAL;VALUE=DURATION:PT1H
X-Robots-Tag:noindex
X-PUBLISHED-TTL:PT1H
BEGIN:VTIMEZONE
TZID:America/New_York
BEGIN:DAYLIGHT
TZOFFSETFROM:-0500
TZOFFSETTO:-0400
TZNAME:EDT
DTSTART:20250309T070000
END:DAYLIGHT
BEGIN:STANDARD
TZOFFSETFROM:-0400
TZOFFSETTO:-0500
TZNAME:EST
DTSTART:20251102T060000
END:STANDARD
BEGIN:DAYLIGHT
TZOFFSETFROM:-0500
TZOFFSETTO:-0400
TZNAME:EDT
DTSTART:20260308T070000
END:DAYLIGHT
BEGIN:STANDARD
TZOFFSETFROM:-0400
TZOFFSETTO:-0500
TZNAME:EST
DTSTART:20261101T060000
END:STANDARD
BEGIN:DAYLIGHT
TZOFFSETFROM:-0500
TZOFFSETTO:-0400
TZNAME:EDT
DTSTART:20270314T070000
END:DAYLIGHT
BEGIN:STANDARD
TZOFFSETFROM:-0400
TZOFFSETTO:-0500
TZNAME:EST
DTSTART:20271107T060000
END:STANDARD
END:VTIMEZONE
BEGIN:VEVENT
DTSTART;TZID=America/New_York:20260626T130000
DTEND;TZID=America/New_York:20260626T150000
DTSTAMP:20260425T102523
CREATED:20260105T205254Z
LAST-MODIFIED:20260113T152231Z
UID:10004873-1782478800-1782486000@www.summitmetroparks.org
SUMMARY:Fishing Friday
DESCRIPTION:Come try your hand at fishing. We’ll provide the rods and bait\, so all you have to do is show up! Anyone over the age of 16 will need a valid Ohio fishing license.
URL:https://www.summitmetroparks.org/program-events/fishing-friday-2/
LOCATION:SLNC\, 411 Ira Ave.\, Akron\, OH\, 44301\, United States
CATEGORIES:Recreation
ATTACH;FMTTYPE=image/jpeg:https://www.summitmetroparks.org/wp-content/uploads/Event-Image-Fishing-Generic.jpg
END:VEVENT
BEGIN:VEVENT
DTSTART;TZID=America/New_York:20260701T160000
DTEND;TZID=America/New_York:20260701T200000
DTSTAMP:20260425T102523
CREATED:20260301T212943Z
LAST-MODIFIED:20260317T175900Z
UID:10005077-1782921600-1782936000@www.summitmetroparks.org
SUMMARY:Summit Lake 5th Anniversary Celebration
DESCRIPTION:Join us to celebrate the 5th anniversary of Summit Lake Nature Center with family-friendly activities\, music\, food and more! \nOngoing Activities:  \n\nCrafts\nSensory-friendly room available\, inside the nature center\nYard games \nRefreshments  \n\nScheduled Activities:  \n4-6 p.m. Hoverball archery (Age 8+)  \n4-6 p.m. Play time with Akron Children’s Museum  \n4-7 p.m. Music in the garden (DJ)  \n5-7 p.m. Fishing fun — rods and bait available\, ages 16 and over need a fishing license \n7- 8 p.m. Summit Lake Hike — Explore the nature\, history and community of Summit Lake with Naturalist Jason
URL:https://www.summitmetroparks.org/program-events/summit-lake-5th-anniversary-celebration/
LOCATION:SLNC\, 411 Ira Ave.\, Akron\, OH\, 44301\, United States
CATEGORIES:Good For All Ages,Nature Education,Recreation
ATTACH;FMTTYPE=image/jpeg:https://www.summitmetroparks.org/wp-content/uploads/Event-Image-SLNC.jpg
END:VEVENT
BEGIN:VEVENT
DTSTART;TZID=America/New_York:20260710T130000
DTEND;TZID=America/New_York:20260710T150000
DTSTAMP:20260425T102523
CREATED:20260222T202057Z
LAST-MODIFIED:20260316T155639Z
UID:10005019-1783688400-1783695600@www.summitmetroparks.org
SUMMARY:Fishing Friday
DESCRIPTION:Come try your hand at fishing. We’ll provide the rods and bait\, so all you have to do is show up! Anyone over the age of 16 will need a valid Ohio fishing license.
URL:https://www.summitmetroparks.org/program-events/fishing-friday-3/
LOCATION:SLNC\, 411 Ira Ave.\, Akron\, OH\, 44301\, United States
CATEGORIES:Nature Education,Recreation
ATTACH;FMTTYPE=image/jpeg:https://www.summitmetroparks.org/wp-content/uploads/Event-Image-Fishing-Generic.jpg
END:VEVENT
BEGIN:VEVENT
DTSTART;TZID=America/New_York:20260724T130000
DTEND;TZID=America/New_York:20260724T150000
DTSTAMP:20260425T102523
CREATED:20260222T202638Z
LAST-MODIFIED:20260316T193922Z
UID:10005020-1784898000-1784905200@www.summitmetroparks.org
SUMMARY:Fishing Friday
DESCRIPTION:Come try your hand at fishing. We’ll provide the rods and bait\, so all you have to do is show up! Anyone over the age of 16 will need a valid Ohio fishing license.
URL:https://www.summitmetroparks.org/program-events/fishing-friday-4/
LOCATION:SLNC\, 411 Ira Ave.\, Akron\, OH\, 44301\, United States
CATEGORIES:Nature Education,Recreation
ATTACH;FMTTYPE=image/jpeg:https://www.summitmetroparks.org/wp-content/uploads/Event-Image-Fishing-Generic.jpg
END:VEVENT
BEGIN:VEVENT
DTSTART;TZID=America/New_York:20260807T130000
DTEND;TZID=America/New_York:20260807T150000
DTSTAMP:20260425T102523
CREATED:20260222T203356Z
LAST-MODIFIED:20260316T161553Z
UID:10005021-1786107600-1786114800@www.summitmetroparks.org
SUMMARY:Fishing Friday
DESCRIPTION:Come try your hand at fishing. We’ll provide the rods and bait\, so all you have to do is show up! Anyone over the age of 16 will need a valid Ohio fishing license.
URL:https://www.summitmetroparks.org/program-events/fishing-friday-5/
LOCATION:SLNC\, 411 Ira Ave.\, Akron\, OH\, 44301\, United States
CATEGORIES:Nature Education,Recreation
ATTACH;FMTTYPE=image/jpeg:https://www.summitmetroparks.org/wp-content/uploads/Event-Image-Fishing-Generic.jpg
END:VEVENT
BEGIN:VEVENT
DTSTART;TZID=America/New_York:20260828T170000
DTEND;TZID=America/New_York:20260828T183000
DTSTAMP:20260425T102523
CREATED:20260302T191707Z
LAST-MODIFIED:20260316T180911Z
UID:10005086-1787936400-1787941800@www.summitmetroparks.org
SUMMARY:Gone Fishin'
DESCRIPTION:Welcome all ages to fishing! Youth ages 15 and younger can learn the basics of fishing\, then drop a line and see what they can catch! Some rods and reels will be available for use. Bait is provided. Adults must supervise their children and must have a current Ohio fishing license if they want to fish.
URL:https://www.summitmetroparks.org/program-events/gone-fishin-18/
LOCATION:FR/Brushwood Area\, 4955 Townsend Rd.\, Richfield\, OH\, 44286\, United States
CATEGORIES:Recreation
ATTACH;FMTTYPE=image/jpeg:https://www.summitmetroparks.org/wp-content/uploads/Event-Image-Fishing-Generic.jpg
END:VEVENT
END:VCALENDAR