BEGIN:VCALENDAR
VERSION:2.0
PRODID:-//Summit Metro Parks - ECPv6.15.20//NONSGML v1.0//EN
CALSCALE:GREGORIAN
METHOD:PUBLISH
X-WR-CALNAME:Summit Metro Parks
X-ORIGINAL-URL:https://www.summitmetroparks.org
X-WR-CALDESC:Events for Summit Metro Parks
REFRESH-INTERVAL;VALUE=DURATION:PT1H
X-Robots-Tag:noindex
X-PUBLISHED-TTL:PT1H
BEGIN:VTIMEZONE
TZID:America/New_York
BEGIN:DAYLIGHT
TZOFFSETFROM:-0500
TZOFFSETTO:-0400
TZNAME:EDT
DTSTART:20230312T070000
END:DAYLIGHT
BEGIN:STANDARD
TZOFFSETFROM:-0400
TZOFFSETTO:-0500
TZNAME:EST
DTSTART:20231105T060000
END:STANDARD
BEGIN:DAYLIGHT
TZOFFSETFROM:-0500
TZOFFSETTO:-0400
TZNAME:EDT
DTSTART:20240310T070000
END:DAYLIGHT
BEGIN:STANDARD
TZOFFSETFROM:-0400
TZOFFSETTO:-0500
TZNAME:EST
DTSTART:20241103T060000
END:STANDARD
BEGIN:DAYLIGHT
TZOFFSETFROM:-0500
TZOFFSETTO:-0400
TZNAME:EDT
DTSTART:20250309T070000
END:DAYLIGHT
BEGIN:STANDARD
TZOFFSETFROM:-0400
TZOFFSETTO:-0500
TZNAME:EST
DTSTART:20251102T060000
END:STANDARD
BEGIN:DAYLIGHT
TZOFFSETFROM:-0500
TZOFFSETTO:-0400
TZNAME:EDT
DTSTART:20260308T070000
END:DAYLIGHT
BEGIN:STANDARD
TZOFFSETFROM:-0400
TZOFFSETTO:-0500
TZNAME:EST
DTSTART:20261101T060000
END:STANDARD
END:VTIMEZONE
BEGIN:VEVENT
DTSTART;TZID=America/New_York:20250815T130000
DTEND;TZID=America/New_York:20250815T150000
DTSTAMP:20260424T172222
CREATED:20250303T214741Z
LAST-MODIFIED:20250311T184643Z
UID:10004035-1755262800-1755270000@www.summitmetroparks.org
SUMMARY:Fishing Fridays
DESCRIPTION:Come try your hand at fishing. We’ll provide the rods and bait\, so all you have to do is show up! Anyone over the age of 16 will need a valid Ohio fishing license.
URL:https://www.summitmetroparks.org/program-events/fishing-fridays-6/
LOCATION:SLNC\, 411 Ira Ave.\, Akron\, OH\, 44301\, United States
CATEGORIES:Nature Education,Recreation
ATTACH;FMTTYPE=image/jpeg:https://www.summitmetroparks.org/wp-content/uploads/Event-Image-Fishing-Generic.jpg
END:VEVENT
BEGIN:VEVENT
DTSTART;TZID=America/New_York:20250802T180000
DTEND;TZID=America/New_York:20250802T193000
DTSTAMP:20260424T172222
CREATED:20250304T231859Z
LAST-MODIFIED:20250311T171819Z
UID:10004254-1754157600-1754163000@www.summitmetroparks.org
SUMMARY:Gone Fishin'
DESCRIPTION:Anglers ages 15 and younger can learn the basics of fishing\, then drop a line and see what they catch! Some rods and reels will be available for use. Bait is provided. Adults must supervise their children and must have a current Ohio fishing license if they want to fish.
URL:https://www.summitmetroparks.org/program-events/gone-fishin-14/
LOCATION:LP/Tinkers Creek Area\, 10303 Aurora Hudson Rd.\, Streetsboro\, OH\, 44241\, United States
CATEGORIES:Recreation
ATTACH;FMTTYPE=image/jpeg:https://www.summitmetroparks.org/wp-content/uploads/Event-Image-Fishing-Generic.jpg
END:VEVENT
BEGIN:VEVENT
DTSTART;TZID=America/New_York:20250725T130000
DTEND;TZID=America/New_York:20250725T150000
DTSTAMP:20260424T172222
CREATED:20250303T213504Z
LAST-MODIFIED:20250311T181620Z
UID:10004034-1753448400-1753455600@www.summitmetroparks.org
SUMMARY:Fishing Fridays
DESCRIPTION:Come try your hand at fishing. We’ll provide the rods and bait\, so all you have to do is show up! Anyone over the age of 16 will need a valid Ohio fishing license.
URL:https://www.summitmetroparks.org/program-events/fishing-fridays-5/
LOCATION:SLNC\, 411 Ira Ave.\, Akron\, OH\, 44301\, United States
CATEGORIES:Nature Education,Recreation
ATTACH;FMTTYPE=image/jpeg:https://www.summitmetroparks.org/wp-content/uploads/Event-Image-Fishing-Generic.jpg
END:VEVENT
BEGIN:VEVENT
DTSTART;TZID=America/New_York:20250720T103000
DTEND;TZID=America/New_York:20250720T113000
DTSTAMP:20260424T172222
CREATED:20250303T210024Z
LAST-MODIFIED:20250319T190405Z
UID:10004178-1753007400-1753011000@www.summitmetroparks.org
SUMMARY:Gone Fishin'
DESCRIPTION:Anglers ages 15 and younger can learn the basics of fishing\, then drop a line and see what they catch! Some rods and reels will be available to use. Bait is provided. Please note: Little Turtle Pond is a youth fishing-only site where parents must supervise their children.
URL:https://www.summitmetroparks.org/program-events/gone-fishin-12/
LOCATION:F/Little Turtle Pond\, 2400 Harrington Rd.\, Akron\, OH\, 44319\, United States
CATEGORIES:Recreation
ATTACH;FMTTYPE=image/jpeg:https://www.summitmetroparks.org/wp-content/uploads/Event-Image-Fishing-Generic.jpg
END:VEVENT
BEGIN:VEVENT
DTSTART;TZID=America/New_York:20250711T130000
DTEND;TZID=America/New_York:20250711T150000
DTSTAMP:20260424T172222
CREATED:20250303T213112Z
LAST-MODIFIED:20250310T151101Z
UID:10004033-1752238800-1752246000@www.summitmetroparks.org
SUMMARY:Fishing Fridays
DESCRIPTION:Come try your hand at fishing. We’ll provide the rods and bait\, so all you have to do is show up! Anyone over the age of 16 will need a valid Ohio fishing license.
URL:https://www.summitmetroparks.org/program-events/fishing-fridays-4/
LOCATION:SLNC\, 411 Ira Ave.\, Akron\, OH\, 44301\, United States
CATEGORIES:Nature Education,Recreation
ATTACH;FMTTYPE=image/jpeg:https://www.summitmetroparks.org/wp-content/uploads/Event-Image-Fishing-Generic.jpg
END:VEVENT
BEGIN:VEVENT
DTSTART;TZID=America/New_York:20250627T130000
DTEND;TZID=America/New_York:20250627T150000
DTSTAMP:20260424T172222
CREATED:20250108T140713Z
LAST-MODIFIED:20250210T192159Z
UID:10004032-1751029200-1751036400@www.summitmetroparks.org
SUMMARY:Fishing Fridays
DESCRIPTION:Come try your hand at fishing. We’ll provide the rods and bait\, so all you have to do is show up! Ages 16 and over will need a valid Ohio fishing license.
URL:https://www.summitmetroparks.org/program-events/fishing-fridays-2/
LOCATION:SLNC\, 411 Ira Ave.\, Akron\, OH\, 44301\, United States
CATEGORIES:Nature Education,Recreation
ATTACH;FMTTYPE=image/jpeg:https://www.summitmetroparks.org/wp-content/uploads/Event-Image-Fishing-Generic.jpg
END:VEVENT
BEGIN:VEVENT
DTSTART;TZID=America/New_York:20250621T130000
DTEND;TZID=America/New_York:20250621T150000
DTSTAMP:20260424T172222
CREATED:20260107T144039Z
LAST-MODIFIED:20260113T151756Z
UID:10004895-1750510800-1750518000@www.summitmetroparks.org
SUMMARY:Drop In: Father's Day Fishing
DESCRIPTION:Cast a line with dad during Ohio Department of Natural Resources’ free fishing weekend. Rods and bait will be provided; adults must supervise children.
URL:https://www.summitmetroparks.org/program-events/drop-in-fathers-day-fishing/
LOCATION:SC/Lake House Area\, 5000 Hametown Rd.\, Norton\, OH\, 44203\, United States
CATEGORIES:Recreation
ATTACH;FMTTYPE=image/jpeg:https://www.summitmetroparks.org/wp-content/uploads/Event-Image-Fishing-Generic.jpg
END:VEVENT
BEGIN:VEVENT
DTSTART;TZID=America/New_York:20250615T100000
DTEND;TZID=America/New_York:20250615T113000
DTSTAMP:20260424T172222
CREATED:20250106T191654Z
LAST-MODIFIED:20250116T132714Z
UID:10004075-1749981600-1749987000@www.summitmetroparks.org
SUMMARY:Gone Fishin'
DESCRIPTION:Welcome all ages to the sport of fishing! Youth ages 15 and younger can learn the basics of fishing\, then drop a line and see what they can catch! Some rods and reels will be available for use. Bait is provided. Adults must supervise their children and must have a current Ohio fishing license if they want to fish.
URL:https://www.summitmetroparks.org/program-events/gone-fishin-9/
LOCATION:FR/Brushwood Area\, 4955 Townsend Rd.\, Richfield\, OH\, 44286\, United States
ATTACH;FMTTYPE=image/jpeg:https://www.summitmetroparks.org/wp-content/uploads/Event-Image-Fishing-Generic.jpg
END:VEVENT
BEGIN:VEVENT
DTSTART;TZID=America/New_York:20250613T130000
DTEND;TZID=America/New_York:20250613T150000
DTSTAMP:20260424T172222
CREATED:20250108T140538Z
LAST-MODIFIED:20250210T192201Z
UID:10004031-1749819600-1749826800@www.summitmetroparks.org
SUMMARY:Fishing Fridays
DESCRIPTION:Come try your hand at fishing. We’ll provide the rods and bait\, so all you have to do is show up! Ages 16 and over will need a valid Ohio fishing license.
URL:https://www.summitmetroparks.org/program-events/fishing-fridays/
LOCATION:SLNC\, 411 Ira Ave.\, Akron\, OH\, 44301\, United States
CATEGORIES:Nature Education,Recreation
ATTACH;FMTTYPE=image/jpeg:https://www.summitmetroparks.org/wp-content/uploads/Event-Image-Fishing-Generic.jpg
END:VEVENT
BEGIN:VEVENT
DTSTART;TZID=America/New_York:20250611T110000
DTEND;TZID=America/New_York:20250611T140000
DTSTAMP:20260424T172222
CREATED:20250107T211501Z
LAST-MODIFIED:20250205T122841Z
UID:10004088-1749639600-1749650400@www.summitmetroparks.org
SUMMARY:Bikes & Bobbers for Seniors
DESCRIPTION:Drop by for an afternoon of lakeside fun! Enjoy fishing\, yard games\, nature-related activities and more. Bring your bike to ride around the lake. Visitors with limited mobility have the opportunity to take an adaptive bike ride on a trishaw.  Lemonade and snacks will be provided\, and all are welcome to bring a picnic to enjoy by the water. All materials available on a first-come\, first-served basis while supplies last. Cycling Without Age is made possible with support from the Andrea Rose Teodosio Foundation. In the event of inclement weather\, program will be rescheduled for June 25.
URL:https://www.summitmetroparks.org/program-events/bikes-bobbers-for-seniors/
LOCATION:MF/Lake Area\, 521 S. River Rd.\, Munroe Falls\, OH\, 44262\, United States
CATEGORIES:Health & Fitness,Recreation,Senior Friendly
ATTACH;FMTTYPE=image/jpeg:https://www.summitmetroparks.org/wp-content/uploads/event-image-mf-lake.jpg
END:VEVENT
BEGIN:VEVENT
DTSTART;TZID=America/New_York:20250523T160000
DTEND;TZID=America/New_York:20250524T110000
DTSTAMP:20260424T172222
CREATED:20250108T142524Z
LAST-MODIFIED:20250402T171631Z
UID:10004144-1748016000-1748084400@www.summitmetroparks.org
SUMMARY:Tent Camping for Women
DESCRIPTION:Women and girls 14 and older are invited to join naturalists for a fun and relaxing overnight tent camping experience. We’ll be hiking\, cooking\, crafting and fishing as a group. Please bring your own camping equipment\, including sleeping gear\, toiletries\, snacks and a chair. No gear? No problem! Request a free camping kit with essentials during registration\, available while supplies last. Minors must be accompanied by an adult. Registration is required and begins on 4/24.
URL:https://www.summitmetroparks.org/program-events/tent-camping-for-women-2/
LOCATION:SC/Lake House Area\, 5000 Hametown Rd.\, Norton\, OH\, 44203\, United States
CATEGORIES:Recreation
ATTACH;FMTTYPE=image/jpeg:https://www.summitmetroparks.org/wp-content/uploads/camping-program.jpg
END:VEVENT
BEGIN:VEVENT
DTSTART;TZID=America/New_York:20250518T093000
DTEND;TZID=America/New_York:20250518T110000
DTSTAMP:20260424T172222
CREATED:20250107T213527Z
LAST-MODIFIED:20250115T144907Z
UID:10004044-1747560600-1747566000@www.summitmetroparks.org
SUMMARY:Gone Fishin'
DESCRIPTION:Anglers ages 15 and younger can learn the basics of fishing\, then drop a line and see what they catch! Some rods and reels will be available for use. Bait is provided. Please note: Little Turtle Pond is a youth-only fishing site where adults must supervise their children.
URL:https://www.summitmetroparks.org/program-events/gone-fishin-10/
LOCATION:F/Little Turtle Pond\, 2400 Harrington Rd.\, Akron\, OH\, 44319\, United States
ATTACH;FMTTYPE=image/jpeg:https://www.summitmetroparks.org/wp-content/uploads/Event-Image-Fishing-Generic.jpg
END:VEVENT
BEGIN:VEVENT
DTSTART;TZID=America/New_York:20250515T133000
DTEND;TZID=America/New_York:20250515T153000
DTSTAMP:20260424T172222
CREATED:20250107T202337Z
LAST-MODIFIED:20250115T144201Z
UID:10004056-1747315800-1747323000@www.summitmetroparks.org
SUMMARY:Homeschoolers: More than Just Something Fishy!
DESCRIPTION:Homeschoolers ages 7 to 12 will explore freshwater lakes and the creatures that call them home\, learn how to protect and enjoy these aquatic habitats\, and learn the basics of — and try — fishing. All equipment will be provided. Dress for a mess. Registration is required and begins on 5/8.
URL:https://www.summitmetroparks.org/program-events/homeschoolers-more-than-just-something-fishy/
LOCATION:FR/Brushwood Area\, 4955 Townsend Rd.\, Richfield\, OH\, 44286\, United States
CATEGORIES:Nature Education
ATTACH;FMTTYPE=image/jpeg:https://www.summitmetroparks.org/wp-content/uploads/Event-Image-Fish.jpg
END:VEVENT
BEGIN:VEVENT
DTSTART;TZID=America/New_York:20250515T103000
DTEND;TZID=America/New_York:20250515T123000
DTSTAMP:20260424T172222
CREATED:20250107T202509Z
LAST-MODIFIED:20250115T143930Z
UID:10004055-1747305000-1747312200@www.summitmetroparks.org
SUMMARY:Homeschoolers: More than Just Something Fishy!
DESCRIPTION:Homeschoolers ages 7 to 12 will learn about freshwater lakes and the creatures that call them home\, how to protect and enjoy these aquatic habitats\, and the basics of fishing before trying it out. All equipment will be provided. Dress for a mess. Registration is required and begins on 5/8.
URL:https://www.summitmetroparks.org/program-events/homeschoolers-more-than-just-something-fishy-2/
LOCATION:FR/Brushwood Area\, 4955 Townsend Rd.\, Richfield\, OH\, 44286\, United States
CATEGORIES:Nature Education
ATTACH;FMTTYPE=image/jpeg:https://www.summitmetroparks.org/wp-content/uploads/Event-Image-Fish.jpg
END:VEVENT
BEGIN:VEVENT
DTSTART;TZID=America/New_York:20250415T100000
DTEND;TZID=America/New_York:20250415T140000
DTSTAMP:20260424T172222
CREATED:20241002T183723Z
LAST-MODIFIED:20250305T141918Z
UID:10003865-1744711200-1744725600@www.summitmetroparks.org
SUMMARY:Special Needs Fishing Derby
DESCRIPTION:Adults and children with special needs are invited to cast a line in Little Turtle Pond at the Special Needs Fishing Derby\, presented by Wayside Furniture. Trophies will be awarded for the three largest fish caught. This program is free and open to the public. Please bring fishing gear. A limited number of rods and reels will be available for use during the derby\, and bait will be supplied. Visitors are encouraged to bring lunch if fishing the entire day.
URL:https://www.summitmetroparks.org/program-events/special-needs-fishing-derby-2/
LOCATION:F/Little Turtle Pond\, 2400 Harrington Rd.\, Akron\, OH\, 44319\, United States
CATEGORIES:Good For All Ages,Recreation,Special Events
ATTACH;FMTTYPE=image/jpeg:https://www.summitmetroparks.org/wp-content/uploads/Event-Image-Fishing-Generic.jpg
END:VEVENT
BEGIN:VEVENT
DTSTART;TZID=America/New_York:20250413T090000
DTEND;TZID=America/New_York:20250413T103000
DTSTAMP:20260424T172222
CREATED:20241023T143810Z
LAST-MODIFIED:20241108T151947Z
UID:10003981-1744534800-1744540200@www.summitmetroparks.org
SUMMARY:Gone Fishin'
DESCRIPTION:Youth ages 15 and younger can learn the basics of fishing\, then drop a line and see what they can catch! Some rods and reels will be available for use. Bait is provided. Adults must supervise their children and must have a current Ohio fishing license if they want to fish.
URL:https://www.summitmetroparks.org/program-events/gone-fishin-8/
LOCATION:MF/Shady Shelter\, 521 S. River Rd.\, Munroe Falls\, OH\, 44262\, United States
CATEGORIES:Good For All Ages,Recreation
ATTACH;FMTTYPE=image/jpeg:https://www.summitmetroparks.org/wp-content/uploads/Event-Image-Fishing-Generic.jpg
END:VEVENT
BEGIN:VEVENT
DTSTART;TZID=America/New_York:20250412T100000
DTEND;TZID=America/New_York:20250412T150000
DTSTAMP:20260424T172222
CREATED:20241002T182151Z
LAST-MODIFIED:20250327T155743Z
UID:10003864-1744452000-1744470000@www.summitmetroparks.org
SUMMARY:Kids' Fishing Derby
DESCRIPTION:Join Summit Metro Parks for the Kids’ Fishing Derby\, presented by Wayside Furniture. Anglers 15 and younger are invited to cast a line in Little Turtle Pond at Firestone Metro Park. Each kid will receive a $1 prize if they catch a tagged fish. Trophies will be awarded for the three largest fish caught. This program is free and open to the public. Please bring fishing gear. A limited number of rods and reels will be available for use during the derby\, and bait will be supplied. Visitors are encouraged to bring lunch if fishing the entire day. Adults are not permitted to fish.
URL:https://www.summitmetroparks.org/program-events/kids-fishing-derby/
LOCATION:F/Little Turtle Pond\, 2400 Harrington Rd.\, Akron\, OH\, 44319\, United States
CATEGORIES:Recreation,Special Events
ATTACH;FMTTYPE=image/jpeg:https://www.summitmetroparks.org/wp-content/uploads/Event-Image-Fishing-Generic.jpg
END:VEVENT
BEGIN:VEVENT
DTSTART;TZID=America/New_York:20250128T183000
DTEND;TZID=America/New_York:20250128T193000
DTSTAMP:20260424T172222
CREATED:20240829T180729Z
LAST-MODIFIED:20240912T200213Z
UID:10003598-1738089000-1738092600@www.summitmetroparks.org
SUMMARY:Virtual: History of Goodyear Heights
DESCRIPTION:Join us online for a virtual stroll through nearly 100 years of history. From Girl Scouts and Victory Gardens to fishing and winter recreation\, we’ll discover the fascinating history of this park and the surrounding neighborhood through stories and images. Zoom meeting ID: 846 1800 5618 \n 
URL:https://www.summitmetroparks.org/program-events/virtual-history-of-goodyear-heights/
LOCATION:Virtual
CATEGORIES:History,Senior Friendly
ATTACH;FMTTYPE=image/jpeg:https://www.summitmetroparks.org/wp-content/uploads/event-image-balloflex.jpg
END:VEVENT
BEGIN:VEVENT
DTSTART;TZID=America/New_York:20241020T140000
DTEND;TZID=America/New_York:20241020T153000
DTSTAMP:20260424T172222
CREATED:20240510T133808Z
LAST-MODIFIED:20240805T191012Z
UID:10000405-1729432800-1729438200@www.summitmetroparks.org
SUMMARY:Gone Fishin'
DESCRIPTION:Anglers ages 15 and younger can learn the basics of fishing\, then drop a line and see what they catch! Some rods and reels will be available for use. Bait is provided. Adults must supervise their children and must have a current Ohio fishing license if they want to fish.
URL:https://www.summitmetroparks.org/program-events/gone-fishin/
LOCATION:F/Little Turtle Pond\, 2400 Harrington Rd.\, Akron\, OH\, 44319\, United States
CATEGORIES:Recreation
ATTACH;FMTTYPE=image/jpeg:https://www.summitmetroparks.org/wp-content/uploads/Event-Image-Fishing-Generic.jpg
END:VEVENT
BEGIN:VEVENT
DTSTART;TZID=America/New_York:20240915T140000
DTEND;TZID=America/New_York:20240915T153000
DTSTAMP:20260424T172222
CREATED:20240730T181520Z
LAST-MODIFIED:20240805T200644Z
UID:10003514-1726408800-1726414200@www.summitmetroparks.org
SUMMARY:Gone Fishin'
DESCRIPTION:Anglers ages 15 and younger can learn the basics of fishing\, then drop a line and see what they can catch! Rods and reels will be available while supplies last. Bait is provided. Adults must supervise their children and have a valid Ohio fishing license if they would like to fish. Meet at Shady Beach Shelter.
URL:https://www.summitmetroparks.org/program-events/gone-fishin-7/
LOCATION:MF/Lake Area\, 521 S. River Rd.\, Munroe Falls\, OH\, 44262\, United States
CATEGORIES:Recreation
ATTACH;FMTTYPE=image/jpeg:https://www.summitmetroparks.org/wp-content/uploads/Event-Image-Fish.jpg
END:VEVENT
BEGIN:VEVENT
DTSTART;TZID=America/New_York:20240907T110000
DTEND;TZID=America/New_York:20240907T140000
DTSTAMP:20260424T172222
CREATED:20240725T190652Z
LAST-MODIFIED:20240805T202732Z
UID:10003361-1725706800-1725717600@www.summitmetroparks.org
SUMMARY:Family Camp Workshop
DESCRIPTION:Families are invited to join naturalists for a fun-filled summer camp experience! Try your hand at canoeing\, s’more-making\, tent-pitching\, fishing\, a nature activity and craft. All necessary equipment provided. Optional: pack a lunch or snacks and folding chairs to relax between activities! Registration is required and begins on 8/29.
URL:https://www.summitmetroparks.org/program-events/family-camp-workshop-3/
LOCATION:MF/Lake Area\, 521 S. River Rd.\, Munroe Falls\, OH\, 44262\, United States
CATEGORIES:Good For All Ages,Recreation
ATTACH;FMTTYPE=image/jpeg:https://www.summitmetroparks.org/wp-content/uploads/camping-program.jpg
END:VEVENT
BEGIN:VEVENT
DTSTART;TZID=America/New_York:20240813T173000
DTEND;TZID=America/New_York:20240813T173000
DTSTAMP:20260424T172222
CREATED:20240510T141238Z
LAST-MODIFIED:20240510T141238Z
UID:10000487-1723570200-1723570200@www.summitmetroparks.org
SUMMARY:Gone Fishin'
DESCRIPTION:Anglers ages 15 and younger can learn the basics of fishing\, then drop a line and see what they catch! Some rods and reels will be available for use. Bait is provided. Adults must supervise their children and must have a current Ohio fishing license if they wish to fish.
URL:https://www.summitmetroparks.org/program-events/gone-fishin-2/
LOCATION:OH
CATEGORIES:Recreation
END:VEVENT
BEGIN:VEVENT
DTSTART;TZID=America/New_York:20240809T180000
DTEND;TZID=America/New_York:20240809T180000
DTSTAMP:20260424T172222
CREATED:20240510T141653Z
LAST-MODIFIED:20240510T141653Z
UID:10000499-1723226400-1723226400@www.summitmetroparks.org
SUMMARY:Gone Fishin'
DESCRIPTION:Come try your hand at fishing. We'll provide the rods and bait\, so all you have to do is show up! Anyone over the age of 16 will need a valid Ohio fishing license.
URL:https://www.summitmetroparks.org/program-events/gone-fishin-3/
LOCATION:OH
CATEGORIES:Recreation
END:VEVENT
BEGIN:VEVENT
DTSTART;TZID=America/New_York:20240728T110000
DTEND;TZID=America/New_York:20240728T110000
DTSTAMP:20260424T172222
CREATED:20240510T135157Z
LAST-MODIFIED:20240510T135157Z
UID:10000447-1722164400-1722164400@www.summitmetroparks.org
SUMMARY:Family Camp Workshop
DESCRIPTION:Families are invited to join naturalists for a for a fun-filled summer camp experience! Try your hand at canoeing\, s'more-making\, tent-pitching\, fishing\, a nature activity and a craft. All necessary equipment provided. Optional: pack a lunch or snacks and some folding chairs to relax in between activities!
URL:https://www.summitmetroparks.org/program-events/family-camp-workshop/
LOCATION:OH
CATEGORIES:Recreation
END:VEVENT
BEGIN:VEVENT
DTSTART;TZID=America/New_York:20240713T110000
DTEND;TZID=America/New_York:20240713T110000
DTSTAMP:20260424T172222
CREATED:20240510T135843Z
LAST-MODIFIED:20240510T135843Z
UID:10000461-1720868400-1720868400@www.summitmetroparks.org
SUMMARY:Family Camp Workshop
DESCRIPTION:Families are invited to join naturalists for a fun-filled summer camp experience! Try your hand at canoeing\, s'more-making\, tent-pitching\, fishing\, a nature activity and craft. All necessary equipment provided. Optional: pack a lunch or snacks and folding chairs to relax between activities!
URL:https://www.summitmetroparks.org/program-events/family-camp-workshop-2/
LOCATION:OH
CATEGORIES:Nature Education,Recreation
END:VEVENT
BEGIN:VEVENT
DTSTART;TZID=America/New_York:20240712T180000
DTEND;TZID=America/New_York:20240712T180000
DTSTAMP:20260424T172222
CREATED:20240510T141902Z
LAST-MODIFIED:20240510T141902Z
UID:10000502-1720807200-1720807200@www.summitmetroparks.org
SUMMARY:Gone Fishin'
DESCRIPTION:Come try your hand at fishing! We'll provide the rods and bait\, so all you have to do is show up. Anyone over the age of 16 will need a valid Ohio fishing license.
URL:https://www.summitmetroparks.org/program-events/gone-fishin-4/
LOCATION:OH
CATEGORIES:Recreation
END:VEVENT
BEGIN:VEVENT
DTSTART;TZID=America/New_York:20240707T093000
DTEND;TZID=America/New_York:20240707T093000
DTSTAMP:20260424T172222
CREATED:20240510T142848Z
LAST-MODIFIED:20240510T142848Z
UID:10000531-1720344600-1720344600@www.summitmetroparks.org
SUMMARY:Recreation Open House
DESCRIPTION:Have you ever wanted to try archery\, kayaking or fishing? Now's your chance! Join us for a morning of hands-on recreational opportunities. All equipment and materials are provided on a first come\, first-served basis. Participants must wear closed-toe shoes and dress to be outdoors and get wet. Archery: ages 9 and up. Kayaking: ages 13 and up\, must be able to swim. Fishing: all ages\, current Ohio fishing license required for adults.
URL:https://www.summitmetroparks.org/program-events/recreation-open-house/
LOCATION:OH
CATEGORIES:Recreation
END:VEVENT
BEGIN:VEVENT
DTSTART;TZID=America/New_York:20240629T090000
DTEND;TZID=America/New_York:20240629T090000
DTSTAMP:20260424T172222
CREATED:20240711T193048Z
LAST-MODIFIED:20240805T020250Z
UID:10003301-1719651600-1719651600@www.summitmetroparks.org
SUMMARY:Kids Fishing
DESCRIPTION:Whether your child is an expert angler or has never seen a fish before\, drop in for a morning of fishing and fun. Bait and rods will be provided.
URL:https://www.summitmetroparks.org/program-events/kids-fishing/
LOCATION:OH
CATEGORIES:Nature Education,Recreation
END:VEVENT
BEGIN:VEVENT
DTSTART;TZID=America/New_York:20240616T100000
DTEND;TZID=America/New_York:20240616T100000
DTSTAMP:20260424T172222
CREATED:20240711T192840Z
LAST-MODIFIED:20240711T192840Z
UID:10003238-1718532000-1718532000@www.summitmetroparks.org
SUMMARY:Father's Day Fishing
DESCRIPTION:Happy Father's Day! Youth ages 15 and younger can learn the basics of fishing\, then drop a line and see what they can catch. Some rods and reels will be available for use. Bait is provided. Adults must supervise their children and must have a current Ohio fishing license if they want to fish.
URL:https://www.summitmetroparks.org/program-events/fathers-day-fishing/
LOCATION:OH
CATEGORIES:Recreation
END:VEVENT
BEGIN:VEVENT
DTSTART;TZID=America/New_York:20240525T110000
DTEND;TZID=America/New_York:20240525T110000
DTSTAMP:20260424T172222
CREATED:20240711T192957Z
LAST-MODIFIED:20240711T192957Z
UID:10003274-1716634800-1716634800@www.summitmetroparks.org
SUMMARY:Gone Fishin'
DESCRIPTION:Anglers ages 15 and younger can learn the basics of fishing\, then drop a line and see what they catch! Some rods and reels will be available for use. Bait is provided. Adults must supervise their children and must have a current Ohio fishing license if they want to fish.
URL:https://www.summitmetroparks.org/program-events/gone-fishin-6/
LOCATION:OH
CATEGORIES:Recreation
END:VEVENT
END:VCALENDAR