BEGIN:VCALENDAR
VERSION:2.0
PRODID:-//Summit Metro Parks - ECPv6.15.20//NONSGML v1.0//EN
CALSCALE:GREGORIAN
METHOD:PUBLISH
X-WR-CALNAME:Summit Metro Parks
X-ORIGINAL-URL:https://www.summitmetroparks.org
X-WR-CALDESC:Events for Summit Metro Parks
REFRESH-INTERVAL;VALUE=DURATION:PT1H
X-Robots-Tag:noindex
X-PUBLISHED-TTL:PT1H
BEGIN:VTIMEZONE
TZID:America/New_York
BEGIN:DAYLIGHT
TZOFFSETFROM:-0500
TZOFFSETTO:-0400
TZNAME:EDT
DTSTART:20250309T070000
END:DAYLIGHT
BEGIN:STANDARD
TZOFFSETFROM:-0400
TZOFFSETTO:-0500
TZNAME:EST
DTSTART:20251102T060000
END:STANDARD
BEGIN:DAYLIGHT
TZOFFSETFROM:-0500
TZOFFSETTO:-0400
TZNAME:EDT
DTSTART:20260308T070000
END:DAYLIGHT
BEGIN:STANDARD
TZOFFSETFROM:-0400
TZOFFSETTO:-0500
TZNAME:EST
DTSTART:20261101T060000
END:STANDARD
BEGIN:DAYLIGHT
TZOFFSETFROM:-0500
TZOFFSETTO:-0400
TZNAME:EDT
DTSTART:20270314T070000
END:DAYLIGHT
BEGIN:STANDARD
TZOFFSETFROM:-0400
TZOFFSETTO:-0500
TZNAME:EST
DTSTART:20271107T060000
END:STANDARD
END:VTIMEZONE
BEGIN:VEVENT
DTSTART;TZID=America/New_York:20260408T103000
DTEND;TZID=America/New_York:20260408T113000
DTSTAMP:20260424T215153
CREATED:20251105T185123Z
LAST-MODIFIED:20260211T205931Z
UID:10004793-1775644200-1775647800@www.summitmetroparks.org
SUMMARY:Kinderealm: Marvelous Migration
DESCRIPTION:We invite children ages 3 to 6 and their adult companions to join us to learn about the marvels of bird migration. We’ll embark on a journey of our own through activities\, a story and a short hike. Please make other arrangements for younger children unable to remain in infant seats or strollers. Registration is required and begins 3/1.
URL:https://www.summitmetroparks.org/program-events/kinderealm-marvelous-migration-3/
LOCATION:FASN/Visitors Center\, 1828 Smith Rd.\, Akron\, OH\, 44313\, United States
CATEGORIES:Nature Education
ATTACH;FMTTYPE=image/jpeg:https://www.summitmetroparks.org/wp-content/uploads/event-image-warbler.jpg
END:VEVENT
BEGIN:VEVENT
DTSTART;TZID=America/New_York:20260415T103000
DTEND;TZID=America/New_York:20260415T113000
DTSTAMP:20260424T215153
CREATED:20251104T210053Z
LAST-MODIFIED:20260211T210103Z
UID:10004795-1776249000-1776252600@www.summitmetroparks.org
SUMMARY:Kinderealm: Marvelous Migration
DESCRIPTION:We invite children ages 3 to 6 and their adult companions to join us to learn about the marvels of bird migration! We’ll embark on a journey of our own through activities\, a story and a short hike. Please make other arrangements for younger children unable to remain in infant seats or strollers. Registration is required and begins on 3/1.
URL:https://www.summitmetroparks.org/program-events/kinderealm-marvelous-migration/
LOCATION:LP/Nature Center\, 9999 Liberty Rd.\, Twinsburg\, OH\, 44087\, United States
CATEGORIES:Educational,Nature Education
ATTACH;FMTTYPE=image/jpeg:https://www.summitmetroparks.org/wp-content/uploads/event-image-warbler.jpg
END:VEVENT
BEGIN:VEVENT
DTSTART;TZID=America/New_York:20260422T103000
DTEND;TZID=America/New_York:20260422T113000
DTSTAMP:20260424T215153
CREATED:20251105T184826Z
LAST-MODIFIED:20260211T210219Z
UID:10004794-1776853800-1776857400@www.summitmetroparks.org
SUMMARY:Kinderealm: Marvelous Migration
DESCRIPTION:We invite children ages 3 to 6 and their adult companions to join us to learn about the marvels of bird migration! We’ll embark on a journey of our own through activities\, a story and a short hike. Please make other arrangements for younger children unable to remain in infant seats or strollers. Registration is required and begins 3/1.
URL:https://www.summitmetroparks.org/program-events/kinderealm-marvelous-migration-2/
LOCATION:SLNC\, 411 Ira Ave.\, Akron\, OH\, 44301\, United States
CATEGORIES:Educational,Nature Education
ATTACH;FMTTYPE=image/jpeg:https://www.summitmetroparks.org/wp-content/uploads/event-image-sandpiper.jpg
END:VEVENT
BEGIN:VEVENT
DTSTART;TZID=America/New_York:20260513T103000
DTEND;TZID=America/New_York:20260513T113000
DTSTAMP:20260424T215153
CREATED:20260105T173114Z
LAST-MODIFIED:20260327T142950Z
UID:10004962-1778668200-1778671800@www.summitmetroparks.org
SUMMARY:Kinderealm: Beavers
DESCRIPTION:Splash! Children ages 3 to 6 and their adult companions can come learn all about big-tailed\, buck-toothed\, busy beavers through a story\, craft and short hike. Please make other arrangements for younger children unable to remain in infant seats or strollers. Registration is required and begins 4/1.
URL:https://www.summitmetroparks.org/program-events/kinderealm-beavers-2/
LOCATION:FASN/Nature Realm\, 1828 Smith Rd.\, Akron\, OH\, 44313\, United States
CATEGORIES:Nature Education
ATTACH;FMTTYPE=image/jpeg:https://www.summitmetroparks.org/wp-content/uploads/event-image-beaver.jpg
END:VEVENT
BEGIN:VEVENT
DTSTART;TZID=America/New_York:20260520T103000
DTEND;TZID=America/New_York:20260520T113000
DTSTAMP:20260424T215153
CREATED:20260105T173249Z
LAST-MODIFIED:20260327T143123Z
UID:10004963-1779273000-1779276600@www.summitmetroparks.org
SUMMARY:Kinderealm: Beavers
DESCRIPTION:Splash! Children ages 3 to 6 and their adult companions can come learn all about big-tailed\, buck-toothed\, busy beavers through a story\, craft and short hike. Please make other arrangements for younger children unable to remain in infant seats or strollers. Registration is required and begins 4/1.
URL:https://www.summitmetroparks.org/program-events/kinderealm-beavers-3/
LOCATION:LP/Nature Center\, 9999 Liberty Rd.\, Twinsburg\, OH\, 44087\, United States
CATEGORIES:Nature Education
ATTACH;FMTTYPE=image/jpeg:https://www.summitmetroparks.org/wp-content/uploads/event-image-beaver.jpg
END:VEVENT
BEGIN:VEVENT
DTSTART;TZID=America/New_York:20260527T103000
DTEND;TZID=America/New_York:20260527T113000
DTSTAMP:20260424T215153
CREATED:20260105T163043Z
LAST-MODIFIED:20260327T143152Z
UID:10004964-1779877800-1779881400@www.summitmetroparks.org
SUMMARY:Kinderealm: Beavers
DESCRIPTION:Splash! Children ages 3 to 6 and their adult companions can come learn all about big-tailed\, buck-toothed\, busy beavers through a story\, craft and short hike. Please make other arrangements for younger children unable to remain in infant seats or strollers. Registration is required and begins 4/1.
URL:https://www.summitmetroparks.org/program-events/kinderealm-beavers/
LOCATION:SLNC\, 411 Ira Ave.\, Akron\, OH\, 44301\, United States
CATEGORIES:Nature Education
ATTACH;FMTTYPE=image/jpeg:https://www.summitmetroparks.org/wp-content/uploads/event-image-beaver.jpg
END:VEVENT
BEGIN:VEVENT
DTSTART;TZID=America/New_York:20260610T103000
DTEND;TZID=America/New_York:20260610T113000
DTSTAMP:20260424T215153
CREATED:20260105T172538Z
LAST-MODIFIED:20260422T125325Z
UID:10004869-1781087400-1781091000@www.summitmetroparks.org
SUMMARY:Kinderealm: Clever Crows
DESCRIPTION:Children ages 3 to 6 with their adult companions will learn all about crows — considered to be among the most intelligent of all birds because of their tool use\, problem solving skills\, ability to plan tasks and more! Please make other arrangements for younger children unable to remain in infant seats or strollers. Registration is required and begins May 1\, 2026.
URL:https://www.summitmetroparks.org/program-events/kinderealm-clever-crows-3/
LOCATION:FASN/Visitors Center\, 1828 Smith Rd.\, Akron\, OH\, 44313\, United States
CATEGORIES:Nature Education
ATTACH;FMTTYPE=image/jpeg:https://www.summitmetroparks.org/wp-content/uploads/crow-event-image.jpg
END:VEVENT
BEGIN:VEVENT
DTSTART;TZID=America/New_York:20260617T103000
DTEND;TZID=America/New_York:20260617T113000
DTSTAMP:20260424T215153
CREATED:20260105T172053Z
LAST-MODIFIED:20260422T125425Z
UID:10004870-1781692200-1781695800@www.summitmetroparks.org
SUMMARY:Kinderealm: Clever Crows
DESCRIPTION:Children ages 3 to 6 with their adult companions will learn all about crows — considered to be among the most intelligent of all birds because of their tool use\, problem solving skills\, ability to plan tasks and more! Please make other arrangements for younger children unable to remain in infant seats or strollers. Registration is required and begins 5/1.
URL:https://www.summitmetroparks.org/program-events/kinderealm-clever-crows/
LOCATION:LP/Nature Center\, 9999 Liberty Rd.\, Twinsburg\, OH\, 44087\, United States
CATEGORIES:Educational,Nature Education,Senior Friendly,Wild Back Yards
ATTACH;FMTTYPE=image/jpeg:https://www.summitmetroparks.org/wp-content/uploads/crow-event-image.jpg
END:VEVENT
BEGIN:VEVENT
DTSTART;TZID=America/New_York:20260624T103000
DTEND;TZID=America/New_York:20260624T113000
DTSTAMP:20260424T215153
CREATED:20260105T172234Z
LAST-MODIFIED:20260422T125446Z
UID:10004871-1782297000-1782300600@www.summitmetroparks.org
SUMMARY:Kinderealm: Clever Crows
DESCRIPTION:Children ages 3 to 6 with their adult companions will learn all about crows — considered to be among the most intelligent of all birds because of their tool use\, problem solving skills\, ability to plan tasks and more! Please make other arrangements for younger children unable to remain in infant seats or strollers. Registration is required and begins 5/1.
URL:https://www.summitmetroparks.org/program-events/kinderealm-clever-crows-2/
LOCATION:SLNC\, 411 Ira Ave.\, Akron\, OH\, 44301\, United States
CATEGORIES:Nature Education
ATTACH;FMTTYPE=image/jpeg:https://www.summitmetroparks.org/wp-content/uploads/crow-event-image.jpg
END:VEVENT
BEGIN:VEVENT
DTSTART;TZID=America/New_York:20260708T103000
DTEND;TZID=America/New_York:20260708T113000
DTSTAMP:20260424T215153
CREATED:20260302T190434Z
LAST-MODIFIED:20260403T143634Z
UID:10005082-1783506600-1783510200@www.summitmetroparks.org
SUMMARY:Kinderealm: Butterflies
DESCRIPTION:Children ages 3 to 6 and their adult companions can learn all about amazingly beautiful butterflies and their mesmerizing metamorphosis through a story\, craft and short hike. Please make other arrangements for younger children unable to remain in infant seats or strollers. Registration is required and begins 6/1.
URL:https://www.summitmetroparks.org/program-events/kinderealm-butterflies/
LOCATION:FASN/Nature Realm\, 1828 Smith Rd.\, Akron\, OH\, 44313\, United States
CATEGORIES:Educational,Nature Education
ATTACH;FMTTYPE=image/jpeg:https://www.summitmetroparks.org/wp-content/uploads/event-image-monarch-butterfly.jpg
END:VEVENT
BEGIN:VEVENT
DTSTART;TZID=America/New_York:20260715T103000
DTEND;TZID=America/New_York:20260715T113000
DTSTAMP:20260424T215153
CREATED:20260302T190815Z
LAST-MODIFIED:20260403T143628Z
UID:10005083-1784111400-1784115000@www.summitmetroparks.org
SUMMARY:Kinderealm: Butterflies
DESCRIPTION:Children ages 3 to 6 and their adult companions can learn all about some amazingly beautiful butterflies and their mesmerizing metamorphosis through a story\, craft and short hike. Please make other arrangements for younger children unable to remain in infant seats or strollers. Registration is required and begins 6/1.
URL:https://www.summitmetroparks.org/program-events/kinderealm-butterflies-2/
LOCATION:LP/Nature Center\, 9999 Liberty Rd.\, Twinsburg\, OH\, 44087\, United States
CATEGORIES:Educational,Nature Education
ATTACH;FMTTYPE=image/jpeg:https://www.summitmetroparks.org/wp-content/uploads/event-image-monarch-butterfly.jpg
END:VEVENT
BEGIN:VEVENT
DTSTART;TZID=America/New_York:20260722T103000
DTEND;TZID=America/New_York:20260722T113000
DTSTAMP:20260424T215153
CREATED:20260302T191104Z
LAST-MODIFIED:20260403T143624Z
UID:10005084-1784716200-1784719800@www.summitmetroparks.org
SUMMARY:Kinderealm: Butterflies
DESCRIPTION:Children ages 3 to 6 and their adult companions can learn all about some amazingly beautiful butterflies and their mesmerizing metamorphosis through a story\, craft and short hike. Please make other arrangements for younger children unable to remain in infant seats or strollers. Registration is required and begins 6/1.
URL:https://www.summitmetroparks.org/program-events/kinderealm-butterflies-3/
LOCATION:SLNC\, 411 Ira Ave.\, Akron\, OH\, 44301\, United States
CATEGORIES:Educational,Nature Education
ATTACH;FMTTYPE=image/jpeg:https://www.summitmetroparks.org/wp-content/uploads/event-image-monarch-butterfly.jpg
END:VEVENT
BEGIN:VEVENT
DTSTART;TZID=America/New_York:20260812T103000
DTEND;TZID=America/New_York:20260812T113000
DTSTAMP:20260424T215153
CREATED:20260302T180333Z
LAST-MODIFIED:20260403T145634Z
UID:10005059-1786530600-1786534200@www.summitmetroparks.org
SUMMARY:Kinderealm: Skunks
DESCRIPTION:Pee-yew! Children ages 3 to 6 and their adult companions can come learn all about the striped\, smelly skunk though a story\, craft and short hike. Please make other arrangements for younger children unable to remain in infant seats or strollers. Registration is required and begins 7/1.
URL:https://www.summitmetroparks.org/program-events/kinderealm-skunks/
LOCATION:FASN/Nature Realm\, 1828 Smith Rd.\, Akron\, OH\, 44313\, United States
CATEGORIES:Nature Education
ATTACH;FMTTYPE=image/jpeg:https://www.summitmetroparks.org/wp-content/uploads/skunk-event-image.jpg
END:VEVENT
BEGIN:VEVENT
DTSTART;TZID=America/New_York:20260819T103000
DTEND;TZID=America/New_York:20260819T113000
DTSTAMP:20260424T215153
CREATED:20260302T212738Z
LAST-MODIFIED:20260403T145631Z
UID:10005060-1787135400-1787139000@www.summitmetroparks.org
SUMMARY:Kinderealm: Skunks
DESCRIPTION:Pee-yew! Children ages 3 to 6 and their adult companions can learn all about the striped\, smelly skunk though a story\, craft and short hike. Please make other arrangements for younger children unable to remain in infant seats or strollers. Registration is required and begins 7/1.
URL:https://www.summitmetroparks.org/program-events/kinderealm-skunks-2/
LOCATION:LP/Nature Center\, 9999 Liberty Rd.\, Twinsburg\, OH\, 44087\, United States
CATEGORIES:Nature Education
ATTACH;FMTTYPE=image/jpeg:https://www.summitmetroparks.org/wp-content/uploads/skunk-event-image.jpg
END:VEVENT
BEGIN:VEVENT
DTSTART;TZID=America/New_York:20260826T103000
DTEND;TZID=America/New_York:20260826T113000
DTSTAMP:20260424T215153
CREATED:20260310T162732Z
LAST-MODIFIED:20260403T145627Z
UID:10005061-1787740200-1787743800@www.summitmetroparks.org
SUMMARY:Kinderealm: Skunks
DESCRIPTION:Pee-yew! Children ages 3 to 6 and their adult companions can come learn all about the striped\, smelly skunk though a story\, craft and short hike. Please make other arrangements for younger children unable to remain in infant seats or strollers. Registration is required and begins 7/1.
URL:https://www.summitmetroparks.org/program-events/kinderealm-skunks-3/
LOCATION:SLNC\, 411 Ira Ave.\, Akron\, OH\, 44301\, United States
CATEGORIES:Nature Education
ATTACH;FMTTYPE=image/jpeg:https://www.summitmetroparks.org/wp-content/uploads/skunk-event-image.jpg
END:VEVENT
END:VCALENDAR