BEGIN:VCALENDAR
VERSION:2.0
PRODID:-//Summit Metro Parks - ECPv6.15.20//NONSGML v1.0//EN
CALSCALE:GREGORIAN
METHOD:PUBLISH
X-WR-CALNAME:Summit Metro Parks
X-ORIGINAL-URL:https://www.summitmetroparks.org
X-WR-CALDESC:Events for Summit Metro Parks
REFRESH-INTERVAL;VALUE=DURATION:PT1H
X-Robots-Tag:noindex
X-PUBLISHED-TTL:PT1H
BEGIN:VTIMEZONE
TZID:America/New_York
BEGIN:DAYLIGHT
TZOFFSETFROM:-0500
TZOFFSETTO:-0400
TZNAME:EDT
DTSTART:20250309T070000
END:DAYLIGHT
BEGIN:STANDARD
TZOFFSETFROM:-0400
TZOFFSETTO:-0500
TZNAME:EST
DTSTART:20251102T060000
END:STANDARD
BEGIN:DAYLIGHT
TZOFFSETFROM:-0500
TZOFFSETTO:-0400
TZNAME:EDT
DTSTART:20260308T070000
END:DAYLIGHT
BEGIN:STANDARD
TZOFFSETFROM:-0400
TZOFFSETTO:-0500
TZNAME:EST
DTSTART:20261101T060000
END:STANDARD
BEGIN:DAYLIGHT
TZOFFSETFROM:-0500
TZOFFSETTO:-0400
TZNAME:EDT
DTSTART:20270314T070000
END:DAYLIGHT
BEGIN:STANDARD
TZOFFSETFROM:-0400
TZOFFSETTO:-0500
TZNAME:EST
DTSTART:20271107T060000
END:STANDARD
END:VTIMEZONE
BEGIN:VEVENT
DTSTART;TZID=America/New_York:20260327T193000
DTEND;TZID=America/New_York:20260327T210000
DTSTAMP:20260425T110933
CREATED:20251104T204422Z
LAST-MODIFIED:20251107T160206Z
UID:10004829-1774639800-1774645200@www.summitmetroparks.org
SUMMARY:Friday Night Frogs
DESCRIPTION:Venture out on a night hike in search of frogs and discover the important roles amphibians play in our world. Please bring a headlamp or flashlight.
URL:https://www.summitmetroparks.org/program-events/friday-night-frogs-6/
LOCATION:BHT/Young Road Lot\, 5090 Young Rd.\, Stow\, OH\, 44224\, United States
CATEGORIES:Nature Education
ATTACH;FMTTYPE=image/jpeg:https://www.summitmetroparks.org/wp-content/uploads/event-image-frog.jpg
END:VEVENT
BEGIN:VEVENT
DTSTART;TZID=America/New_York:20260410T200000
DTEND;TZID=America/New_York:20260410T213000
DTSTAMP:20260425T110933
CREATED:20251104T205704Z
LAST-MODIFIED:20251107T181336Z
UID:10004833-1775851200-1775856600@www.summitmetroparks.org
SUMMARY:Friday Night Frogs
DESCRIPTION:Venture out on a night hike in search of frogs and discover the important roles amphibians play in our world. Please bring a headlamp or flashlight.
URL:https://www.summitmetroparks.org/program-events/friday-night-frogs-7/
LOCATION:SR/Big Bend Area\, 1337 Merriman Rd.\, Akron\, OH\, 44313\, United States
CATEGORIES:Nature Education
ATTACH;FMTTYPE=image/jpeg:https://www.summitmetroparks.org/wp-content/uploads/event-image-peeper.jpg
END:VEVENT
BEGIN:VEVENT
DTSTART;TZID=America/New_York:20260424T200000
DTEND;TZID=America/New_York:20260424T213000
DTSTAMP:20260425T110933
CREATED:20251104T205807Z
LAST-MODIFIED:20251107T173956Z
UID:10004835-1777060800-1777066200@www.summitmetroparks.org
SUMMARY:Friday Night Frogs
DESCRIPTION:Venture out on a night hike in search of frogs and discover the important roles amphibians play in our world. Please bring a headlamp or flashlight.
URL:https://www.summitmetroparks.org/program-events/friday-night-frogs-8/
LOCATION:SFB/Prairie Trail\, 1400 Portage Line Rd.\, Springfield Twp.\, OH\, 44312\, United States
CATEGORIES:Nature Education
ATTACH;FMTTYPE=image/jpeg:https://www.summitmetroparks.org/wp-content/uploads/event-image-frog.jpg
END:VEVENT
BEGIN:VEVENT
DTSTART;TZID=America/New_York:20260508T203000
DTEND;TZID=America/New_York:20260508T220000
DTSTAMP:20260425T110933
CREATED:20260105T154229Z
LAST-MODIFIED:20260113T145817Z
UID:10004915-1778272200-1778277600@www.summitmetroparks.org
SUMMARY:Friday Night Frogs
DESCRIPTION:Venture out on a night hike in search of frogs and discover the important roles amphibians play in our world. Please bring a headlamp or flashlight.
URL:https://www.summitmetroparks.org/program-events/friday-night-frogs-11/
LOCATION:MF/Tallmadge Meadows Area\, 1088 North Ave.\, Tallmadge\, OH\, 44278\, United States
CATEGORIES:Nature Education
ATTACH;FMTTYPE=image/jpeg:https://www.summitmetroparks.org/wp-content/uploads/event-image-frog.jpg
END:VEVENT
BEGIN:VEVENT
DTSTART;TZID=America/New_York:20260522T203000
DTEND;TZID=America/New_York:20260522T220000
DTSTAMP:20260425T110933
CREATED:20260105T150155Z
LAST-MODIFIED:20260109T201803Z
UID:10004901-1779481800-1779487200@www.summitmetroparks.org
SUMMARY:Friday Night Frogs
DESCRIPTION:Venture out on a night hike in search of frogs and discover the important roles amphibians play in our world. Please bring a headlamp or flashlight.
URL:https://www.summitmetroparks.org/program-events/friday-night-frogs-10/
LOCATION:CV/Valley View Area\, 1134 Cuyahoga St.\, Akron\, OH\, 44313\, United States
CATEGORIES:Nature Education
ATTACH;FMTTYPE=image/jpeg:https://www.summitmetroparks.org/wp-content/uploads/event-image-peeper.jpg
END:VEVENT
BEGIN:VEVENT
DTSTART;TZID=America/New_York:20260605T203000
DTEND;TZID=America/New_York:20260605T213000
DTSTAMP:20260425T110933
CREATED:20260105T163343Z
LAST-MODIFIED:20260109T160335Z
UID:10004967-1780691400-1780695000@www.summitmetroparks.org
SUMMARY:Friday Night Frogs
DESCRIPTION:Venture out on a night hike in search of frogs and discover the important roles amphibians play in our world. Please bring a headlamp or flashlight.
URL:https://www.summitmetroparks.org/program-events/friday-night-frogs-12/
LOCATION:SR/Big Bend Area\, 1337 Merriman Rd.\, Akron\, OH\, 44313\, United States
CATEGORIES:Nature Education
ATTACH;FMTTYPE=image/jpeg:https://www.summitmetroparks.org/wp-content/uploads/event-image-peeper.jpg
END:VEVENT
END:VCALENDAR