BEGIN:VCALENDAR
VERSION:2.0
PRODID:-//Summit Metro Parks - ECPv6.15.20//NONSGML v1.0//EN
CALSCALE:GREGORIAN
METHOD:PUBLISH
X-ORIGINAL-URL:https://www.summitmetroparks.org
X-WR-CALDESC:Events for Summit Metro Parks
REFRESH-INTERVAL;VALUE=DURATION:PT1H
X-Robots-Tag:noindex
X-PUBLISHED-TTL:PT1H
BEGIN:VTIMEZONE
TZID:America/New_York
BEGIN:DAYLIGHT
TZOFFSETFROM:-0500
TZOFFSETTO:-0400
TZNAME:EDT
DTSTART:20250309T070000
END:DAYLIGHT
BEGIN:STANDARD
TZOFFSETFROM:-0400
TZOFFSETTO:-0500
TZNAME:EST
DTSTART:20251102T060000
END:STANDARD
BEGIN:DAYLIGHT
TZOFFSETFROM:-0500
TZOFFSETTO:-0400
TZNAME:EDT
DTSTART:20260308T070000
END:DAYLIGHT
BEGIN:STANDARD
TZOFFSETFROM:-0400
TZOFFSETTO:-0500
TZNAME:EST
DTSTART:20261101T060000
END:STANDARD
BEGIN:DAYLIGHT
TZOFFSETFROM:-0500
TZOFFSETTO:-0400
TZNAME:EDT
DTSTART:20270314T070000
END:DAYLIGHT
BEGIN:STANDARD
TZOFFSETFROM:-0400
TZOFFSETTO:-0500
TZNAME:EST
DTSTART:20271107T060000
END:STANDARD
END:VTIMEZONE
BEGIN:VEVENT
DTSTART;TZID=America/New_York:20260513T103000
DTEND;TZID=America/New_York:20260513T113000
DTSTAMP:20260424T182415
CREATED:20260105T173114Z
LAST-MODIFIED:20260327T142950Z
UID:10004962-1778668200-1778671800@www.summitmetroparks.org
SUMMARY:Kinderealm: Beavers
DESCRIPTION:Splash! Children ages 3 to 6 and their adult companions can come learn all about big-tailed\, buck-toothed\, busy beavers through a story\, craft and short hike. Please make other arrangements for younger children unable to remain in infant seats or strollers. Registration is required and begins 4/1.
URL:https://www.summitmetroparks.org/program-events/kinderealm-beavers-2/
LOCATION:FASN/Nature Realm\, 1828 Smith Rd.\, Akron\, OH\, 44313\, United States
CATEGORIES:Nature Education
ATTACH;FMTTYPE=image/jpeg:https://www.summitmetroparks.org/wp-content/uploads/event-image-beaver.jpg
END:VEVENT
BEGIN:VEVENT
DTSTART;TZID=America/New_York:20260520T103000
DTEND;TZID=America/New_York:20260520T113000
DTSTAMP:20260424T182415
CREATED:20260105T173249Z
LAST-MODIFIED:20260327T143123Z
UID:10004963-1779273000-1779276600@www.summitmetroparks.org
SUMMARY:Kinderealm: Beavers
DESCRIPTION:Splash! Children ages 3 to 6 and their adult companions can come learn all about big-tailed\, buck-toothed\, busy beavers through a story\, craft and short hike. Please make other arrangements for younger children unable to remain in infant seats or strollers. Registration is required and begins 4/1.
URL:https://www.summitmetroparks.org/program-events/kinderealm-beavers-3/
LOCATION:LP/Nature Center\, 9999 Liberty Rd.\, Twinsburg\, OH\, 44087\, United States
CATEGORIES:Nature Education
ATTACH;FMTTYPE=image/jpeg:https://www.summitmetroparks.org/wp-content/uploads/event-image-beaver.jpg
END:VEVENT
BEGIN:VEVENT
DTSTART;TZID=America/New_York:20260527T103000
DTEND;TZID=America/New_York:20260527T113000
DTSTAMP:20260424T182415
CREATED:20260105T163043Z
LAST-MODIFIED:20260327T143152Z
UID:10004964-1779877800-1779881400@www.summitmetroparks.org
SUMMARY:Kinderealm: Beavers
DESCRIPTION:Splash! Children ages 3 to 6 and their adult companions can come learn all about big-tailed\, buck-toothed\, busy beavers through a story\, craft and short hike. Please make other arrangements for younger children unable to remain in infant seats or strollers. Registration is required and begins 4/1.
URL:https://www.summitmetroparks.org/program-events/kinderealm-beavers/
LOCATION:SLNC\, 411 Ira Ave.\, Akron\, OH\, 44301\, United States
CATEGORIES:Nature Education
ATTACH;FMTTYPE=image/jpeg:https://www.summitmetroparks.org/wp-content/uploads/event-image-beaver.jpg
END:VEVENT
END:VCALENDAR