BEGIN:VCALENDAR
VERSION:2.0
PRODID:-//Summit Metro Parks - ECPv6.15.20//NONSGML v1.0//EN
CALSCALE:GREGORIAN
METHOD:PUBLISH
X-WR-CALNAME:Summit Metro Parks
X-ORIGINAL-URL:https://www.summitmetroparks.org
X-WR-CALDESC:Events for Summit Metro Parks
REFRESH-INTERVAL;VALUE=DURATION:PT1H
X-Robots-Tag:noindex
X-PUBLISHED-TTL:PT1H
BEGIN:VTIMEZONE
TZID:America/New_York
BEGIN:DAYLIGHT
TZOFFSETFROM:-0500
TZOFFSETTO:-0400
TZNAME:EDT
DTSTART:20250309T070000
END:DAYLIGHT
BEGIN:STANDARD
TZOFFSETFROM:-0400
TZOFFSETTO:-0500
TZNAME:EST
DTSTART:20251102T060000
END:STANDARD
BEGIN:DAYLIGHT
TZOFFSETFROM:-0500
TZOFFSETTO:-0400
TZNAME:EDT
DTSTART:20260308T070000
END:DAYLIGHT
BEGIN:STANDARD
TZOFFSETFROM:-0400
TZOFFSETTO:-0500
TZNAME:EST
DTSTART:20261101T060000
END:STANDARD
BEGIN:DAYLIGHT
TZOFFSETFROM:-0500
TZOFFSETTO:-0400
TZNAME:EDT
DTSTART:20270314T070000
END:DAYLIGHT
BEGIN:STANDARD
TZOFFSETFROM:-0400
TZOFFSETTO:-0500
TZNAME:EST
DTSTART:20271107T060000
END:STANDARD
END:VTIMEZONE
BEGIN:VEVENT
DTSTART;TZID=America/New_York:20260311T103000
DTEND;TZID=America/New_York:20260311T113000
DTSTAMP:20260424T170747
CREATED:20251104T203510Z
LAST-MODIFIED:20260108T171431Z
UID:10004798-1773225000-1773228600@www.summitmetroparks.org
SUMMARY:Kinderealm: Turkey Vultures
DESCRIPTION:Children ages 3 to 6 and their adult companions will learn about the extraordinary turkey vulture\, their revolting habits and important roles as nature’s clean-up crew. Program includes a hike and craft. Please make other arrangements for younger children unable to remain in infant seats or strollers. Registration is required and begins on 2/1.
URL:https://www.summitmetroparks.org/program-events/kinderealm-turkey-vultures/
LOCATION:FASN/Nature Realm\, 1828 Smith Rd.\, Akron\, OH\, 44313\, United States
CATEGORIES:Nature Education
ATTACH;FMTTYPE=image/jpeg:https://www.summitmetroparks.org/wp-content/uploads/event-image-turkey-vulture.jpg
END:VEVENT
BEGIN:VEVENT
DTSTART;TZID=America/New_York:20260318T103000
DTEND;TZID=America/New_York:20260318T113000
DTSTAMP:20260424T170747
CREATED:20251104T204727Z
LAST-MODIFIED:20260108T171503Z
UID:10004797-1773829800-1773833400@www.summitmetroparks.org
SUMMARY:Kinderealm: Turkey Vultures
DESCRIPTION:Children ages 3 to 6 and their adult companions will learn about the extraordinary turkey vulture\, their revolting habits and important roles as nature’s clean up crew. Program includes a hike and craft. Please make other arrangements for younger children unable to remain in infant seats or strollers. Registration is required and begins on 2/1.
URL:https://www.summitmetroparks.org/program-events/kinderealm-turkey-vultures-2/
LOCATION:LP/Nature Center\, 9999 Liberty Rd.\, Twinsburg\, OH\, 44087\, United States
CATEGORIES:Nature Education
ATTACH;FMTTYPE=image/jpeg:https://www.summitmetroparks.org/wp-content/uploads/event-image-turkey-vulture.jpg
END:VEVENT
BEGIN:VEVENT
DTSTART;TZID=America/New_York:20260325T103000
DTEND;TZID=America/New_York:20260325T113000
DTSTAMP:20260424T170747
CREATED:20251104T204913Z
LAST-MODIFIED:20260108T171533Z
UID:10004799-1774434600-1774438200@www.summitmetroparks.org
SUMMARY:Kinderealm: Turkey Vultures
DESCRIPTION:Children ages 3 to 6 and their adult companions will learn about the extraordinary turkey vulture\, their revolting habits\, and important lives as nature’s clean up crew. Program includes a hike and craft. Please make other arrangements for younger children unable to remain in infant seats or strollers. Registration is required and begins on 2/1.
URL:https://www.summitmetroparks.org/program-events/kinderealm-turkey-vultures-3/
LOCATION:SLNC\, 411 Ira Ave.\, Akron\, OH\, 44301\, United States
CATEGORIES:Nature Education
ATTACH;FMTTYPE=image/jpeg:https://www.summitmetroparks.org/wp-content/uploads/event-image-turkey-vulture.jpg
END:VEVENT
END:VCALENDAR