BEGIN:VCALENDAR
VERSION:2.0
PRODID:-//Summit Metro Parks - ECPv6.15.20//NONSGML v1.0//EN
CALSCALE:GREGORIAN
METHOD:PUBLISH
X-ORIGINAL-URL:https://www.summitmetroparks.org
X-WR-CALDESC:Events for Summit Metro Parks
REFRESH-INTERVAL;VALUE=DURATION:PT1H
X-Robots-Tag:noindex
X-PUBLISHED-TTL:PT1H
BEGIN:VTIMEZONE
TZID:America/New_York
BEGIN:DAYLIGHT
TZOFFSETFROM:-0500
TZOFFSETTO:-0400
TZNAME:EDT
DTSTART:20250309T070000
END:DAYLIGHT
BEGIN:STANDARD
TZOFFSETFROM:-0400
TZOFFSETTO:-0500
TZNAME:EST
DTSTART:20251102T060000
END:STANDARD
BEGIN:DAYLIGHT
TZOFFSETFROM:-0500
TZOFFSETTO:-0400
TZNAME:EDT
DTSTART:20260308T070000
END:DAYLIGHT
BEGIN:STANDARD
TZOFFSETFROM:-0400
TZOFFSETTO:-0500
TZNAME:EST
DTSTART:20261101T060000
END:STANDARD
BEGIN:DAYLIGHT
TZOFFSETFROM:-0500
TZOFFSETTO:-0400
TZNAME:EDT
DTSTART:20270314T070000
END:DAYLIGHT
BEGIN:STANDARD
TZOFFSETFROM:-0400
TZOFFSETTO:-0500
TZNAME:EST
DTSTART:20271107T060000
END:STANDARD
END:VTIMEZONE
BEGIN:VEVENT
DTSTART;TZID=America/New_York:20260213T183000
DTEND;TZID=America/New_York:20260213T200000
DTSTAMP:20260424T161721
CREATED:20251221T142458Z
LAST-MODIFIED:20251222T140517Z
UID:10004861-1771007400-1771012800@www.summitmetroparks.org
SUMMARY:Beyond the Summit: Gorge Dam Removal
DESCRIPTION:Beyond the Summit is a speaker series featuring environmental professionals discussing topics related to water in Northeast Ohio. From watershed health to fishing best practices\, each talk offers community members the chance to learn from experts shaping the future of our water resources. This month’s guest joins us from the park district’s very own conservation department to talk about the Gorge Dam removal and Akron watershed health.
URL:https://www.summitmetroparks.org/program-events/beyond-the-summit-gorge-dam-removal/
LOCATION:SLNC\, 411 Ira Ave.\, Akron\, OH\, 44301\, United States
CATEGORIES:Nature Education,Sustainability
ATTACH;FMTTYPE=image/gif:https://www.summitmetroparks.org/wp-content/uploads/event-image-gorge-dam.gif
END:VEVENT
END:VCALENDAR