BEGIN:VCALENDAR
VERSION:2.0
PRODID:-//Summit Metro Parks - ECPv6.15.20//NONSGML v1.0//EN
CALSCALE:GREGORIAN
METHOD:PUBLISH
X-ORIGINAL-URL:https://www.summitmetroparks.org
X-WR-CALDESC:Events for Summit Metro Parks
REFRESH-INTERVAL;VALUE=DURATION:PT1H
X-Robots-Tag:noindex
X-PUBLISHED-TTL:PT1H
BEGIN:VTIMEZONE
TZID:America/New_York
BEGIN:DAYLIGHT
TZOFFSETFROM:-0500
TZOFFSETTO:-0400
TZNAME:EDT
DTSTART:20250309T070000
END:DAYLIGHT
BEGIN:STANDARD
TZOFFSETFROM:-0400
TZOFFSETTO:-0500
TZNAME:EST
DTSTART:20251102T060000
END:STANDARD
BEGIN:DAYLIGHT
TZOFFSETFROM:-0500
TZOFFSETTO:-0400
TZNAME:EDT
DTSTART:20260308T070000
END:DAYLIGHT
BEGIN:STANDARD
TZOFFSETFROM:-0400
TZOFFSETTO:-0500
TZNAME:EST
DTSTART:20261101T060000
END:STANDARD
BEGIN:DAYLIGHT
TZOFFSETFROM:-0500
TZOFFSETTO:-0400
TZNAME:EDT
DTSTART:20270314T070000
END:DAYLIGHT
BEGIN:STANDARD
TZOFFSETFROM:-0400
TZOFFSETTO:-0500
TZNAME:EST
DTSTART:20271107T060000
END:STANDARD
END:VTIMEZONE
BEGIN:VEVENT
DTSTART;TZID=America/New_York:20260114T103000
DTEND;TZID=America/New_York:20260114T113000
DTSTAMP:20260424T203134
CREATED:20250825T170030Z
LAST-MODIFIED:20251209T164828Z
UID:10004620-1768386600-1768390200@www.summitmetroparks.org
SUMMARY:Kinderealm: Animal Tracks
DESCRIPTION:Calling all junior nature detectives! We need YOU to crack a wildlife mystery case. Children 3 to 6 years old and their adult companions will learn about tracks\, scat and other fun animal clues through a story\, craft and games. Please make other arrangements for children unable to remain in infant seats or strollers. Registration is required and begins 12/1.
URL:https://www.summitmetroparks.org/program-events/kinderealm-animal-tracks-2/
LOCATION:FASN/Visitors Center\, 1828 Smith Rd.\, Akron\, OH\, 44313\, United States
CATEGORIES:Educational,Good For All Ages,Nature Education
ATTACH;FMTTYPE=image/jpeg:https://www.summitmetroparks.org/wp-content/uploads/event-image-kinderealm.jpg
END:VEVENT
BEGIN:VEVENT
DTSTART;TZID=America/New_York:20260121T103000
DTEND;TZID=America/New_York:20260121T113000
DTSTAMP:20260424T203134
CREATED:20250825T150322Z
LAST-MODIFIED:20251209T165220Z
UID:10004715-1768991400-1768995000@www.summitmetroparks.org
SUMMARY:Kinderealm: Animal Tracks
DESCRIPTION:Calling all junior nature detectives! We need you to crack a wildlife mystery case. Children 3 to 6 years old and their adult companions will learn about tracks\, scat and other fun animal clues through a story\, craft and games. Please make other arrangements for children unable to remain in infant seats or strollers. Registration is required and begins 12/1.
URL:https://www.summitmetroparks.org/program-events/kinderealm-animal-tracks/
LOCATION:LP/Nature Center\, 9999 Liberty Rd.\, Twinsburg\, OH\, 44087\, United States
CATEGORIES:Nature Education
ATTACH;FMTTYPE=image/jpeg:https://www.summitmetroparks.org/wp-content/uploads/event-image-kinderealm.jpg
END:VEVENT
BEGIN:VEVENT
DTSTART;TZID=America/New_York:20260128T103000
DTEND;TZID=America/New_York:20260128T113000
DTSTAMP:20260424T203134
CREATED:20250827T141958Z
LAST-MODIFIED:20251209T170046Z
UID:10004619-1769596200-1769599800@www.summitmetroparks.org
SUMMARY:Kinderealm: Animal Tracks
DESCRIPTION:Calling all junior nature detectives! We need you to crack a wildlife mystery case. Children 3 to 6 years old and their adult companions will learn about tracks\, scat and other fun animal clues through a story\, craft and games. Please make other arrangements for children unable to remain in infant seats or strollers. Registration is required and begins 12/1.
URL:https://www.summitmetroparks.org/program-events/kinderealm-animal-tracks-3/
LOCATION:SLNC\, 411 Ira Ave.\, Akron\, OH\, 44301\, United States
CATEGORIES:Nature Education
ATTACH;FMTTYPE=image/jpeg:https://www.summitmetroparks.org/wp-content/uploads/event-image-snow-tracks.jpg
END:VEVENT
END:VCALENDAR