BEGIN:VCALENDAR
VERSION:2.0
PRODID:-//Summit Metro Parks - ECPv6.15.20//NONSGML v1.0//EN
CALSCALE:GREGORIAN
METHOD:PUBLISH
X-WR-CALNAME:Summit Metro Parks
X-ORIGINAL-URL:https://www.summitmetroparks.org
X-WR-CALDESC:Events for Summit Metro Parks
REFRESH-INTERVAL;VALUE=DURATION:PT1H
X-Robots-Tag:noindex
X-PUBLISHED-TTL:PT1H
BEGIN:VTIMEZONE
TZID:America/New_York
BEGIN:DAYLIGHT
TZOFFSETFROM:-0500
TZOFFSETTO:-0400
TZNAME:EDT
DTSTART:20240310T070000
END:DAYLIGHT
BEGIN:STANDARD
TZOFFSETFROM:-0400
TZOFFSETTO:-0500
TZNAME:EST
DTSTART:20241103T060000
END:STANDARD
BEGIN:DAYLIGHT
TZOFFSETFROM:-0500
TZOFFSETTO:-0400
TZNAME:EDT
DTSTART:20250309T070000
END:DAYLIGHT
BEGIN:STANDARD
TZOFFSETFROM:-0400
TZOFFSETTO:-0500
TZNAME:EST
DTSTART:20251102T060000
END:STANDARD
BEGIN:DAYLIGHT
TZOFFSETFROM:-0500
TZOFFSETTO:-0400
TZNAME:EDT
DTSTART:20260308T070000
END:DAYLIGHT
BEGIN:STANDARD
TZOFFSETFROM:-0400
TZOFFSETTO:-0500
TZNAME:EST
DTSTART:20261101T060000
END:STANDARD
END:VTIMEZONE
BEGIN:VEVENT
DTSTART;TZID=America/New_York:20251008T103000
DTEND;TZID=America/New_York:20251008T113000
DTSTAMP:20260425T153335
CREATED:20250506T193400Z
LAST-MODIFIED:20250520T153103Z
UID:10004366-1759919400-1759923000@www.summitmetroparks.org
SUMMARY:Kinderealm: Acorns
DESCRIPTION:Children ages 3 to 6 and their adult companions will learn how the small acorn plays a mighty role in our forests through stories\, crafts and outdoor activities. Please make arrangements for younger children unable to remain in infant seats and strollers. Registration is required and begins 10/1.
URL:https://www.summitmetroparks.org/program-events/kinderealm-acorns/
LOCATION:FASN/Nature Realm\, 1828 Smith Rd.\, Akron\, OH\, 44313\, United States
CATEGORIES:Nature Education
ATTACH;FMTTYPE=image/gif:https://www.summitmetroparks.org/wp-content/uploads/event-image-acorns.gif
END:VEVENT
BEGIN:VEVENT
DTSTART;TZID=America/New_York:20251015T103000
DTEND;TZID=America/New_York:20251015T113000
DTSTAMP:20260425T153335
CREATED:20250507T153215Z
LAST-MODIFIED:20250520T153100Z
UID:10004367-1760524200-1760527800@www.summitmetroparks.org
SUMMARY:Kinderealm: Acorns
DESCRIPTION:Children ages 3 to 6 and their adult companions will learn how the small acorn plays a mighty role in our forests through stories\, crafts and outdoor activities. Please make arrangements for younger children unable to remain in infant seats and strollers. Registration is required and begins 10/1.
URL:https://www.summitmetroparks.org/program-events/kinderealm-acorns-3/
LOCATION:LP/Nature Center\, 9999 Liberty Rd.\, Twinsburg\, OH\, 44087\, United States
CATEGORIES:Nature Education
ATTACH;FMTTYPE=image/gif:https://www.summitmetroparks.org/wp-content/uploads/event-image-acorns.gif
END:VEVENT
BEGIN:VEVENT
DTSTART;TZID=America/New_York:20251022T103000
DTEND;TZID=America/New_York:20251022T113000
DTSTAMP:20260425T153335
CREATED:20250507T142629Z
LAST-MODIFIED:20250520T153056Z
UID:10004365-1761129000-1761132600@www.summitmetroparks.org
SUMMARY:Kinderealm: Acorns
DESCRIPTION:Children ages 3 to 6 and their adult companions will learn how the small acorn plays a mighty role in our forests through stories\, crafts\, and outdoor activities. Please make arrangements for younger children unable to remain in infant seats and strollers. Registration is required and begins 10/1.
URL:https://www.summitmetroparks.org/program-events/kinderealm-acorns-2/
LOCATION:F/Coventry Oaks Lodge\, 40 Axline Ave.\, Akron\, OH\, 44319\, United States
CATEGORIES:Nature Education
ATTACH;FMTTYPE=image/gif:https://www.summitmetroparks.org/wp-content/uploads/event-image-acorns.gif
END:VEVENT
END:VCALENDAR