BEGIN:VCALENDAR
VERSION:2.0
PRODID:-//Summit Metro Parks - ECPv6.15.20//NONSGML v1.0//EN
CALSCALE:GREGORIAN
METHOD:PUBLISH
X-WR-CALNAME:Summit Metro Parks
X-ORIGINAL-URL:https://www.summitmetroparks.org
X-WR-CALDESC:Events for Summit Metro Parks
REFRESH-INTERVAL;VALUE=DURATION:PT1H
X-Robots-Tag:noindex
X-PUBLISHED-TTL:PT1H
BEGIN:VTIMEZONE
TZID:America/New_York
BEGIN:DAYLIGHT
TZOFFSETFROM:-0500
TZOFFSETTO:-0400
TZNAME:EDT
DTSTART:20240310T070000
END:DAYLIGHT
BEGIN:STANDARD
TZOFFSETFROM:-0400
TZOFFSETTO:-0500
TZNAME:EST
DTSTART:20241103T060000
END:STANDARD
BEGIN:DAYLIGHT
TZOFFSETFROM:-0500
TZOFFSETTO:-0400
TZNAME:EDT
DTSTART:20250309T070000
END:DAYLIGHT
BEGIN:STANDARD
TZOFFSETFROM:-0400
TZOFFSETTO:-0500
TZNAME:EST
DTSTART:20251102T060000
END:STANDARD
BEGIN:DAYLIGHT
TZOFFSETFROM:-0500
TZOFFSETTO:-0400
TZNAME:EDT
DTSTART:20260308T070000
END:DAYLIGHT
BEGIN:STANDARD
TZOFFSETFROM:-0400
TZOFFSETTO:-0500
TZNAME:EST
DTSTART:20261101T060000
END:STANDARD
END:VTIMEZONE
BEGIN:VEVENT
DTSTART;TZID=America/New_York:20250913T100000
DTEND;TZID=America/New_York:20250913T130000
DTSTAMP:20260425T083951
CREATED:20250507T142236Z
LAST-MODIFIED:20250515T153034Z
UID:10004395-1757757600-1757768400@www.summitmetroparks.org
SUMMARY:Tent Camping Workshop
DESCRIPTION:Families are invited to a fun introductory camping experience led by naturalists. We will offer fishing\, hiking\, upcycled crafting\, simple campfire cooking\, a nature color-coded search for children\, time in a tent and relaxing forest bathing.
URL:https://www.summitmetroparks.org/program-events/tent-camping-workshop/
LOCATION:SC/Lake House Area\, 5000 Hametown Rd.\, Norton\, OH\, 44203\, United States
CATEGORIES:Art,Educational,Good For All Ages,Health & Fitness,Nature Education,Recreation,Sustainability
ATTACH;FMTTYPE=image/jpeg:https://www.summitmetroparks.org/wp-content/uploads/camping-program.jpg
END:VEVENT
BEGIN:VEVENT
DTSTART;TZID=America/New_York:20250914T100000
DTEND;TZID=America/New_York:20250914T130000
DTSTAMP:20260425T083951
CREATED:20250506T201646Z
LAST-MODIFIED:20250603T190257Z
UID:10004444-1757844000-1757854800@www.summitmetroparks.org
SUMMARY:Recreation Open House
DESCRIPTION:Have you ever wanted to try archery\, kayaking or fishing? Now’s your chance! Join us for a morning of hands-on recreational opportunities. All equipment and materials are provided on a first-come\, first-served basis. Participants must wear closed-toe shoes and dress to be outdoors and get wet. Archery: ages 9 and up. Kayaking: ages 13 and up\, must be able to swim. Canoes will be available for families with small children. Fishing: all ages\, current Ohio fishing license required for adults. Meet at Maple Shelter.
URL:https://www.summitmetroparks.org/program-events/recreation-open-house-2/
LOCATION:MF/Lake Area\, 521 S. River Rd.\, Munroe Falls\, OH\, 44262\, United States
CATEGORIES:Recreation
ATTACH;FMTTYPE=image/jpeg:https://www.summitmetroparks.org/wp-content/uploads/event-image-mf-lake.jpg
END:VEVENT
BEGIN:VEVENT
DTSTART;TZID=America/New_York:20250920T160000
DTEND;TZID=America/New_York:20250921T110000
DTSTAMP:20260425T083951
CREATED:20250506T203611Z
LAST-MODIFIED:20250603T190629Z
UID:10004454-1758384000-1758452400@www.summitmetroparks.org
SUMMARY:Tent Camping for Adults
DESCRIPTION:Join naturalists for an active overnight tent camping experience. We’ll be hiking\, cooking and adventuring as a group. Recreational activities may include fishing\, orienteering and yard games. Please bring your own camping equipment\, including sleeping gear\, toiletries\, snacks and a chair. No gear? No problem: Request a camping kit with essentials during registration\, available while supplies last. Registration is required and begins 8/28.
URL:https://www.summitmetroparks.org/program-events/tent-camping-for-adults-2/
LOCATION:FR/Brushwood Area\, 4955 Townsend Rd.\, Richfield\, OH\, 44286\, United States
CATEGORIES:Recreation
ATTACH;FMTTYPE=image/jpeg:https://www.summitmetroparks.org/wp-content/uploads/camping-program.jpg
END:VEVENT
END:VCALENDAR