BEGIN:VCALENDAR
VERSION:2.0
PRODID:-//Summit Metro Parks - ECPv6.15.20//NONSGML v1.0//EN
CALSCALE:GREGORIAN
METHOD:PUBLISH
X-WR-CALNAME:Summit Metro Parks
X-ORIGINAL-URL:https://www.summitmetroparks.org
X-WR-CALDESC:Events for Summit Metro Parks
REFRESH-INTERVAL;VALUE=DURATION:PT1H
X-Robots-Tag:noindex
X-PUBLISHED-TTL:PT1H
BEGIN:VTIMEZONE
TZID:America/New_York
BEGIN:DAYLIGHT
TZOFFSETFROM:-0500
TZOFFSETTO:-0400
TZNAME:EDT
DTSTART:20240310T070000
END:DAYLIGHT
BEGIN:STANDARD
TZOFFSETFROM:-0400
TZOFFSETTO:-0500
TZNAME:EST
DTSTART:20241103T060000
END:STANDARD
BEGIN:DAYLIGHT
TZOFFSETFROM:-0500
TZOFFSETTO:-0400
TZNAME:EDT
DTSTART:20250309T070000
END:DAYLIGHT
BEGIN:STANDARD
TZOFFSETFROM:-0400
TZOFFSETTO:-0500
TZNAME:EST
DTSTART:20251102T060000
END:STANDARD
BEGIN:DAYLIGHT
TZOFFSETFROM:-0500
TZOFFSETTO:-0400
TZNAME:EDT
DTSTART:20260308T070000
END:DAYLIGHT
BEGIN:STANDARD
TZOFFSETFROM:-0400
TZOFFSETTO:-0500
TZNAME:EST
DTSTART:20261101T060000
END:STANDARD
END:VTIMEZONE
BEGIN:VEVENT
DTSTART;TZID=America/New_York:20250910T103000
DTEND;TZID=America/New_York:20250910T113000
DTSTAMP:20260426T000350
CREATED:20250507T134243Z
LAST-MODIFIED:20250512T143628Z
UID:10004478-1757500200-1757503800@www.summitmetroparks.org
SUMMARY:Kinderealm: Fishies
DESCRIPTION:Children ages 3 to 5 and their adult companions can get hooked and learn all about our fishy friends! We will be learning with a story\, craft\, and fun activities. Please make arrangements for younger children unable to remain in infants seats or strollers. Registration is required and begins 9/3.
URL:https://www.summitmetroparks.org/program-events/kinderealm-fishies-2/
LOCATION:MF/Shady Shelter\, 521 S. River Rd.\, Munroe Falls\, OH\, 44262\, United States
CATEGORIES:Nature Education
ATTACH;FMTTYPE=image/jpeg:https://www.summitmetroparks.org/wp-content/uploads/Event-Image-Fish.jpg
END:VEVENT
BEGIN:VEVENT
DTSTART;TZID=America/New_York:20250917T103000
DTEND;TZID=America/New_York:20250917T113000
DTSTAMP:20260426T000350
CREATED:20250507T135134Z
LAST-MODIFIED:20250710T133151Z
UID:10004482-1758105000-1758108600@www.summitmetroparks.org
SUMMARY:Kinderealm: Fishies
DESCRIPTION:Children 3 to 5 and their adult companions can get hooked and learn all about our fishy friends! We will be learning with a story\, craft and fun activities. Please make arrangements for younger children unable to remain in infants seats or strollers. Registration is required and begins 9/3.
URL:https://www.summitmetroparks.org/program-events/kinderealm-fishies-3/
LOCATION:FR/Brushwood Area\, 4955 Townsend Rd.\, Richfield\, OH\, 44286\, United States
CATEGORIES:Nature Education
ATTACH;FMTTYPE=image/jpeg:https://www.summitmetroparks.org/wp-content/uploads/Event-Image-Fish.jpg
END:VEVENT
BEGIN:VEVENT
DTSTART;TZID=America/New_York:20250924T103000
DTEND;TZID=America/New_York:20250924T113000
DTSTAMP:20260426T000350
CREATED:20250506T194758Z
LAST-MODIFIED:20250722T152604Z
UID:10004440-1758709800-1758713400@www.summitmetroparks.org
SUMMARY:Kinderealm: Fishies
DESCRIPTION:Children 3 to 5 and their adult companions can get hooked and learn all about our fishy friends! We will be learning with a story\, craft and fun activities. Please make arrangements for younger children unable to remain in infant seats or strollers. Registration is required and begins 9/3.
URL:https://www.summitmetroparks.org/program-events/kinderealm-fishies/
LOCATION:OH
CATEGORIES:Nature Education
ATTACH;FMTTYPE=image/jpeg:https://www.summitmetroparks.org/wp-content/uploads/Event-Image-Fish.jpg
END:VEVENT
END:VCALENDAR