BEGIN:VCALENDAR
VERSION:2.0
PRODID:-//Summit Metro Parks - ECPv6.15.20//NONSGML v1.0//EN
CALSCALE:GREGORIAN
METHOD:PUBLISH
X-WR-CALNAME:Summit Metro Parks
X-ORIGINAL-URL:https://www.summitmetroparks.org
X-WR-CALDESC:Events for Summit Metro Parks
REFRESH-INTERVAL;VALUE=DURATION:PT1H
X-Robots-Tag:noindex
X-PUBLISHED-TTL:PT1H
BEGIN:VTIMEZONE
TZID:America/New_York
BEGIN:DAYLIGHT
TZOFFSETFROM:-0500
TZOFFSETTO:-0400
TZNAME:EDT
DTSTART:20240310T070000
END:DAYLIGHT
BEGIN:STANDARD
TZOFFSETFROM:-0400
TZOFFSETTO:-0500
TZNAME:EST
DTSTART:20241103T060000
END:STANDARD
BEGIN:DAYLIGHT
TZOFFSETFROM:-0500
TZOFFSETTO:-0400
TZNAME:EDT
DTSTART:20250309T070000
END:DAYLIGHT
BEGIN:STANDARD
TZOFFSETFROM:-0400
TZOFFSETTO:-0500
TZNAME:EST
DTSTART:20251102T060000
END:STANDARD
BEGIN:DAYLIGHT
TZOFFSETFROM:-0500
TZOFFSETTO:-0400
TZNAME:EDT
DTSTART:20260308T070000
END:DAYLIGHT
BEGIN:STANDARD
TZOFFSETFROM:-0400
TZOFFSETTO:-0500
TZNAME:EST
DTSTART:20261101T060000
END:STANDARD
END:VTIMEZONE
BEGIN:VEVENT
DTSTART;TZID=America/New_York:20250802T180000
DTEND;TZID=America/New_York:20250802T193000
DTSTAMP:20260425T072014
CREATED:20250304T231859Z
LAST-MODIFIED:20250311T171819Z
UID:10004254-1754157600-1754163000@www.summitmetroparks.org
SUMMARY:Gone Fishin'
DESCRIPTION:Anglers ages 15 and younger can learn the basics of fishing\, then drop a line and see what they catch! Some rods and reels will be available for use. Bait is provided. Adults must supervise their children and must have a current Ohio fishing license if they want to fish.
URL:https://www.summitmetroparks.org/program-events/gone-fishin-14/
LOCATION:LP/Tinkers Creek Area\, 10303 Aurora Hudson Rd.\, Streetsboro\, OH\, 44241\, United States
CATEGORIES:Recreation
ATTACH;FMTTYPE=image/jpeg:https://www.summitmetroparks.org/wp-content/uploads/Event-Image-Fishing-Generic.jpg
END:VEVENT
BEGIN:VEVENT
DTSTART;TZID=America/New_York:20250815T130000
DTEND;TZID=America/New_York:20250815T150000
DTSTAMP:20260425T072014
CREATED:20250303T214741Z
LAST-MODIFIED:20250311T184643Z
UID:10004035-1755262800-1755270000@www.summitmetroparks.org
SUMMARY:Fishing Fridays
DESCRIPTION:Come try your hand at fishing. We’ll provide the rods and bait\, so all you have to do is show up! Anyone over the age of 16 will need a valid Ohio fishing license.
URL:https://www.summitmetroparks.org/program-events/fishing-fridays-6/
LOCATION:SLNC\, 411 Ira Ave.\, Akron\, OH\, 44301\, United States
CATEGORIES:Nature Education,Recreation
ATTACH;FMTTYPE=image/jpeg:https://www.summitmetroparks.org/wp-content/uploads/Event-Image-Fishing-Generic.jpg
END:VEVENT
BEGIN:VEVENT
DTSTART;TZID=America/New_York:20250823T170000
DTEND;TZID=America/New_York:20250823T183000
DTSTAMP:20260425T072014
CREATED:20250228T194809Z
LAST-MODIFIED:20250311T174807Z
UID:10004231-1755968400-1755973800@www.summitmetroparks.org
SUMMARY:Gone Fishin'
DESCRIPTION:Anglers ages 15 and younger can learn the basics of fishing\, then drop a line and see what they catch! Some rods and reels will be available for use. Bait is provided. Adults must supervise their children and must have a current Ohio fishing license if they want to fish.
URL:https://www.summitmetroparks.org/program-events/gone-fishin-11/
LOCATION:MF/Shady Shelter\, 521 S. River Rd.\, Munroe Falls\, OH\, 44262\, United States
CATEGORIES:Recreation
ATTACH;FMTTYPE=image/jpeg:https://www.summitmetroparks.org/wp-content/uploads/Event-Image-Fishing-Generic.jpg
END:VEVENT
BEGIN:VEVENT
DTSTART;TZID=America/New_York:20250824T140000
DTEND;TZID=America/New_York:20250824T153000
DTSTAMP:20260425T072014
CREATED:20250303T213230Z
LAST-MODIFIED:20250311T174834Z
UID:10004182-1756044000-1756049400@www.summitmetroparks.org
SUMMARY:Gone Fishin'
DESCRIPTION:Anglers ages 15 and younger can learn the basics of fishing\, then drop a line and see what they catch! Some rods and reels will be available for use. Bait is provided. Please note: Little Turtle Pond is a youth only fishing site where adults must supervise children.
URL:https://www.summitmetroparks.org/program-events/gone-fishin-13/
LOCATION:F/Little Turtle Pond\, 2400 Harrington Rd.\, Akron\, OH\, 44319\, United States
CATEGORIES:Recreation
ATTACH;FMTTYPE=image/jpeg:https://www.summitmetroparks.org/wp-content/uploads/Event-Image-Fishing-Generic.jpg
END:VEVENT
BEGIN:VEVENT
DTSTART;TZID=America/New_York:20250829T130000
DTEND;TZID=America/New_York:20250829T150000
DTSTAMP:20260425T072014
CREATED:20250303T210309Z
LAST-MODIFIED:20250311T175337Z
UID:10004036-1756472400-1756479600@www.summitmetroparks.org
SUMMARY:Fishing Fridays
DESCRIPTION:Come try your hand at fishing. We’ll provide the rods and bait\, so all you have to do is show up! Anyone over the age of 16 will need a valid Ohio fishing license.
URL:https://www.summitmetroparks.org/program-events/fishing-fridays-3/
LOCATION:SLNC\, 411 Ira Ave.\, Akron\, OH\, 44301\, United States
CATEGORIES:Nature Education,Recreation
ATTACH;FMTTYPE=image/jpeg:https://www.summitmetroparks.org/wp-content/uploads/Event-Image-Fishing-Generic.jpg
END:VEVENT
END:VCALENDAR