BEGIN:VCALENDAR
VERSION:2.0
PRODID:-//Summit Metro Parks - ECPv6.15.20//NONSGML v1.0//EN
CALSCALE:GREGORIAN
METHOD:PUBLISH
X-WR-CALNAME:Summit Metro Parks
X-ORIGINAL-URL:https://www.summitmetroparks.org
X-WR-CALDESC:Events for Summit Metro Parks
REFRESH-INTERVAL;VALUE=DURATION:PT1H
X-Robots-Tag:noindex
X-PUBLISHED-TTL:PT1H
BEGIN:VTIMEZONE
TZID:America/New_York
BEGIN:DAYLIGHT
TZOFFSETFROM:-0500
TZOFFSETTO:-0400
TZNAME:EDT
DTSTART:20250309T070000
END:DAYLIGHT
BEGIN:STANDARD
TZOFFSETFROM:-0400
TZOFFSETTO:-0500
TZNAME:EST
DTSTART:20251102T060000
END:STANDARD
BEGIN:DAYLIGHT
TZOFFSETFROM:-0500
TZOFFSETTO:-0400
TZNAME:EDT
DTSTART:20260308T070000
END:DAYLIGHT
BEGIN:STANDARD
TZOFFSETFROM:-0400
TZOFFSETTO:-0500
TZNAME:EST
DTSTART:20261101T060000
END:STANDARD
BEGIN:DAYLIGHT
TZOFFSETFROM:-0500
TZOFFSETTO:-0400
TZNAME:EDT
DTSTART:20270314T070000
END:DAYLIGHT
BEGIN:STANDARD
TZOFFSETFROM:-0400
TZOFFSETTO:-0500
TZNAME:EST
DTSTART:20271107T060000
END:STANDARD
END:VTIMEZONE
BEGIN:VEVENT
DTSTART;TZID=America/New_York:20260828T170000
DTEND;TZID=America/New_York:20260828T183000
DTSTAMP:20260425T154235
CREATED:20260302T191707Z
LAST-MODIFIED:20260316T180911Z
UID:10005086-1787936400-1787941800@www.summitmetroparks.org
SUMMARY:Gone Fishin'
DESCRIPTION:Welcome all ages to fishing! Youth ages 15 and younger can learn the basics of fishing\, then drop a line and see what they can catch! Some rods and reels will be available for use. Bait is provided. Adults must supervise their children and must have a current Ohio fishing license if they want to fish.
URL:https://www.summitmetroparks.org/program-events/gone-fishin-18/
LOCATION:FR/Brushwood Area\, 4955 Townsend Rd.\, Richfield\, OH\, 44286\, United States
CATEGORIES:Recreation
ATTACH;FMTTYPE=image/jpeg:https://www.summitmetroparks.org/wp-content/uploads/Event-Image-Fishing-Generic.jpg
END:VEVENT
END:VCALENDAR