BEGIN:VCALENDAR
VERSION:2.0
PRODID:-//Summit Metro Parks - ECPv6.15.20//NONSGML v1.0//EN
CALSCALE:GREGORIAN
METHOD:PUBLISH
X-WR-CALNAME:Summit Metro Parks
X-ORIGINAL-URL:https://www.summitmetroparks.org
X-WR-CALDESC:Events for Summit Metro Parks
REFRESH-INTERVAL;VALUE=DURATION:PT1H
X-Robots-Tag:noindex
X-PUBLISHED-TTL:PT1H
BEGIN:VTIMEZONE
TZID:America/New_York
BEGIN:DAYLIGHT
TZOFFSETFROM:-0500
TZOFFSETTO:-0400
TZNAME:EDT
DTSTART:20230312T070000
END:DAYLIGHT
BEGIN:STANDARD
TZOFFSETFROM:-0400
TZOFFSETTO:-0500
TZNAME:EST
DTSTART:20231105T060000
END:STANDARD
BEGIN:DAYLIGHT
TZOFFSETFROM:-0500
TZOFFSETTO:-0400
TZNAME:EDT
DTSTART:20240310T070000
END:DAYLIGHT
BEGIN:STANDARD
TZOFFSETFROM:-0400
TZOFFSETTO:-0500
TZNAME:EST
DTSTART:20241103T060000
END:STANDARD
BEGIN:DAYLIGHT
TZOFFSETFROM:-0500
TZOFFSETTO:-0400
TZNAME:EDT
DTSTART:20250309T070000
END:DAYLIGHT
BEGIN:STANDARD
TZOFFSETFROM:-0400
TZOFFSETTO:-0500
TZNAME:EST
DTSTART:20251102T060000
END:STANDARD
END:VTIMEZONE
BEGIN:VEVENT
DTSTART;TZID=America/New_York:20240421T103000
DTEND;TZID=America/New_York:20240421T103000
DTSTAMP:20260420T063130
CREATED:20240711T193203Z
LAST-MODIFIED:20240711T193203Z
UID:10003349-1713695400-1713695400@www.summitmetroparks.org
SUMMARY:Earth Day Wildflower Walk
DESCRIPTION:Join a naturalist as we hike Ledges Trail in celebration of Earth Day! Along the way\, we’ll discover the fascinating world of colorful\, delicate spring wildflowers and the animals that depend on them.
URL:https://www.summitmetroparks.org/program-events/earth-day-wildflower-walk/
LOCATION:OH
CATEGORIES:Nature Education
END:VEVENT
BEGIN:VEVENT
DTSTART;TZID=America/New_York:20240421T073000
DTEND;TZID=America/New_York:20240421T073000
DTSTAMP:20260420T063130
CREATED:20240711T193143Z
LAST-MODIFIED:20240711T193143Z
UID:10003337-1713684600-1713684600@www.summitmetroparks.org
SUMMARY:Early Spring Migrant Bird Walk
DESCRIPTION:Hike the river corridor in search of early migrating songbirds and discover why we should be listening to the “canaries in the coal mine.” Please bring binoculars and a bird guide.
URL:https://www.summitmetroparks.org/program-events/early-spring-migrant-bird-walk/
LOCATION:OH
CATEGORIES:Nature Education
END:VEVENT
BEGIN:VEVENT
DTSTART;TZID=America/New_York:20240420T120000
DTEND;TZID=America/New_York:20240420T120000
DTSTAMP:20260420T063130
CREATED:20240711T193138Z
LAST-MODIFIED:20240711T193138Z
UID:10003335-1713614400-1713614400@www.summitmetroparks.org
SUMMARY:Bird Nerds: Songs n' Calls
DESCRIPTION:Newbies and experts alike are welcome to join us in this lively series for a fun\, approachable discussion on a new bird topic each month. This month\, we will get a little noisy and discover how birds talk to each other.
URL:https://www.summitmetroparks.org/program-events/bird-nerds-songs-n-calls/
LOCATION:OH
CATEGORIES:Nature Education
END:VEVENT
BEGIN:VEVENT
DTSTART;TZID=America/New_York:20240420T090000
DTEND;TZID=America/New_York:20240420T090000
DTSTAMP:20260420T063130
CREATED:20240711T193126Z
LAST-MODIFIED:20240711T193126Z
UID:10003329-1713603600-1713603600@www.summitmetroparks.org
SUMMARY:Birds & Blooms Hike
DESCRIPTION:Join us on a hike through Deep Lock Quarry Metro Park\, designated as an Important Bird Area\, in search of songbirds and spring blooms. Binoculars and field guides are recommended.
URL:https://www.summitmetroparks.org/program-events/birds-blooms-hike/
LOCATION:OH
CATEGORIES:Nature Education
END:VEVENT
END:VCALENDAR