BEGIN:VCALENDAR
VERSION:2.0
PRODID:-//Summit Metro Parks - ECPv6.15.20//NONSGML v1.0//EN
CALSCALE:GREGORIAN
METHOD:PUBLISH
X-WR-CALNAME:Summit Metro Parks
X-ORIGINAL-URL:https://www.summitmetroparks.org
X-WR-CALDESC:Events for Summit Metro Parks
REFRESH-INTERVAL;VALUE=DURATION:PT1H
X-Robots-Tag:noindex
X-PUBLISHED-TTL:PT1H
BEGIN:VTIMEZONE
TZID:America/New_York
BEGIN:DAYLIGHT
TZOFFSETFROM:-0500
TZOFFSETTO:-0400
TZNAME:EDT
DTSTART:20230312T070000
END:DAYLIGHT
BEGIN:STANDARD
TZOFFSETFROM:-0400
TZOFFSETTO:-0500
TZNAME:EST
DTSTART:20231105T060000
END:STANDARD
BEGIN:DAYLIGHT
TZOFFSETFROM:-0500
TZOFFSETTO:-0400
TZNAME:EDT
DTSTART:20240310T070000
END:DAYLIGHT
BEGIN:STANDARD
TZOFFSETFROM:-0400
TZOFFSETTO:-0500
TZNAME:EST
DTSTART:20241103T060000
END:STANDARD
BEGIN:DAYLIGHT
TZOFFSETFROM:-0500
TZOFFSETTO:-0400
TZNAME:EDT
DTSTART:20250309T070000
END:DAYLIGHT
BEGIN:STANDARD
TZOFFSETFROM:-0400
TZOFFSETTO:-0500
TZNAME:EST
DTSTART:20251102T060000
END:STANDARD
BEGIN:DAYLIGHT
TZOFFSETFROM:-0500
TZOFFSETTO:-0400
TZNAME:EDT
DTSTART:20260308T070000
END:DAYLIGHT
BEGIN:STANDARD
TZOFFSETFROM:-0400
TZOFFSETTO:-0500
TZNAME:EST
DTSTART:20261101T060000
END:STANDARD
BEGIN:DAYLIGHT
TZOFFSETFROM:-0500
TZOFFSETTO:-0400
TZNAME:EDT
DTSTART:20270314T070000
END:DAYLIGHT
BEGIN:STANDARD
TZOFFSETFROM:-0400
TZOFFSETTO:-0500
TZNAME:EST
DTSTART:20271107T060000
END:STANDARD
END:VTIMEZONE
BEGIN:VEVENT
DTSTART;TZID=America/New_York:20260212T183000
DTEND;TZID=America/New_York:20260212T203000
DTSTAMP:20260424T153023
CREATED:20250822T181718Z
LAST-MODIFIED:20260212T164739Z
UID:10004649-1770921000-1770928200@www.summitmetroparks.org
SUMMARY:Let's Get Crafty: Nature Embroidery
DESCRIPTION:Start an embroidery project with park staff while learning about the wildlife in your creation\, then finish the project at your own pace. Guidance and supplies are included in the registration fee. For crafty people 16 and older. Cost: $10/person. Registration is required and begins 1/1. All sales are final.
URL:https://www.summitmetroparks.org/program-events/lets-get-crafty-nature-embroidery-6/
LOCATION:FASN/Visitors Center\, 1828 Smith Rd.\, Akron\, OH\, 44313\, United States
CATEGORIES:Art,Nature Education
ATTACH;FMTTYPE=image/jpeg:https://www.summitmetroparks.org/wp-content/uploads/event-image-balloflex.jpg
END:VEVENT
BEGIN:VEVENT
DTSTART;TZID=America/New_York:20250928T140000
DTEND;TZID=America/New_York:20250928T160000
DTSTAMP:20260424T153023
CREATED:20250506T201313Z
LAST-MODIFIED:20250729T175837Z
UID:10004457-1759068000-1759075200@www.summitmetroparks.org
SUMMARY:Let's Get Crafty: Nature Embroidery
DESCRIPTION:Start an embroidery project with park staff while learning about the wildlife in your creation\, then finish the project at your own pace. Guidance and supplies are included in the registration fee. For crafty people 16 and older. Cost: $10/person. Registration is required and begins 9/18.
URL:https://www.summitmetroparks.org/program-events/lets-get-crafty-nature-embroidery-4/
LOCATION:FASN/Visitors Center\, 1828 Smith Rd.\, Akron\, OH\, 44313\, United States
CATEGORIES:Art
ATTACH;FMTTYPE=image/jpeg:https://www.summitmetroparks.org/wp-content/uploads/event-image-embroidery.jpg
END:VEVENT
BEGIN:VEVENT
DTSTART;TZID=America/New_York:20250928T100000
DTEND;TZID=America/New_York:20250928T120000
DTSTAMP:20260424T153023
CREATED:20250506T201414Z
LAST-MODIFIED:20250729T175608Z
UID:10004456-1759053600-1759060800@www.summitmetroparks.org
SUMMARY:Let's Get Crafty: Nature Embroidery
DESCRIPTION:Start an embroidery project with park staff while learning about the wildlife in your creation\, then finish the project at your own pace. Guidance and supplies are included in the registration fee. For crafty people 16 and older. Cost is $10/person. Registration is required and begins 9/18.
URL:https://www.summitmetroparks.org/program-events/lets-get-crafty-nature-embroidery-5/
LOCATION:FASN/Visitors Center\, 1828 Smith Rd.\, Akron\, OH\, 44313\, United States
CATEGORIES:Art
ATTACH;FMTTYPE=image/jpeg:https://www.summitmetroparks.org/wp-content/uploads/event-image-embroidery.jpg
END:VEVENT
BEGIN:VEVENT
DTSTART;TZID=America/New_York:20250703T183000
DTEND;TZID=America/New_York:20250703T203000
DTSTAMP:20260424T153023
CREATED:20250228T204214Z
LAST-MODIFIED:20250403T125749Z
UID:10004272-1751567400-1751574600@www.summitmetroparks.org
SUMMARY:Let's Get Crafty: Nature Embroidery
DESCRIPTION:Start an embroidery project with park staff while learning about the wildlife in your creation\, then finish the project at your own pace. Guidance and supplies are included in the registration fee. For crafty people 16 and older. Cost is $10/person. Registration is required and begins 6/25.
URL:https://www.summitmetroparks.org/program-events/lets-get-crafty-nature-embroidery-3/
LOCATION:FASN/Nature Realm\, 1828 Smith Rd.\, Akron\, OH\, 44313\, United States
CATEGORIES:Art
ATTACH;FMTTYPE=image/jpeg:https://www.summitmetroparks.org/wp-content/uploads/event-image-embroidery.jpg
END:VEVENT
BEGIN:VEVENT
DTSTART;TZID=America/New_York:20250327T183000
DTEND;TZID=America/New_York:20250327T203000
DTSTAMP:20260424T153023
CREATED:20241031T180109Z
LAST-MODIFIED:20250223T165023Z
UID:10003890-1743100200-1743107400@www.summitmetroparks.org
SUMMARY:Let's Get Crafty: Nature Embroidery
DESCRIPTION:Start an embroidery project while learning about the wildlife in your creation\, then finish the project at your own pace. Guidance and supplies are included in the registration fee. For people 16 and older. Cost: $10/person. Registration is required and begins on 3/20.
URL:https://www.summitmetroparks.org/program-events/lets-get-crafty-nature-embroidery-2/
LOCATION:FR/Brushwood Area\, 4955 Townsend Rd.\, Richfield\, OH\, 44286\, United States
CATEGORIES:Art,Nature Education
ATTACH;FMTTYPE=image/jpeg:https://www.summitmetroparks.org/wp-content/uploads/event-image-embroidery.jpg
END:VEVENT
BEGIN:VEVENT
DTSTART;TZID=America/New_York:20250130T183000
DTEND;TZID=America/New_York:20250130T203000
DTSTAMP:20260424T153023
CREATED:20240830T140728Z
LAST-MODIFIED:20250126T163322Z
UID:10003630-1738261800-1738269000@www.summitmetroparks.org
SUMMARY:Let's Get Crafty: Nature Embroidery
DESCRIPTION:Start an embroidery project with park staff while learning about the wildlife in your creation\, then finish the project at your own pace. Guidance and supplies are included in the registration fee. For crafty people 16 and older. Cost is $10/person. Registration is required and begins on 1/23.
URL:https://www.summitmetroparks.org/program-events/lets-get-crafty/
LOCATION:LP/Nature Center\, 9999 Liberty Rd.\, Twinsburg\, OH\, 44087\, United States
CATEGORIES:Art
ATTACH;FMTTYPE=image/jpeg:https://www.summitmetroparks.org/wp-content/uploads/event-image-embroidery.jpg
END:VEVENT
BEGIN:VEVENT
DTSTART;TZID=America/New_York:20240926T183000
DTEND;TZID=America/New_York:20240926T203000
DTSTAMP:20260424T153023
CREATED:20240729T192257Z
LAST-MODIFIED:20240805T194740Z
UID:10003496-1727375400-1727382600@www.summitmetroparks.org
SUMMARY:Let's Get Crafty: Nature Embroidery
DESCRIPTION:Start an embroidery project with park staff while learning about the wildlife in your creation\, then finish the project at your own pace. Guidance and supplies are included in the registration fee. For crafty people 16 and older. Cost is $10/person. Registration is required and begins on 9/20.
URL:https://www.summitmetroparks.org/program-events/lets-get-crafty-nature-embroidery/
LOCATION:FASN/Visitors Center\, 1828 Smith Rd.\, Akron\, OH\, 44313\, United States
CATEGORIES:Art
ATTACH;FMTTYPE=image/jpeg:https://www.summitmetroparks.org/wp-content/uploads/event-image-embroidery.jpg
END:VEVENT
END:VCALENDAR