BEGIN:VCALENDAR
VERSION:2.0
PRODID:-//Summit Metro Parks - ECPv6.15.20//NONSGML v1.0//EN
CALSCALE:GREGORIAN
METHOD:PUBLISH
X-WR-CALNAME:Summit Metro Parks
X-ORIGINAL-URL:https://www.summitmetroparks.org
X-WR-CALDESC:Events for Summit Metro Parks
REFRESH-INTERVAL;VALUE=DURATION:PT1H
X-Robots-Tag:noindex
X-PUBLISHED-TTL:PT1H
BEGIN:VTIMEZONE
TZID:America/New_York
BEGIN:DAYLIGHT
TZOFFSETFROM:-0500
TZOFFSETTO:-0400
TZNAME:EDT
DTSTART:20230312T070000
END:DAYLIGHT
BEGIN:STANDARD
TZOFFSETFROM:-0400
TZOFFSETTO:-0500
TZNAME:EST
DTSTART:20231105T060000
END:STANDARD
BEGIN:DAYLIGHT
TZOFFSETFROM:-0500
TZOFFSETTO:-0400
TZNAME:EDT
DTSTART:20240310T070000
END:DAYLIGHT
BEGIN:STANDARD
TZOFFSETFROM:-0400
TZOFFSETTO:-0500
TZNAME:EST
DTSTART:20241103T060000
END:STANDARD
BEGIN:DAYLIGHT
TZOFFSETFROM:-0500
TZOFFSETTO:-0400
TZNAME:EDT
DTSTART:20250309T070000
END:DAYLIGHT
BEGIN:STANDARD
TZOFFSETFROM:-0400
TZOFFSETTO:-0500
TZNAME:EST
DTSTART:20251102T060000
END:STANDARD
END:VTIMEZONE
BEGIN:VEVENT
DTSTART;TZID=America/New_York:20240525T110000
DTEND;TZID=America/New_York:20240525T110000
DTSTAMP:20260425T191945
CREATED:20240711T192957Z
LAST-MODIFIED:20240711T192957Z
UID:10003274-1716634800-1716634800@www.summitmetroparks.org
SUMMARY:Gone Fishin'
DESCRIPTION:Anglers ages 15 and younger can learn the basics of fishing\, then drop a line and see what they catch! Some rods and reels will be available for use. Bait is provided. Adults must supervise their children and must have a current Ohio fishing license if they want to fish.
URL:https://www.summitmetroparks.org/program-events/gone-fishin-6/
LOCATION:OH
CATEGORIES:Recreation
END:VEVENT
BEGIN:VEVENT
DTSTART;TZID=America/New_York:20240524T160000
DTEND;TZID=America/New_York:20240524T160000
DTSTAMP:20260425T191945
CREATED:20240711T192919Z
LAST-MODIFIED:20240711T192919Z
UID:10003255-1716566400-1716566400@www.summitmetroparks.org
SUMMARY:Tent Camping for Women
DESCRIPTION:Ladies 14 and older are invited to join naturalists for a fun and relaxing overnight tent camping experience. We’ll be hiking\, cooking\, crafting and fishing as a group. Please bring your own camping equipment\, including sleeping gear\, toiletries\, snacks and a chair. No gear? No problem! Request a free camping kit with essentials during registration\, available while supplies last. Minors must be accompanied by a guardian.
URL:https://www.summitmetroparks.org/program-events/tent-camping-for-women/
LOCATION:OH
CATEGORIES:Recreation
END:VEVENT
BEGIN:VEVENT
DTSTART;TZID=America/New_York:20240518T090000
DTEND;TZID=America/New_York:20240518T090000
DTSTAMP:20260425T191945
CREATED:20240711T192602Z
LAST-MODIFIED:20240711T192602Z
UID:10003192-1716022800-1716022800@www.summitmetroparks.org
SUMMARY:Let’s Move Summit County
DESCRIPTION:Let’s Move Summit County is an initiative encouraging children and families to lead active\, healthy lifestyles. Move with us as we ride a 6-mile\, out-and-back route along the Towpath Trail. Please bring your own bicycle and helmet. Helmets are required to ride. Please arrive 20 minutes early to register.
URL:https://www.summitmetroparks.org/program-events/lets-move-summit-county/
LOCATION:OH
CATEGORIES:Recreation
END:VEVENT
BEGIN:VEVENT
DTSTART;TZID=America/New_York:20240516T100000
DTEND;TZID=America/New_York:20240516T100000
DTSTAMP:20260425T191945
CREATED:20240711T192602Z
LAST-MODIFIED:20240711T192602Z
UID:10003193-1715853600-1715853600@www.summitmetroparks.org
SUMMARY:Senior Cycling
DESCRIPTION:Join like-minded senior Summit Metro Parks supporters as we ride and explore various trails. We will gather to socialize and determine the route\, distance and pace before rolling out. Expect to ride at least 10 to 12 miles at a casual (10-12 mph) pace. Please bring your own helmet and bicycle. Helmets are required to participate. Please arrive 15 minutes early to check in.
URL:https://www.summitmetroparks.org/program-events/senior-cycling-10/
LOCATION:OH
CATEGORIES:Recreation
END:VEVENT
BEGIN:VEVENT
DTSTART;TZID=America/New_York:20240515T183000
DTEND;TZID=America/New_York:20240515T183000
DTSTAMP:20260425T191945
CREATED:20240711T192603Z
LAST-MODIFIED:20240711T192603Z
UID:10003194-1715797800-1715797800@www.summitmetroparks.org
SUMMARY:National Ride of Silence
DESCRIPTION:Join us to participate in the national Ride of Silence to honor the lives of cyclists who have been killed or injured while cycling on public roadways. Following the ride\, we will conduct skills and cycling safety training and helmet fittings. Please bring your own bicycle and helmet. Helmets are required to ride. Following check in\, the ride will depart at 7 p.m.
URL:https://www.summitmetroparks.org/program-events/national-ride-of-silence/
LOCATION:OH
CATEGORIES:Recreation
END:VEVENT
BEGIN:VEVENT
DTSTART;TZID=America/New_York:20240511T140000
DTEND;TZID=America/New_York:20240511T140000
DTSTAMP:20260425T191945
CREATED:20240711T193104Z
LAST-MODIFIED:20240711T193104Z
UID:10003313-1715436000-1715436000@www.summitmetroparks.org
SUMMARY:Summit Lake Bike Ride
DESCRIPTION:Enjoy spring along the Towpath Trail with a leisurely paced\, 15-mile bike ride to Wolf Creek Trailhead and back. Participants must bring their own bikes and helmets are required. Minors must be accompanied by adults.
URL:https://www.summitmetroparks.org/program-events/summit-lake-bike-ride/
LOCATION:OH
CATEGORIES:Recreation
END:VEVENT
BEGIN:VEVENT
DTSTART;TZID=America/New_York:20240511T100000
DTEND;TZID=America/New_York:20240511T100000
DTSTAMP:20260425T191945
CREATED:20240711T192901Z
LAST-MODIFIED:20240711T192901Z
UID:10003244-1715421600-1715421600@www.summitmetroparks.org
SUMMARY:Gone Fishin'
DESCRIPTION:Anglers ages 15 and younger can learn the basics of fishing\, then drop a line and see what they catch! Some rods and reels will be available for use. Bait is provided. Adults must supervise their children and must have a current Ohio fishing license if they want to fish.
URL:https://www.summitmetroparks.org/program-events/gone-fishin-5/
LOCATION:OH
CATEGORIES:Recreation
END:VEVENT
BEGIN:VEVENT
DTSTART;TZID=America/New_York:20240510T160000
DTEND;TZID=America/New_York:20240510T160000
DTSTAMP:20260425T191945
CREATED:20240711T193004Z
LAST-MODIFIED:20240711T193004Z
UID:10003277-1715356800-1715356800@www.summitmetroparks.org
SUMMARY:Campfire Cooking: What's for Dinner?
DESCRIPTION:Dutch oven cooking over a campfire can be as simple or complex as you choose. We'll demonstrate techniques and share recipes to create delicious and easy entrees! Help us cook\, then taste the results (while supplies last).
URL:https://www.summitmetroparks.org/program-events/campfire-cooking-whats-for-dinner/
LOCATION:OH
CATEGORIES:Recreation
END:VEVENT
BEGIN:VEVENT
DTSTART;TZID=America/New_York:20240504T130000
DTEND;TZID=America/New_York:20240504T130000
DTSTAMP:20260425T191945
CREATED:20240711T192603Z
LAST-MODIFIED:20240711T192603Z
UID:10003195-1714827600-1714827600@www.summitmetroparks.org
SUMMARY:May the Fourth Bike Ride
DESCRIPTION:Bring the family to celebrate May the Fourth with a Star Wars themed bike ride. Explore 6 to 12 miles of Freedom Trail while wearing your best cycling-safe Star Wars costume. Please bring your own helmet and bicycle. Helmets are required to ride. Please arrive 15 minutes early to check in.
URL:https://www.summitmetroparks.org/program-events/may-the-fourth-bike-ride/
LOCATION:OH
CATEGORIES:Recreation
END:VEVENT
BEGIN:VEVENT
DTSTART;TZID=America/New_York:20240502T100000
DTEND;TZID=America/New_York:20240502T100000
DTSTAMP:20260425T191945
CREATED:20240711T191611Z
LAST-MODIFIED:20250124T155158Z
UID:10003186-1714644000-1714644000@www.summitmetroparks.org
SUMMARY:Senior Cycling
DESCRIPTION:Join like-minded senior Summit Metro Parks supporters as we ride and explore various trails. We will gather to socialize and determine the route\, distance and pace before rolling out. Expect to ride at least 10 to 12 miles at a casual (10-12 mph) pace. Please bring your own helmet and bicycle. Helmets are required to participate. Please arrive 15 minutes early to check in.
URL:https://www.summitmetroparks.org/program-events/senior-cycling-7/
LOCATION:OH
CATEGORIES:Recreation
END:VEVENT
END:VCALENDAR