BEGIN:VCALENDAR
VERSION:2.0
PRODID:-//Summit Metro Parks - ECPv6.15.20//NONSGML v1.0//EN
CALSCALE:GREGORIAN
METHOD:PUBLISH
X-ORIGINAL-URL:https://www.summitmetroparks.org
X-WR-CALDESC:Events for Summit Metro Parks
REFRESH-INTERVAL;VALUE=DURATION:PT1H
X-Robots-Tag:noindex
X-PUBLISHED-TTL:PT1H
BEGIN:VTIMEZONE
TZID:America/New_York
BEGIN:DAYLIGHT
TZOFFSETFROM:-0500
TZOFFSETTO:-0400
TZNAME:EDT
DTSTART:20240310T070000
END:DAYLIGHT
BEGIN:STANDARD
TZOFFSETFROM:-0400
TZOFFSETTO:-0500
TZNAME:EST
DTSTART:20241103T060000
END:STANDARD
BEGIN:DAYLIGHT
TZOFFSETFROM:-0500
TZOFFSETTO:-0400
TZNAME:EDT
DTSTART:20250309T070000
END:DAYLIGHT
BEGIN:STANDARD
TZOFFSETFROM:-0400
TZOFFSETTO:-0500
TZNAME:EST
DTSTART:20251102T060000
END:STANDARD
BEGIN:DAYLIGHT
TZOFFSETFROM:-0500
TZOFFSETTO:-0400
TZNAME:EDT
DTSTART:20260308T070000
END:DAYLIGHT
BEGIN:STANDARD
TZOFFSETFROM:-0400
TZOFFSETTO:-0500
TZNAME:EST
DTSTART:20261101T060000
END:STANDARD
BEGIN:DAYLIGHT
TZOFFSETFROM:-0500
TZOFFSETTO:-0400
TZNAME:EDT
DTSTART:20270314T070000
END:DAYLIGHT
BEGIN:STANDARD
TZOFFSETFROM:-0400
TZOFFSETTO:-0500
TZNAME:EST
DTSTART:20271107T060000
END:STANDARD
END:VTIMEZONE
BEGIN:VEVENT
DTSTART;TZID=America/New_York:20260131T183000
DTEND;TZID=America/New_York:20260131T200000
DTSTAMP:20260422T165144
CREATED:20250822T141933Z
LAST-MODIFIED:20250908T152241Z
UID:10004622-1769884200-1769889600@www.summitmetroparks.org
SUMMARY:Travel to Iceland
DESCRIPTION:Discover the history\, geology\, culture and the similarities Ohio has with this scenic country nestled in the Atlantic. Iceland awaits!
URL:https://www.summitmetroparks.org/program-events/travel-to-iceland/
LOCATION:FASN/Visitors Center\, 1828 Smith Rd.\, Akron\, OH\, 44313\, United States
CATEGORIES:Educational,Good For All Ages,History,Nature Education,Senior Friendly
ATTACH;FMTTYPE=image/jpeg:https://www.summitmetroparks.org/wp-content/uploads/Event-Image-FASN.jpg
END:VEVENT
BEGIN:VEVENT
DTSTART;TZID=America/New_York:20260119T100000
DTEND;TZID=America/New_York:20260119T120000
DTSTAMP:20260422T165144
CREATED:20250825T171636Z
LAST-MODIFIED:20251209T165057Z
UID:10004711-1768816800-1768824000@www.summitmetroparks.org
SUMMARY:MLK Day of Service — Seed Balls
DESCRIPTION:Martin Luther King Jr. continues to inspire communities with the work he did over half a century ago. In his honor we will be making seed balls with native\, pollinator friendly plant species that can be planted during spring in areas lacking vegetation. Dress for a mess. Please bring an egg carton to transport seed balls. Registration is required and begins on 12/1.
URL:https://www.summitmetroparks.org/program-events/mlk-day-of-service-seed-balls/
LOCATION:SLNC\, 411 Ira Ave.\, Akron\, OH\, 44301\, United States
CATEGORIES:Eco-friendly Home & Gardens,History,Wild Back Yards
ATTACH;FMTTYPE=image/jpeg:https://www.summitmetroparks.org/wp-content/uploads/Event-Image-WBY.jpg
END:VEVENT
BEGIN:VEVENT
DTSTART;TZID=America/New_York:20260117T183000
DTEND;TZID=America/New_York:20260117T200000
DTSTAMP:20260422T165144
CREATED:20250822T141629Z
LAST-MODIFIED:20250925T154736Z
UID:10004621-1768674600-1768680000@www.summitmetroparks.org
SUMMARY:Poe in the Park
DESCRIPTION:Celebrate Edgar Allan Poe’s birthday and learn about his literary contributions and a famous Ohioan who was a Poe fan. We will also listen to readings of several of Poe’s most famous works.
URL:https://www.summitmetroparks.org/program-events/poe-in-the-park-2/
LOCATION:FASN/Visitors Center\, 1828 Smith Rd.\, Akron\, OH\, 44313\, United States
CATEGORIES:Educational,History,Music/Performance,Senior Friendly
ATTACH;FMTTYPE=image/jpeg:https://www.summitmetroparks.org/wp-content/uploads/Event-Image-Book.jpg
END:VEVENT
BEGIN:VEVENT
DTSTART;TZID=America/New_York:20260103T190000
DTEND;TZID=America/New_York:20260103T210000
DTSTAMP:20260422T165144
CREATED:20250825T162842Z
LAST-MODIFIED:20250908T151742Z
UID:10004719-1767466800-1767474000@www.summitmetroparks.org
SUMMARY:Howling at the Moon
DESCRIPTION:Join a naturalist as we enjoy the winter glow of the Wolf Moon. We will walk the 1.2-mile paved Coyote Run Trail and discuss facts\, myths and lore about the moon. At the end of the hike\, we will warm up with hot chocolate and a crackling fire in the nature center.
URL:https://www.summitmetroparks.org/program-events/howling-at-the-moon/
LOCATION:LP/Nature Center\, 9999 Liberty Rd.\, Twinsburg\, OH\, 44087\, United States
CATEGORIES:History,Nature Education
ATTACH;FMTTYPE=image/jpeg:https://www.summitmetroparks.org/wp-content/uploads/event-image-full-moon.jpg
END:VEVENT
BEGIN:VEVENT
DTSTART;TZID=America/New_York:20251221T183000
DTEND;TZID=America/New_York:20251221T203000
DTSTAMP:20260422T165144
CREATED:20250623T151328Z
LAST-MODIFIED:20250702T173719Z
UID:10004590-1766341800-1766349000@www.summitmetroparks.org
SUMMARY:Winter Solstice and the Tale of Mother Deer
DESCRIPTION:Join a naturalist as we take a winter solstice walk through luminaries along the 0.25-mile Maple Loop Trail\, listening to the folk tale of Mother Deer. Discover how we know that Santa’s reindeer are all female and that Rudolph isn’t the only red-nosed reindeer! After the hike warm up with hot chocolate and a warm fire inside the nature center.
URL:https://www.summitmetroparks.org/program-events/winter-solstice-and-the-tale-of-mother-deer/
LOCATION:LP/Nature Center\, 9999 Liberty Rd.\, Twinsburg\, OH\, 44087\, United States
CATEGORIES:History,Nature Education
ATTACH;FMTTYPE=image/jpeg:https://www.summitmetroparks.org/wp-content/uploads/event-image-winter-trees.jpg
END:VEVENT
BEGIN:VEVENT
DTSTART;TZID=America/New_York:20251220T180000
DTEND;TZID=America/New_York:20251220T193000
DTSTAMP:20260422T165144
CREATED:20250623T194130Z
LAST-MODIFIED:20250709T125601Z
UID:10004601-1766253600-1766259000@www.summitmetroparks.org
SUMMARY:Date at the Lake
DESCRIPTION:Bring a date and join us for a night of great views and memorable fun. Brush up on your natural history\, it’s trivia night! No babysitter? No problem! Drop them off downstairs for a simultaneous kids nature trivia program for ages 5 to 13. Registration is required and begins 12/11.
URL:https://www.summitmetroparks.org/program-events/date-at-the-lake-5/
LOCATION:SLNC\, 411 Ira Ave.\, Akron\, OH\, 44301\, United States
CATEGORIES:History,Nature Education
ATTACH;FMTTYPE=image/jpeg:https://www.summitmetroparks.org/wp-content/uploads/Event-Image-SLNC.jpg
END:VEVENT
BEGIN:VEVENT
DTSTART;TZID=America/New_York:20251208T180000
DTEND;TZID=America/New_York:20251208T190000
DTSTAMP:20260422T165144
CREATED:20250623T152918Z
LAST-MODIFIED:20250702T175051Z
UID:10004592-1765216800-1765220400@www.summitmetroparks.org
SUMMARY:Virtual: History of Firestone Metro Park
DESCRIPTION:Discover over a century of Firestone history through stories and images. From coal mining and dairy farming to the acquisition and design of the park\, join us for this virtual stroll through time. Zoom meeting ID: 896 3603 4055
URL:https://www.summitmetroparks.org/program-events/virtual-history-of-firestone-metro-park/
LOCATION:OH
CATEGORIES:History
ATTACH;FMTTYPE=image/jpeg:https://www.summitmetroparks.org/wp-content/uploads/event-image-firestone.jpg
END:VEVENT
BEGIN:VEVENT
DTSTART;TZID=America/New_York:20251206T133000
DTEND;TZID=America/New_York:20251206T153000
DTSTAMP:20260422T165144
CREATED:20250623T191602Z
LAST-MODIFIED:20250702T175721Z
UID:10004506-1765027800-1765035000@www.summitmetroparks.org
SUMMARY:Drop In: Butter Making
DESCRIPTION:Still a household staple\, butter has played a crucial role in preserving dairy throughout human history. Drop in to carry on the tradition and make your own tasty butter\, while supplies last.
URL:https://www.summitmetroparks.org/program-events/drop-in-butter-making/
LOCATION:SLNC\, 411 Ira Ave.\, Akron\, OH\, 44301\, United States
CATEGORIES:History
ATTACH;FMTTYPE=image/jpeg:https://www.summitmetroparks.org/wp-content/uploads/Event-Image-SLNC.jpg
END:VEVENT
BEGIN:VEVENT
DTSTART;TZID=America/New_York:20251121T100000
DTEND;TZID=America/New_York:20251121T120000
DTSTAMP:20260422T165144
CREATED:20250623T191041Z
LAST-MODIFIED:20250702T170306Z
UID:10004503-1763719200-1763726400@www.summitmetroparks.org
SUMMARY:Subterranean Secrets of Silver Creek
DESCRIPTION:Hike the 2.0-mile Chippewa Trail and learn about the secrets below our feet including soils\, animals\, abandoned coal mines and more.
URL:https://www.summitmetroparks.org/program-events/subterranean-secrets-of-silver-creek/
LOCATION:SC/Big Oak Area\, 5199 Medina Line Rd.\, Norton\, OH\, 44230\, United States
CATEGORIES:History,Nature Education
ATTACH;FMTTYPE=image/jpeg:https://www.summitmetroparks.org/wp-content/uploads/event-image-rock-creek-bridge.jpg
END:VEVENT
BEGIN:VEVENT
DTSTART;TZID=America/New_York:20251116T140000
DTEND;TZID=America/New_York:20251116T153000
DTSTAMP:20260422T165144
CREATED:20250623T133320Z
LAST-MODIFIED:20250702T165802Z
UID:10004525-1763301600-1763307000@www.summitmetroparks.org
SUMMARY:Better Than Sleepy Hollow Hike
DESCRIPTION:Surely Ichabod Crane would prefer this glacially formed\, scenic 1.9-mile Spring Hollow Trail in Adam Run Valley! Wear hiking boots as the trail crosses several seasonal streams.
URL:https://www.summitmetroparks.org/program-events/better-than-sleepy-hollow-hike/
LOCATION:HH/Main Entrance\, 2925 Akron Peninsula Rd.\, Akron\, OH\, 44313\, United States
CATEGORIES:Health & Fitness,History,Nature Education,Recreation,Spree Credit Hikes
ATTACH;FMTTYPE=image/jpeg:https://www.summitmetroparks.org/wp-content/uploads/event-image-hampton-hills-adam-run.jpg
END:VEVENT
BEGIN:VEVENT
DTSTART;TZID=America/New_York:20251116T130000
DTEND;TZID=America/New_York:20251116T150000
DTSTAMP:20260422T165144
CREATED:20250618T165116Z
LAST-MODIFIED:20250702T165609Z
UID:10004573-1763298000-1763305200@www.summitmetroparks.org
SUMMARY:Geology of the Ledges
DESCRIPTION:Join a naturalist as we walk back into time 250 million years ago…long before the dinosaurs! Explore how the ledges in this area were formed and then exposed by the last ice age. Learn why this unique ecosystem is so important. Boots are highly recommended as we will be hiking off-trail.
URL:https://www.summitmetroparks.org/program-events/geology-of-the-ledges-2/
LOCATION:LP/Nature Center\, 9999 Liberty Rd.\, Twinsburg\, OH\, 44087\, United States
CATEGORIES:History,Nature Education
ATTACH;FMTTYPE=image/jpeg:https://www.summitmetroparks.org/wp-content/uploads/event-image-ledges.jpg
END:VEVENT
BEGIN:VEVENT
DTSTART;TZID=America/New_York:20251102T130000
DTEND;TZID=America/New_York:20251102T143000
DTSTAMP:20260422T165144
CREATED:20250618T163853Z
LAST-MODIFIED:20250630T145823Z
UID:10004571-1762088400-1762093800@www.summitmetroparks.org
SUMMARY:Indigenous Pathways
DESCRIPTION:Join a naturalist as we explore how the pathways used by Indigenous Peoples and early settlers were transformed into many of the roads and interstates throughout Ohio. Discover their vital role in trade\, travel\, military strategy\, settlement and the resulting displacement of Indigenous cultures. \n 
URL:https://www.summitmetroparks.org/program-events/indigenous-pathways-2/
LOCATION:LP/Nature Center\, 9999 Liberty Rd.\, Twinsburg\, OH\, 44087\, United States
CATEGORIES:History
ATTACH;FMTTYPE=image/jpeg:https://www.summitmetroparks.org/wp-content/uploads/Event-Image-Indigenous-Statue.jpg
END:VEVENT
BEGIN:VEVENT
DTSTART;TZID=America/New_York:20251026T130000
DTEND;TZID=America/New_York:20251026T143000
DTSTAMP:20260422T165144
CREATED:20250507T165430Z
LAST-MODIFIED:20250519T144048Z
UID:10004469-1761483600-1761489000@www.summitmetroparks.org
SUMMARY:Glacial Geology of Summit County
DESCRIPTION:Join a naturalist to learn how the last glacial event profoundly changed the Summit County landscape. See how Summit County looked 10\,000 years ago: no trees or plants\, just vast areas of sand\, rocks\, snow and ice. Learn about Lake Cuyahoga\, a large glacial lake that once covered Akron to depths of over 100 feet.
URL:https://www.summitmetroparks.org/program-events/glacial-geology-of-summit-county/
LOCATION:LP/Nature Center\, 9999 Liberty Rd.\, Twinsburg\, OH\, 44087\, United States
CATEGORIES:History,Nature Education
ATTACH;FMTTYPE=image/jpeg:https://www.summitmetroparks.org/wp-content/uploads/Event-Image-LPNC.jpg
END:VEVENT
BEGIN:VEVENT
DTSTART;TZID=America/New_York:20251026T100000
DTEND;TZID=America/New_York:20251026T113000
DTSTAMP:20260422T165144
CREATED:20250507T135405Z
LAST-MODIFIED:20250519T144357Z
UID:10004476-1761472800-1761478200@www.summitmetroparks.org
SUMMARY:Reading The Forested Landscape
DESCRIPTION:Ever wonder if the landscape around you always looked the way it does now? Chances are it hasn’t! Join a naturalist to learn some skills that can be used to read the forested landscape.
URL:https://www.summitmetroparks.org/program-events/reading-the-forested-landscape-2/
LOCATION:CV/Valley View Area\, 1134 Cuyahoga St.\, Akron\, OH\, 44313\, United States
CATEGORIES:History,Nature Education,Spree Credit Hikes
ATTACH;FMTTYPE=image/jpeg:https://www.summitmetroparks.org/wp-content/uploads/event-image-log.jpg
END:VEVENT
BEGIN:VEVENT
DTSTART;TZID=America/New_York:20251012T110000
DTEND;TZID=America/New_York:20251012T123000
DTSTAMP:20260422T165144
CREATED:20250506T200544Z
LAST-MODIFIED:20250519T180335Z
UID:10004406-1760266800-1760272200@www.summitmetroparks.org
SUMMARY:Deeper Into the Quarry Hike
DESCRIPTION:Learn about the important role of the Berea sandstone quarries along the Cuyahoga River during the canal era and the many ways in which the sandstone was put to use.
URL:https://www.summitmetroparks.org/program-events/deeper-into-the-quarry-hike/
LOCATION:DLQ/Quarry Trail\, 5779 Riverview Rd.\, Peninsula\, OH\, 44264\, United States
CATEGORIES:Educational,Good For All Ages,History,Nature Education,Spree Credit Hikes
ATTACH;FMTTYPE=image/jpeg:https://www.summitmetroparks.org/wp-content/uploads/event-image-deep-lock-quarry.jpg
END:VEVENT
BEGIN:VEVENT
DTSTART;TZID=America/New_York:20251011T183000
DTEND;TZID=America/New_York:20251011T200000
DTSTAMP:20260422T165144
CREATED:20250506T200655Z
LAST-MODIFIED:20250603T192112Z
UID:10004407-1760207400-1760212800@www.summitmetroparks.org
SUMMARY:Spooky "Tails" Around the Campfire
DESCRIPTION:Go on a ghostly tour through Akron’s haunted past and learn about local spirits whose stories linger\, as well as fun facts about several captivating critters commonly associated with the supernatural.
URL:https://www.summitmetroparks.org/program-events/spooky-tails-around-the-campfire/
LOCATION:FASN/Nature Realm\, 1828 Smith Rd.\, Akron\, OH\, 44313\, United States
CATEGORIES:Educational,Good For All Ages,History,Nature Education,Senior Friendly
ATTACH;FMTTYPE=image/jpeg:https://www.summitmetroparks.org/wp-content/uploads/Event-Image-Bats.jpg
END:VEVENT
BEGIN:VEVENT
DTSTART;TZID=America/New_York:20251005T150000
DTEND;TZID=America/New_York:20251005T160000
DTSTAMP:20260422T165144
CREATED:20250507T134435Z
LAST-MODIFIED:20250520T152410Z
UID:10004421-1759676400-1759680000@www.summitmetroparks.org
SUMMARY:Terrifying Titans: Megafauna
DESCRIPTION:Halloween is known for monsters\, so let’s talk about the behemoths that once covered Ohio! Come learn about the megafauna that towered over all and how they were replaced by the fauna we have today. We will be hiking the grounds\, so dress for the weather!
URL:https://www.summitmetroparks.org/program-events/terrifying-titans-megafauna/
LOCATION:FASN/Visitors Center\, 1828 Smith Rd.\, Akron\, OH\, 44313\, United States
CATEGORIES:History,Nature Education
ATTACH;FMTTYPE=image/jpeg:https://www.summitmetroparks.org/wp-content/uploads/event-image-grass.jpg
END:VEVENT
BEGIN:VEVENT
DTSTART;TZID=America/New_York:20251005T100000
DTEND;TZID=America/New_York:20251005T113000
DTSTAMP:20260422T165144
CREATED:20250812T195517Z
LAST-MODIFIED:20250812T200902Z
UID:10004699-1759658400-1759663800@www.summitmetroparks.org
SUMMARY:History of the Portage Path
DESCRIPTION:Join us for a walk from Big Bend to the northernmost point of the Portage Path. You’ll learn about the history of this vital link between North American waterways and about the statue of the portaging Indigenous person at the northern end of the portage. Artist Peter Jones (Seneca/Onondaga) created this statue and its twin to stand at both the northern and southern termini of the Portage Path. This program is presented in coordination with the Portage Path Collaborative as part of a series of events in honor of North American First People’s Day. More information about events in the Akron area honoring North American First People’s Day can be found at https://walkportagepath.com.
URL:https://www.summitmetroparks.org/program-events/history-of-the-portage-path/
LOCATION:TT/Big Bend Trailhead\, 1337 Merriman Rd.\, Akron\, OH\, 44313\, United States
CATEGORIES:Educational,History
ATTACH;FMTTYPE=image/jpeg:https://www.summitmetroparks.org/wp-content/uploads/event-image-portage-path-statue.jpg
END:VEVENT
BEGIN:VEVENT
DTSTART;TZID=America/New_York:20250928T100000
DTEND;TZID=America/New_York:20250928T130000
DTSTAMP:20260422T165144
CREATED:20250506T204042Z
LAST-MODIFIED:20250919T173620Z
UID:10004477-1759053600-1759064400@www.summitmetroparks.org
SUMMARY:Ohio & Erie Canal Kayak Paddle
DESCRIPTION:Join a certified instructor on the Ohio & Erie Canal for a guided\, round-trip kayak paddle from Summit Lake to Manchester Road. Learn about the canal’s history and how it put Akron on the map. Minimum age is 13; ages 13 to 17 must be with an adult participant. Participants must wear closed-toe shoes and be able to swim. All equipment will be provided. Location subject to change based on water conditions. Cost: $15/person. Registration is required and begins on 9/19.
URL:https://www.summitmetroparks.org/program-events/ohio-erie-canal-paddle/
LOCATION:SLNC\, 411 Ira Ave.\, Akron\, OH\, 44301\, United States
CATEGORIES:History,Nature Education,Recreation
ATTACH;FMTTYPE=image/jpeg:https://www.summitmetroparks.org/wp-content/uploads/kayak-program.jpg
END:VEVENT
BEGIN:VEVENT
DTSTART;TZID=America/New_York:20250920T180000
DTEND;TZID=America/New_York:20250920T190000
DTSTAMP:20260422T165144
CREATED:20250507T134617Z
LAST-MODIFIED:20250603T190520Z
UID:10004420-1758391200-1758394800@www.summitmetroparks.org
SUMMARY:Old Mill Hike
DESCRIPTION:Join a naturalist for a hike along the 1.4-mile Old Mill Trail. We will be brushing up on our plant and bird ID while we talk about the interesting history surrounding Furnace Run.
URL:https://www.summitmetroparks.org/program-events/old-mill-hike/
LOCATION:FR/Brushwood Area\, 4955 Townsend Rd.\, Richfield\, OH\, 44286\, United States
CATEGORIES:History,Nature Education,Spree Credit Hikes
ATTACH;FMTTYPE=image/jpeg:https://www.summitmetroparks.org/wp-content/uploads/event-image-ferns.jpg
END:VEVENT
BEGIN:VEVENT
DTSTART;TZID=America/New_York:20250816T130000
DTEND;TZID=America/New_York:20250816T150000
DTSTAMP:20260422T165144
CREATED:20250305T000646Z
LAST-MODIFIED:20250311T184816Z
UID:10004243-1755349200-1755356400@www.summitmetroparks.org
SUMMARY:Geology & History of Deep Lock Quarry
DESCRIPTION:Join a naturalist as we examine the geology and history surrounding Deep Lock Quarry. Learn how the Berea sandstone was formed and its significance to Akron and surrounding communities.
URL:https://www.summitmetroparks.org/program-events/geology-history-of-deep-lock-quarry/
LOCATION:DLQ/Quarry Trail\, 5779 Riverview Rd.\, Peninsula\, OH\, 44264\, United States
CATEGORIES:History,Nature Education
ATTACH;FMTTYPE=image/jpeg:https://www.summitmetroparks.org/wp-content/uploads/event-image-deep-lock-quarry.jpg
END:VEVENT
BEGIN:VEVENT
DTSTART;TZID=America/New_York:20250726T093000
DTEND;TZID=America/New_York:20250726T113000
DTSTAMP:20260422T165144
CREATED:20250228T202358Z
LAST-MODIFIED:20250312T135456Z
UID:10004224-1753522200-1753529400@www.summitmetroparks.org
SUMMARY:Hike the Hills
DESCRIPTION:Lace up those hiking boots and hit the Hampton Hills with a naturalist. Along the 3.2-mile Adam Run Trail\, we’ll discuss the natural history of the area and explore signs of local wildlife. Be prepared for steep inclines and uneven terrain.
URL:https://www.summitmetroparks.org/program-events/hike-the-hills/
LOCATION:HH/Main Entrance\, 2925 Akron Peninsula Rd.\, Akron\, OH\, 44313\, United States
CATEGORIES:History,Nature Education
ATTACH;FMTTYPE=image/jpeg:https://www.summitmetroparks.org/wp-content/uploads/event-image-hampton-hills-adam-run.jpg
END:VEVENT
BEGIN:VEVENT
DTSTART;TZID=America/New_York:20250604T060000
DTEND;TZID=America/New_York:20250618T170000
DTSTAMP:20260422T165144
CREATED:20250106T190534Z
LAST-MODIFIED:20250115T194913Z
UID:10004017-1749016800-1750266000@www.summitmetroparks.org
SUMMARY:Self-Guided Hike: Meet the Seiberlings
DESCRIPTION:Learn about the Seiberling family’s role in preserving F.A. Seiberling Nature Realm and their contributions to Akron and Summit Metro Parks during a hike along the 0.6-mile Cherry Lane Trail through June 18.
URL:https://www.summitmetroparks.org/program-events/self-guided-hike-meet-the-seiberlings/
LOCATION:FASN/Nature Realm\, 1828 Smith Rd.\, Akron\, OH\, 44313\, United States
CATEGORIES:Educational,History
ATTACH;FMTTYPE=image/jpeg:https://www.summitmetroparks.org/wp-content/uploads/event-image-fasn-fall.jpg
END:VEVENT
BEGIN:VEVENT
DTSTART;TZID=America/New_York:20250503T140000
DTEND;TZID=America/New_York:20250503T160000
DTSTAMP:20260422T165144
CREATED:20250107T221317Z
LAST-MODIFIED:20250115T132625Z
UID:10004026-1746280800-1746288000@www.summitmetroparks.org
SUMMARY:Summit Lake History Hike
DESCRIPTION:Without Summit Lake Akron would not be the city we know today. Take a walk around the lake to explore the many roles it has played in our city’s history.
URL:https://www.summitmetroparks.org/program-events/summit-lake-history-hike/
LOCATION:SLNC\, 411 Ira Ave.\, Akron\, OH\, 44301\, United States
CATEGORIES:History,Nature Education
ATTACH;FMTTYPE=image/jpeg:https://www.summitmetroparks.org/wp-content/uploads/event-image-summit-lake-cyclists.jpg
END:VEVENT
BEGIN:VEVENT
DTSTART;TZID=America/New_York:20250428T140000
DTEND;TZID=America/New_York:20250428T160000
DTSTAMP:20260422T165144
CREATED:20241030T151145Z
LAST-MODIFIED:20241113T140752Z
UID:10003989-1745848800-1745856000@www.summitmetroparks.org
SUMMARY:History Hike: Furnace Run
DESCRIPTION:Stroll along the 1.4-mile Old Mill Trail with a naturalist to learn how Furnace Run Metro Park came to be\, including its connections to the invention of electric streetlamps\, the depression era Civilian Conservation Corps and even the Wizard of Oz!
URL:https://www.summitmetroparks.org/program-events/history-hike-furnace-run/
LOCATION:FR/Brushwood Area\, 4955 Townsend Rd.\, Richfield\, OH\, 44286\, United States
CATEGORIES:Educational,History
ATTACH;FMTTYPE=image/jpeg:https://www.summitmetroparks.org/wp-content/uploads/event-image-stream.jpg
END:VEVENT
BEGIN:VEVENT
DTSTART;TZID=America/New_York:20250412T200000
DTEND;TZID=America/New_York:20250412T213000
DTSTAMP:20260422T165144
CREATED:20241023T142826Z
LAST-MODIFIED:20250123T134944Z
UID:10003925-1744488000-1744493400@www.summitmetroparks.org
SUMMARY:Moonlit Mythical Madness
DESCRIPTION:Celebrate National Unicorn Day around the campfire as our naturalists tell tales of history’s greatest folktale legends. Are Sasquatch\, Mothman and unicorns really out there? You decide. Please bring your own chair.
URL:https://www.summitmetroparks.org/program-events/moonlit-mythical-madness/
LOCATION:CV/Oxbow Area\, 1135 Cuyahoga St.\, Akron\, OH\, 44313\, United States
CATEGORIES:History,Nature Education
ATTACH;FMTTYPE=image/jpeg:https://www.summitmetroparks.org/wp-content/uploads/event-image-full-moon.jpg
END:VEVENT
BEGIN:VEVENT
DTSTART;TZID=America/New_York:20250410T000000
DTEND;TZID=America/New_York:20250425T235959
DTSTAMP:20260422T165144
CREATED:20241030T175951Z
LAST-MODIFIED:20241113T133624Z
UID:10003911-1744243200-1745625599@www.summitmetroparks.org
SUMMARY:Self-Guided: Tuscarawas History
DESCRIPTION:Travel along the 1.6-mile Willow Trail at your own pace and learn about the rich history of the Tuscarawas River\, which flows through Firestone Metro Park. This experience is available through April 25.
URL:https://www.summitmetroparks.org/program-events/self-guided-tuscarawas-history/
LOCATION:F/Tuscarawas Meadows Area\, 2620 Harrington Rd.\, Akron\, OH\, 44319\, United States
CATEGORIES:History,Nature Education
ATTACH;FMTTYPE=image/jpeg:https://www.summitmetroparks.org/wp-content/uploads/event-image-tuscarawas-river.jpg
END:VEVENT
BEGIN:VEVENT
DTSTART;TZID=America/New_York:20250406T140000
DTEND;TZID=America/New_York:20250406T160000
DTSTAMP:20260422T165144
CREATED:20250317T164418Z
LAST-MODIFIED:20250317T164418Z
UID:10004345-1743948000-1743955200@www.summitmetroparks.org
SUMMARY:"Wings of an Eagle" Book Signing with Billy Mills
DESCRIPTION:Join gold medalist Billy Mills (Oglala Lakota) for a signing of his book “Wings of an Eagle\,” a dramatic and inspiring autobiographical tale of overcoming odds to win a record-breaking gold medal at the 1964 Olympics. A limited number of books will be available for purchase and light refreshments will be provided. This event is supported by the Summit Metro Parks Foundation.
URL:https://www.summitmetroparks.org/program-events/wings-of-an-eagle-book-signing-with-billy-mills/
LOCATION:FASN/Visitors Center\, 1828 Smith Rd.\, Akron\, OH\, 44313\, United States
CATEGORIES:Educational,Good For All Ages,History,Special Events
ATTACH;FMTTYPE=image/jpeg:https://www.summitmetroparks.org/wp-content/uploads/Event-Image-FASN.jpg
END:VEVENT
BEGIN:VEVENT
DTSTART;TZID=America/New_York:20250329T103000
DTEND;TZID=America/New_York:20250329T113000
DTSTAMP:20260422T165144
CREATED:20241030T171740Z
LAST-MODIFIED:20250303T130942Z
UID:10003910-1743244200-1743247800@www.summitmetroparks.org
SUMMARY:Changing Forests of Pheasant Run
DESCRIPTION:Ohio’s forests come in many forms. Hike through the successional forests of the 1.2-mile Pheasant Run Trail to learn what a successional forest is\, how it got here and what life it supports.
URL:https://www.summitmetroparks.org/program-events/the-changing-forests-of-pheasant-run/
LOCATION:SC/Lake House Area\, 5000 Hametown Rd.\, Norton\, OH\, 44203\, United States
CATEGORIES:History,Nature Education
ATTACH;FMTTYPE=image/jpeg:https://www.summitmetroparks.org/wp-content/uploads/event-image-tree-bark.jpg
END:VEVENT
BEGIN:VEVENT
DTSTART;TZID=America/New_York:20250324T140000
DTEND;TZID=America/New_York:20250324T160000
DTSTAMP:20260422T165144
CREATED:20241030T150904Z
LAST-MODIFIED:20241108T180906Z
UID:10003986-1742824800-1742832000@www.summitmetroparks.org
SUMMARY:History Hike: Liberty Park
DESCRIPTION:Hike the 2.1-mile Black Bear Trail with a naturalist to learn about the cultural history of Liberty Park and the surrounding city of Twinsburg\, from Indigenous cultures and early pioneers to farming and preservation of the park today.
URL:https://www.summitmetroparks.org/program-events/history-hike-liberty-park/
LOCATION:LP/Nature Center\, 9999 Liberty Rd.\, Twinsburg\, OH\, 44087\, United States
CATEGORIES:Educational,History
ATTACH;FMTTYPE=image/jpeg:https://www.summitmetroparks.org/wp-content/uploads/event-image-lp-ledges.jpg
END:VEVENT
END:VCALENDAR