BEGIN:VCALENDAR
VERSION:2.0
PRODID:-//Summit Metro Parks - ECPv6.15.20//NONSGML v1.0//EN
CALSCALE:GREGORIAN
METHOD:PUBLISH
X-WR-CALNAME:Summit Metro Parks
X-ORIGINAL-URL:https://www.summitmetroparks.org
X-WR-CALDESC:Events for Summit Metro Parks
REFRESH-INTERVAL;VALUE=DURATION:PT1H
X-Robots-Tag:noindex
X-PUBLISHED-TTL:PT1H
BEGIN:VTIMEZONE
TZID:America/New_York
BEGIN:DAYLIGHT
TZOFFSETFROM:-0500
TZOFFSETTO:-0400
TZNAME:EDT
DTSTART:20250309T070000
END:DAYLIGHT
BEGIN:STANDARD
TZOFFSETFROM:-0400
TZOFFSETTO:-0500
TZNAME:EST
DTSTART:20251102T060000
END:STANDARD
BEGIN:DAYLIGHT
TZOFFSETFROM:-0500
TZOFFSETTO:-0400
TZNAME:EDT
DTSTART:20260308T070000
END:DAYLIGHT
BEGIN:STANDARD
TZOFFSETFROM:-0400
TZOFFSETTO:-0500
TZNAME:EST
DTSTART:20261101T060000
END:STANDARD
BEGIN:DAYLIGHT
TZOFFSETFROM:-0500
TZOFFSETTO:-0400
TZNAME:EDT
DTSTART:20270314T070000
END:DAYLIGHT
BEGIN:STANDARD
TZOFFSETFROM:-0400
TZOFFSETTO:-0500
TZNAME:EST
DTSTART:20271107T060000
END:STANDARD
END:VTIMEZONE
BEGIN:VEVENT
DTSTART;TZID=America/New_York:20260307T120000
DTEND;TZID=America/New_York:20260307T130000
DTSTAMP:20260422T165340
CREATED:20251104T202736Z
LAST-MODIFIED:20251107T152933Z
UID:10004787-1772884800-1772888400@www.summitmetroparks.org
SUMMARY:Women of Ornithology
DESCRIPTION:Join a naturalist for a presentation to celebrate and discuss the amazing history of women ornithologists.
URL:https://www.summitmetroparks.org/program-events/women-of-ornithology/
LOCATION:FASN/Visitors Center\, 1828 Smith Rd.\, Akron\, OH\, 44313\, United States
CATEGORIES:Educational,History,Nature Education,Senior Friendly
ATTACH;FMTTYPE=image/gif:https://www.summitmetroparks.org/wp-content/uploads/event-image-tree-swallow.gif
END:VEVENT
BEGIN:VEVENT
DTSTART;TZID=America/New_York:20260315T100000
DTEND;TZID=America/New_York:20260315T120000
DTSTAMP:20260422T165340
CREATED:20251104T220559Z
LAST-MODIFIED:20260313T141415Z
UID:10004732-1773568800-1773576000@www.summitmetroparks.org
SUMMARY:Flapjacks and Sap Facts: A Maple Sugaring Breakfast
DESCRIPTION:Join us as we reap the fruits of our labor by enjoying a traditional pancake breakfast with our own Liberty Park maple syrup. As we wrap up breakfast\, there will be a presentation and discussion of the notable history of maple syrup production in and around Summit County. Registration is required and begins on 2/1. Space is limited.
URL:https://www.summitmetroparks.org/program-events/flapjacks-and-sap-facts-a-maple-sugaring-breakfast-2/
LOCATION:LP/Nature Center\, 9999 Liberty Rd.\, Twinsburg\, OH\, 44087\, United States
CATEGORIES:Educational,Good For All Ages,History,Nature Education
ATTACH;FMTTYPE=image/jpeg:https://www.summitmetroparks.org/wp-content/uploads/event-image-mayple-syrup.jpg
END:VEVENT
BEGIN:VEVENT
DTSTART;TZID=America/New_York:20260318T190000
DTEND;TZID=America/New_York:20260318T203000
DTSTAMP:20260422T165340
CREATED:20251105T194316Z
LAST-MODIFIED:20251110T181229Z
UID:10004846-1773860400-1773865800@www.summitmetroparks.org
SUMMARY:The Cuyahoga: A Dam Good Story
DESCRIPTION:Join the Greater Akron Audubon Society to welcome Watershed Specialist Elaine Marsh\, a lifelong lover of the Cuyahoga River and Lake Erie. From pristine to polluted and finally restored\, we’ll learn the roles science\, public policy and funding play in this stunning account of man’s checkered history with water quality. Meet in the East Room. \n 
URL:https://www.summitmetroparks.org/program-events/the-cuyahoga-a-dam-good-story/
LOCATION:GYH/Goodyear Heights Lodge\, 2077 Newton St.\, Akron\, OH\, 44305\, United States
CATEGORIES:History,Nature Education
ATTACH;FMTTYPE=image/gif:https://www.summitmetroparks.org/wp-content/uploads/event-image-gorge-dam.gif
END:VEVENT
BEGIN:VEVENT
DTSTART;TZID=America/New_York:20260321T120000
DTEND;TZID=America/New_York:20260321T160000
DTSTAMP:20260422T165340
CREATED:20251107T211700Z
LAST-MODIFIED:20260121T182019Z
UID:10004733-1774094400-1774108800@www.summitmetroparks.org
SUMMARY:Maple Mania
DESCRIPTION:Everyone loves real maple syrup! Stop in to discover the ins and outs of maple sugaring. See how the trees are tapped\, how sap is collected and how it’s boiled down to that sweet amber syrup. Did you know Hudson\, Ohio\, was the birthplace of modern maple syrup production? Enjoy the festivities and — the best part — you can satisfy your sweet tooth by sampling our fresh\, local Liberty Park syrup! \n 
URL:https://www.summitmetroparks.org/program-events/maple-mania-3-2/
LOCATION:LP/Nature Center\, 9999 Liberty Rd.\, Twinsburg\, OH\, 44087\, United States
CATEGORIES:Educational,Good For All Ages,History,Nature Education,Senior Friendly,Wild Back Yards
ATTACH;FMTTYPE=image/jpeg:https://www.summitmetroparks.org/wp-content/uploads/event-image-mayple-syrup.jpg
END:VEVENT
BEGIN:VEVENT
DTSTART;TZID=America/New_York:20260322T120000
DTEND;TZID=America/New_York:20260322T160000
DTSTAMP:20260422T165340
CREATED:20251110T180705Z
LAST-MODIFIED:20260121T182015Z
UID:10004734-1774180800-1774195200@www.summitmetroparks.org
SUMMARY:Maple Mania
DESCRIPTION:Everyone loves real maple syrup! Stop in to discover the ins and outs of maple sugaring. See how the trees are tapped\, how sap is collected and how it’s boiled down to that sweet amber syrup. Did you know that Hudson\, Ohio\, was the birthplace of modern maple syrup production? Enjoy the festivities and — the best part — you can satisfy your sweet tooth by sampling our fresh\, local Liberty Park syrup! \n 
URL:https://www.summitmetroparks.org/program-events/maple-mania-3-3/
LOCATION:LP/Nature Center\, 9999 Liberty Rd.\, Twinsburg\, OH\, 44087\, United States
CATEGORIES:Educational,Good For All Ages,History,Nature Education,Senior Friendly,Wild Back Yards
ATTACH;FMTTYPE=image/jpeg:https://www.summitmetroparks.org/wp-content/uploads/event-image-mayple-syrup.jpg
END:VEVENT
BEGIN:VEVENT
DTSTART;TZID=America/New_York:20260412T193000
DTEND;TZID=America/New_York:20260412T203000
DTSTAMP:20260422T165340
CREATED:20251104T212659Z
LAST-MODIFIED:20251107T180015Z
UID:10004741-1776022200-1776025800@www.summitmetroparks.org
SUMMARY:Animal Tales Campfire
DESCRIPTION:Why do bears sleep all winter and how did the opossum get his bare tail? Gather around a fire at sunset to hear tales and learn some facts while enjoying s’mores! Meet at the campfire area and bring a camp chair if you’d like.
URL:https://www.summitmetroparks.org/program-events/animal-tales-campfire/
LOCATION:LP/Nature Center\, 9999 Liberty Rd.\, Twinsburg\, OH\, 44087\, United States
CATEGORIES:Good For All Ages,History,Nature Education
ATTACH;FMTTYPE=image/jpeg:https://www.summitmetroparks.org/wp-content/uploads/event-image-roasting-marshmallows.jpg
END:VEVENT
BEGIN:VEVENT
DTSTART;TZID=America/New_York:20260620T100000
DTEND;TZID=America/New_York:20260620T140000
DTSTAMP:20260422T165340
CREATED:20260415T132824Z
LAST-MODIFIED:20260415T132838Z
UID:10005232-1781949600-1781964000@www.summitmetroparks.org
SUMMARY:Archaeology in Action
DESCRIPTION:Discover how archaeology uncovers hidden stories from the past. Join Summit Metro Parks cultural resources staff to observe and learn about ongoing excavations at the former Wheelock Cuyahoga Acres (WCA)\, a once vibrant\, racially integrated community in Cascade Valley Metro Park.  \nDrop by anytime to observe cultural resources staff at work\, or join guided talks by our archaeologists at 10:30 a.m.\, 11:30 a.m. or 1:30 p.m.  \nVisitors will gain a deeper appreciation for the people who once called WCA home and the ongoing efforts to preserve and share their legacy.  \nSince 2017\, archaeologists have been investigating the remains of this mid-20th century neighborhood\, focusing on sites like the former homes of the Prather and Johnson families (two Black-owned properties). Through excavation\, research and collaboration with descendants and partners like The University of Akron’s Anthropology Department\, staff have uncovered foundations\, artifacts and personal histories that paint a vivid picture of life along Honeywell Drive. Learn more. 
URL:https://www.summitmetroparks.org/program-events/archaeology-in-action/
LOCATION:CV/Valley View Area\, 1134 Cuyahoga St.\, Akron\, OH\, 44313\, United States
CATEGORIES:Educational,Good For All Ages,History
END:VEVENT
BEGIN:VEVENT
DTSTART;TZID=America/New_York:20260622T110000
DTEND;TZID=America/New_York:20260622T150000
DTSTAMP:20260422T165340
CREATED:20260105T161417Z
LAST-MODIFIED:20260109T153853Z
UID:10004954-1782126000-1782140400@www.summitmetroparks.org
SUMMARY:Pop-Up Nature Center: Furnace Run
DESCRIPTION:Our nature centers are hitting the road! Join us as Brushwood Lodge transforms into a nature center for a day\, complete with activities for all ages including education stations\, a storybook trail\, fishing and an opportunity to shop our pop-up Maple Leaf Gifts. Bring any nature or history questions for our naturalists and cool off with lemonade and watermelon\, while supplies last!
URL:https://www.summitmetroparks.org/program-events/pop-up-nature-center-furnace-run/
LOCATION:FR/Brushwood Area\, 4955 Townsend Rd.\, Richfield\, OH\, 44286\, United States
CATEGORIES:Educational,Good For All Ages,History,Nature Education,Spree Credit Hikes
ATTACH;FMTTYPE=image/jpeg:https://www.summitmetroparks.org/wp-content/uploads/event-image-firestone.jpg
END:VEVENT
BEGIN:VEVENT
DTSTART;TZID=America/New_York:20260628T100000
DTEND;TZID=America/New_York:20260628T120000
DTSTAMP:20260422T165340
CREATED:20260105T161757Z
LAST-MODIFIED:20260109T145620Z
UID:10004955-1782640800-1782648000@www.summitmetroparks.org
SUMMARY:History Hike: Deep Lock Quarry
DESCRIPTION:Take a trip back in time to the 1800s to discover over a century of hidden history along the 1.4-mile Quarry Trail. Learn where this stone came from\, how it was quarried and where it ended up through stories and images.
URL:https://www.summitmetroparks.org/program-events/history-hike-deep-lock-quarry/
LOCATION:DLQ/Quarry Trail\, 5779 Riverview Rd.\, Peninsula\, OH\, 44264\, United States
CATEGORIES:History
ATTACH;FMTTYPE=image/jpeg:https://www.summitmetroparks.org/wp-content/uploads/event-image-deep-lock-quarry.jpg
END:VEVENT
BEGIN:VEVENT
DTSTART;TZID=America/New_York:20260628T150000
DTEND;TZID=America/New_York:20260628T160000
DTSTAMP:20260422T165340
CREATED:20260105T163502Z
LAST-MODIFIED:20260109T145121Z
UID:10004968-1782658800-1782662400@www.summitmetroparks.org
SUMMARY:Tree Trek
DESCRIPTION:Take a hike along the 1.2-mile Oxbow Trail as we learn about the surrounding trees and critters and how the trees can tell us about the history of the park.
URL:https://www.summitmetroparks.org/program-events/tree-trek/
LOCATION:CV/Oxbow Area\, 1135 Cuyahoga St.\, Akron\, OH\, 44313\, United States
CATEGORIES:Educational,History,Nature Education
ATTACH;FMTTYPE=image/jpeg:https://www.summitmetroparks.org/wp-content/uploads/event-image-tree-bark.jpg
END:VEVENT
BEGIN:VEVENT
DTSTART;TZID=America/New_York:20260803T103000
DTEND;TZID=America/New_York:20260803T120000
DTSTAMP:20260422T165340
CREATED:20260302T213658Z
LAST-MODIFIED:20260316T161115Z
UID:10005107-1785753000-1785758400@www.summitmetroparks.org
SUMMARY:Fossils for Kids
DESCRIPTION:Kids and their adult companions can join a naturalist to explore the stream in search of fossils and learn about the ancient creatures that once called this park home. Follow posted signs to meet in the picnic area for an introduction and to make a fossil of your own to take home. Dress to get wet; closed-toe shoes required.
URL:https://www.summitmetroparks.org/program-events/fossils-for-kids-3/
LOCATION:FR/Brushwood Area\, 4955 Townsend Rd.\, Richfield\, OH\, 44286\, United States
CATEGORIES:Educational,Good For All Ages,History,Nature Education
ATTACH;FMTTYPE=image/jpeg:https://www.summitmetroparks.org/wp-content/uploads/event-image-stream.jpg
END:VEVENT
BEGIN:VEVENT
DTSTART;TZID=America/New_York:20260809T130000
DTEND;TZID=America/New_York:20260809T140000
DTSTAMP:20260422T165340
CREATED:20260302T191427Z
LAST-MODIFIED:20260317T180203Z
UID:10005085-1786280400-1786284000@www.summitmetroparks.org
SUMMARY:Nature Realm History Hike
DESCRIPTION:Enjoy your hike along the 1.2-mile Seneca Trail as we talk about the history of F.A Seiberling Nature Realm and how it became the amazing park we have today!
URL:https://www.summitmetroparks.org/program-events/nature-realm-history-hike/
LOCATION:FASN/Nature Realm\, 1828 Smith Rd.\, Akron\, OH\, 44313\, United States
CATEGORIES:Educational,History,Nature Education
ATTACH;FMTTYPE=image/jpeg:https://www.summitmetroparks.org/wp-content/uploads/Event-Image-FASN.jpg
END:VEVENT
END:VCALENDAR