BEGIN:VCALENDAR
VERSION:2.0
PRODID:-//Summit Metro Parks - ECPv6.15.20//NONSGML v1.0//EN
CALSCALE:GREGORIAN
METHOD:PUBLISH
X-ORIGINAL-URL:https://www.summitmetroparks.org
X-WR-CALDESC:Events for Summit Metro Parks
REFRESH-INTERVAL;VALUE=DURATION:PT1H
X-Robots-Tag:noindex
X-PUBLISHED-TTL:PT1H
BEGIN:VTIMEZONE
TZID:America/New_York
BEGIN:DAYLIGHT
TZOFFSETFROM:-0500
TZOFFSETTO:-0400
TZNAME:EDT
DTSTART:20250309T070000
END:DAYLIGHT
BEGIN:STANDARD
TZOFFSETFROM:-0400
TZOFFSETTO:-0500
TZNAME:EST
DTSTART:20251102T060000
END:STANDARD
BEGIN:DAYLIGHT
TZOFFSETFROM:-0500
TZOFFSETTO:-0400
TZNAME:EDT
DTSTART:20260308T070000
END:DAYLIGHT
BEGIN:STANDARD
TZOFFSETFROM:-0400
TZOFFSETTO:-0500
TZNAME:EST
DTSTART:20261101T060000
END:STANDARD
BEGIN:DAYLIGHT
TZOFFSETFROM:-0500
TZOFFSETTO:-0400
TZNAME:EDT
DTSTART:20270314T070000
END:DAYLIGHT
BEGIN:STANDARD
TZOFFSETFROM:-0400
TZOFFSETTO:-0500
TZNAME:EST
DTSTART:20271107T060000
END:STANDARD
END:VTIMEZONE
BEGIN:VEVENT
DTSTART;TZID=America/New_York:20260201T130000
DTEND;TZID=America/New_York:20260201T140000
DTSTAMP:20260422T093614
CREATED:20250825T171004Z
LAST-MODIFIED:20250903T154359Z
UID:10004657-1769950800-1769954400@www.summitmetroparks.org
SUMMARY:Fantastic Foxes
DESCRIPTION:Join a naturalist for a talk about the fantastic fox! We’ll explore the adaptations that make them such unique canines and successful hunters. Afterward\, we’ll take a short hike to search for signs of their activity. 
URL:https://www.summitmetroparks.org/program-events/fantastic-foxes-2/
LOCATION:FASN/Visitors Center\, 1828 Smith Rd.\, Akron\, OH\, 44313\, United States
CATEGORIES:History,Nature Education
ATTACH;FMTTYPE=image/jpeg:https://www.summitmetroparks.org/wp-content/uploads/event-image-fox.jpg
END:VEVENT
BEGIN:VEVENT
DTSTART;TZID=America/New_York:20260201T173000
DTEND;TZID=America/New_York:20260201T183000
DTSTAMP:20260422T093614
CREATED:20250827T142817Z
LAST-MODIFIED:20250908T152452Z
UID:10004717-1769967000-1769970600@www.summitmetroparks.org
SUMMARY:Lawnspiracy!
DESCRIPTION:Fertilizer\, gallons of water\, hours of mowing all for a plant that can’t even support a fraction of the life of our native plants can. Why do we think grass lawns are a must and what can we do about it? Follow the money\, unravel the history and learn how you can fight back against the “lawnspiracy” with your own Wild Back Yard.
URL:https://www.summitmetroparks.org/program-events/lawnspiracy/
LOCATION:SLNC\, 411 Ira Ave.\, Akron\, OH\, 44301\, United States
CATEGORIES:Eco-friendly Home & Gardens,Educational,History,Wild Back Yards
ATTACH;FMTTYPE=image/jpeg:https://www.summitmetroparks.org/wp-content/uploads/Event-Image-WBY.jpg
END:VEVENT
BEGIN:VEVENT
DTSTART;TZID=America/New_York:20260201T183000
DTEND;TZID=America/New_York:20260201T203000
DTSTAMP:20260422T093614
CREATED:20250825T155225Z
LAST-MODIFIED:20260129T182057Z
UID:10004722-1769970600-1769977800@www.summitmetroparks.org
SUMMARY:Enjoy the Snow Moon
DESCRIPTION:Join a naturalist as we explore moon facts\, myths and lore while staying warm indoors. If conditions allow\, we may still step outside briefly to view the moon (telescopes may be available if skies are clear). Enjoy a warm fire and hot chocolate during the program.
URL:https://www.summitmetroparks.org/program-events/enjoy-the-snow-moon/
LOCATION:LP/Nature Center\, 9999 Liberty Rd.\, Twinsburg\, OH\, 44087\, United States
CATEGORIES:Good For All Ages,History,Nature Education
ATTACH;FMTTYPE=image/jpeg:https://www.summitmetroparks.org/wp-content/uploads/event-image-full-moon.jpg
END:VEVENT
BEGIN:VEVENT
DTSTART;TZID=America/New_York:20260212T190000
DTEND;TZID=America/New_York:20260212T200000
DTSTAMP:20260422T093614
CREATED:20250827T140810Z
LAST-MODIFIED:20250902T191209Z
UID:10004614-1770922800-1770926400@www.summitmetroparks.org
SUMMARY:Untold Stories of Freshwater Mussels
DESCRIPTION:Freshwater mussels are now our most threatened — and perhaps\, forgotten — group of animals in the state. Join a naturalist to learn about them and the role they’ve played in creating the Ohio we know today.
URL:https://www.summitmetroparks.org/program-events/untold-stories-of-freshwater-mussels/
LOCATION:SLNC\, 411 Ira Ave.\, Akron\, OH\, 44301\, United States
CATEGORIES:History,Nature Education,Sustainability
ATTACH;FMTTYPE=image/jpeg:https://www.summitmetroparks.org/wp-content/uploads/event-image-water.jpg
END:VEVENT
BEGIN:VEVENT
DTSTART;TZID=America/New_York:20260216T183000
DTEND;TZID=America/New_York:20260216T193000
DTSTAMP:20260422T093614
CREATED:20250825T153551Z
LAST-MODIFIED:20250903T150807Z
UID:10004643-1771266600-1771270200@www.summitmetroparks.org
SUMMARY:Virtual: History of Deep Lock Quarry
DESCRIPTION:Join us online to learn the history of Deep Lock Quarry and the role it played on the Ohio and Erie Canal\, in Akron and beyond. We’ll discover nearly two centuries of history through stories and images. Zoom meeting ID: 873 6782 3993
URL:https://www.summitmetroparks.org/program-events/virtual-history-of-deep-lock-quarry/
LOCATION:Virtual
CATEGORIES:History
ATTACH;FMTTYPE=image/jpeg:https://www.summitmetroparks.org/wp-content/uploads/event-image-deep-lock-quarry.jpg
END:VEVENT
BEGIN:VEVENT
DTSTART;TZID=America/New_York:20260228T100000
DTEND;TZID=America/New_York:20260228T113000
DTSTAMP:20260422T093614
CREATED:20250822T150607Z
LAST-MODIFIED:20250925T161024Z
UID:10004655-1772272800-1772278200@www.summitmetroparks.org
SUMMARY:Dazzle with Basil
DESCRIPTION:Learn about one of the world’s most popular herbs — its origins\, history\, popular varieties and how to best use it when cooking. Enjoy a food sample including basil.
URL:https://www.summitmetroparks.org/program-events/dazzle-with-basil/
LOCATION:FASN/Visitors Center\, 1828 Smith Rd.\, Akron\, OH\, 44313\, United States
CATEGORIES:Eco-friendly Home & Gardens,Educational,Health & Fitness,History
ATTACH;FMTTYPE=image/jpeg:https://www.summitmetroparks.org/wp-content/uploads/Event-Image-FASN.jpg
END:VEVENT
END:VCALENDAR