BEGIN:VCALENDAR
VERSION:2.0
PRODID:-//Summit Metro Parks - ECPv6.15.20//NONSGML v1.0//EN
CALSCALE:GREGORIAN
METHOD:PUBLISH
X-ORIGINAL-URL:https://www.summitmetroparks.org
X-WR-CALDESC:Events for Summit Metro Parks
REFRESH-INTERVAL;VALUE=DURATION:PT1H
X-Robots-Tag:noindex
X-PUBLISHED-TTL:PT1H
BEGIN:VTIMEZONE
TZID:America/New_York
BEGIN:DAYLIGHT
TZOFFSETFROM:-0500
TZOFFSETTO:-0400
TZNAME:EDT
DTSTART:20230312T070000
END:DAYLIGHT
BEGIN:STANDARD
TZOFFSETFROM:-0400
TZOFFSETTO:-0500
TZNAME:EST
DTSTART:20231105T060000
END:STANDARD
BEGIN:DAYLIGHT
TZOFFSETFROM:-0500
TZOFFSETTO:-0400
TZNAME:EDT
DTSTART:20240310T070000
END:DAYLIGHT
BEGIN:STANDARD
TZOFFSETFROM:-0400
TZOFFSETTO:-0500
TZNAME:EST
DTSTART:20241103T060000
END:STANDARD
BEGIN:DAYLIGHT
TZOFFSETFROM:-0500
TZOFFSETTO:-0400
TZNAME:EDT
DTSTART:20250309T070000
END:DAYLIGHT
BEGIN:STANDARD
TZOFFSETFROM:-0400
TZOFFSETTO:-0500
TZNAME:EST
DTSTART:20251102T060000
END:STANDARD
BEGIN:DAYLIGHT
TZOFFSETFROM:-0500
TZOFFSETTO:-0400
TZNAME:EDT
DTSTART:20260308T070000
END:DAYLIGHT
BEGIN:STANDARD
TZOFFSETFROM:-0400
TZOFFSETTO:-0500
TZNAME:EST
DTSTART:20261101T060000
END:STANDARD
END:VTIMEZONE
BEGIN:VEVENT
DTSTART;TZID=America/New_York:20250403T103000
DTEND;TZID=America/New_York:20250403T123000
DTSTAMP:20260422T212308
CREATED:20241031T155553Z
LAST-MODIFIED:20241108T174918Z
UID:10003892-1743676200-1743683400@www.summitmetroparks.org
SUMMARY:Homeschoolers: Earth Day
DESCRIPTION:Homeschoolers ages 7 to 12: Let’s take a close look at one of the most important holidays\, Earth Day! We’ll discover how people from across the world celebrate and come up with some of our own meaningful ways to honor our planet. Registration is required and begins on 3/28.
URL:https://www.summitmetroparks.org/program-events/homeschoolers-earth-day/
LOCATION:FASN/Visitors Center\, 1828 Smith Rd.\, Akron\, OH\, 44313\, United States
CATEGORIES:Eco-friendly Home & Gardens
ATTACH;FMTTYPE=image/jpeg:https://www.summitmetroparks.org/wp-content/uploads/programs-cta-metro-leaf.jpg
END:VEVENT
BEGIN:VEVENT
DTSTART;TZID=America/New_York:20250327T153000
DTEND;TZID=America/New_York:20250327T163000
DTSTAMP:20260422T212308
CREATED:20241031T204534Z
LAST-MODIFIED:20241219T201048Z
UID:10003932-1743089400-1743093000@www.summitmetroparks.org
SUMMARY:Kids in the Garden
DESCRIPTION:Join us in collaboration with Let’s Grow Akron for weekly hands-on gardening activities for children of all ages. Seed\, sow\, water\, harvest and enjoy! Each week we’ll have a game or craft\, garden activity and a snack themed around what is growing and ready to harvest in the garden. In the event of inclement weather\, the program will be held indoors.
URL:https://www.summitmetroparks.org/program-events/kids-in-the-garden-32/
LOCATION:SLNC\, 411 Ira Ave.\, Akron\, OH\, 44301\, United States
CATEGORIES:Eco-friendly Home & Gardens,Good For All Ages
ATTACH;FMTTYPE=image/jpeg:https://www.summitmetroparks.org/wp-content/uploads/event-image-garden.jpg
END:VEVENT
BEGIN:VEVENT
DTSTART;TZID=America/New_York:20250323T150000
DTEND;TZID=America/New_York:20250323T160000
DTSTAMP:20260422T212308
CREATED:20241024T192535Z
LAST-MODIFIED:20250123T134406Z
UID:10003985-1742742000-1742745600@www.summitmetroparks.org
SUMMARY:Back Yards Gone Wild: DIY Bluebird Boxes
DESCRIPTION:Join a naturalist for this monthly series focused on creating nature-friendly back yards. This month we will learn about cavity-nesting birds such as chickadees\, bluebirds and wrens. After a short presentation\, participants can make a bluebird box to take home\, free of charge\, courtesy of the Ohio Department of Natural Resources. Limit one kit per household. Registration is required and begins on 3/13.
URL:https://www.summitmetroparks.org/program-events/back-yards-gone-wild-diy-bluebird-boxes/
LOCATION:LP/Nature Center\, 9999 Liberty Rd.\, Twinsburg\, OH\, 44087\, United States
CATEGORIES:Eco-friendly Home & Gardens,Educational,Nature Education,Wild Back Yards
ATTACH;FMTTYPE=image/jpeg:https://www.summitmetroparks.org/wp-content/uploads/event-image-bluebird.jpg
END:VEVENT
BEGIN:VEVENT
DTSTART;TZID=America/New_York:20250323T130000
DTEND;TZID=America/New_York:20250323T140000
DTSTAMP:20260422T212308
CREATED:20241024T195905Z
LAST-MODIFIED:20250123T134410Z
UID:10003984-1742734800-1742738400@www.summitmetroparks.org
SUMMARY:Back Yards Gone Wild: DIY Bluebird Boxes
DESCRIPTION:Join a naturalist for this monthly series focused on creating nature-friendly back yards. This month we will learn about cavity-nesting birds such as chickadees\, bluebirds and wrens. After a short presentation\, participants can make a bluebird box to take home\, free of charge\, courtesy of the Ohio Department of Natural Resources. Limit one kit per household. Registration is required and begins on 3/13.
URL:https://www.summitmetroparks.org/program-events/back-yards-gone-wild-diy-bluebird-boxes-2/
LOCATION:LP/Nature Center\, 9999 Liberty Rd.\, Twinsburg\, OH\, 44087\, United States
CATEGORIES:Eco-friendly Home & Gardens,Educational,Nature Education,Wild Back Yards
ATTACH;FMTTYPE=image/jpeg:https://www.summitmetroparks.org/wp-content/uploads/event-image-bluebird.jpg
END:VEVENT
BEGIN:VEVENT
DTSTART;TZID=America/New_York:20250320T180000
DTEND;TZID=America/New_York:20250320T193000
DTSTAMP:20260422T212308
CREATED:20241030T181021Z
LAST-MODIFIED:20241114T194005Z
UID:10003979-1742493600-1742499000@www.summitmetroparks.org
SUMMARY:Good Garden Talks: History of Food Crops
DESCRIPTION:Join us in collaboration with Let’s Grow Akron and OSU Extension to learn about the interesting history of common fruits and vegetables grown in gardens. Discover how different crops made their way around the world\, changing tastes and cuisines along the way.
URL:https://www.summitmetroparks.org/program-events/good-gardens-talks-history-of-food-crops/
LOCATION:GYH/Goodyear Heights Lodge\, 2077 Newton St.\, Akron\, OH\, 44305\, United States
CATEGORIES:Eco-friendly Home & Gardens,Nature Education
ATTACH;FMTTYPE=image/jpeg:https://www.summitmetroparks.org/wp-content/uploads/event-image-garden-tomatoes.jpg
END:VEVENT
BEGIN:VEVENT
DTSTART;TZID=America/New_York:20250320T153000
DTEND;TZID=America/New_York:20250320T163000
DTSTAMP:20260422T212308
CREATED:20241031T204340Z
LAST-MODIFIED:20241219T200943Z
UID:10003931-1742484600-1742488200@www.summitmetroparks.org
SUMMARY:Kids in the Garden
DESCRIPTION:Join us in collaboration with Let’s Grow Akron for weekly hands-on gardening activities for children of all ages. Seed\, sow\, water\, harvest and enjoy! Each week we’ll have a game or craft\, garden activity and a snack themed around what is growing and ready to harvest in the garden. In the event of inclement weather\, the program will be held indoors.
URL:https://www.summitmetroparks.org/program-events/kids-in-the-garden-31/
LOCATION:SLNC\, 411 Ira Ave.\, Akron\, OH\, 44301\, United States
CATEGORIES:Eco-friendly Home & Gardens,Good For All Ages
ATTACH;FMTTYPE=image/jpeg:https://www.summitmetroparks.org/wp-content/uploads/event-image-garden.jpg
END:VEVENT
BEGIN:VEVENT
DTSTART;TZID=America/New_York:20250313T183000
DTEND;TZID=America/New_York:20250313T200000
DTSTAMP:20260422T212308
CREATED:20241031T181120Z
LAST-MODIFIED:20241107T205428Z
UID:10003886-1741890600-1741896000@www.summitmetroparks.org
SUMMARY:Homegrown Habitats: Shade Plants
DESCRIPTION:Calling all people with yards or green spaces\, big and small: Join us for this monthly series and learn how to rewild your home landscape. This month we’ll spotlight shade-dwelling plants to add to your outdoor spaces with less than 3 hours of direct sunlight.
URL:https://www.summitmetroparks.org/program-events/homegrown-habitats-shade-plants/
LOCATION:FASN/Visitors Center\, 1828 Smith Rd.\, Akron\, OH\, 44313\, United States
CATEGORIES:Eco-friendly Home & Gardens,Nature Education,Wild Back Yards
ATTACH;FMTTYPE=image/jpeg:https://www.summitmetroparks.org/wp-content/uploads/Event-Image-WBY.jpg
END:VEVENT
BEGIN:VEVENT
DTSTART;TZID=America/New_York:20250313T153000
DTEND;TZID=America/New_York:20250313T163000
DTSTAMP:20260422T212308
CREATED:20241031T204304Z
LAST-MODIFIED:20241219T200735Z
UID:10003930-1741879800-1741883400@www.summitmetroparks.org
SUMMARY:Kids in the Garden
DESCRIPTION:Join us in collaboration with Let’s Grow Akron for weekly hands-on gardening activities for children of all ages. Seed\, sow\, water\, harvest and enjoy! Each week we’ll have a game or craft\, garden activity and a snack themed around what is growing and ready to harvest in the garden. In the event of inclement weather\, the program will be moved indoors.
URL:https://www.summitmetroparks.org/program-events/kids-in-the-garden-30/
LOCATION:SLNC\, 411 Ira Ave.\, Akron\, OH\, 44301\, United States
CATEGORIES:Eco-friendly Home & Gardens,Educational,Good For All Ages
ATTACH;FMTTYPE=image/jpeg:https://www.summitmetroparks.org/wp-content/uploads/event-image-garden.jpg
END:VEVENT
BEGIN:VEVENT
DTSTART;TZID=America/New_York:20250306T153000
DTEND;TZID=America/New_York:20250306T163000
DTSTAMP:20260422T212308
CREATED:20241031T185732Z
LAST-MODIFIED:20241219T200409Z
UID:10003929-1741275000-1741278600@www.summitmetroparks.org
SUMMARY:Kids in the Garden
DESCRIPTION:Join us in collaboration with Let’s Grow Akron for weekly hands-on gardening activities for children of all ages. Seed\, sow\, water\, harvest and enjoy! Each week we’ll have a game or craft\, garden activity and a snack themed around what is growing and ready to harvest in the garden. In the event of inclement weather\, the program will be held indoors.
URL:https://www.summitmetroparks.org/program-events/kids-in-the-garden-29/
LOCATION:SLNC\, 411 Ira Ave.\, Akron\, OH\, 44301\, United States
CATEGORIES:Eco-friendly Home & Gardens,Educational,Nature Education
ATTACH;FMTTYPE=image/jpeg:https://www.summitmetroparks.org/wp-content/uploads/Event-Image-SLNC.jpg
END:VEVENT
BEGIN:VEVENT
DTSTART;TZID=America/New_York:20250226T190000
DTEND;TZID=America/New_York:20250226T203000
DTSTAMP:20260422T212308
CREATED:20240909T151009Z
LAST-MODIFIED:20240912T184234Z
UID:10003818-1740596400-1740601800@www.summitmetroparks.org
SUMMARY:Meet Me In The Garden: Creating Iris Envy
DESCRIPTION:Discover the best plan for success to growing fabulous irises in your garden\, including best choices for Ohio’s climate\, iris types\, bloom time\, dividing and minimizing pests and diseases.
URL:https://www.summitmetroparks.org/program-events/meet-me-in-the-garden-creating-iris-envy/
LOCATION:FASN/Visitors Center\, 1828 Smith Rd.\, Akron\, OH\, 44313\, United States
CATEGORIES:Eco-friendly Home & Gardens,Educational
ATTACH;FMTTYPE=image/jpeg:https://www.summitmetroparks.org/wp-content/uploads/Event-Image-Wildflowers.jpg
END:VEVENT
BEGIN:VEVENT
DTSTART;TZID=America/New_York:20250223T130000
DTEND;TZID=America/New_York:20250223T143000
DTSTAMP:20260422T212308
CREATED:20240904T195514Z
LAST-MODIFIED:20240912T184557Z
UID:10003679-1740315600-1740321000@www.summitmetroparks.org
SUMMARY:Planning Your 2025 Wild Back Yard
DESCRIPTION:Planning on updating your landscape in the coming year? Join a naturalist to discuss how to create a beautiful and biodiverse Wild Back Yard. Learn about rain and container gardens and which plants\, trees or shrubs will give you the best results to improve biodiversity in your outdoor space.
URL:https://www.summitmetroparks.org/program-events/planning-your-wild-back-yard-for-2025/
LOCATION:LP/Nature Center\, 9999 Liberty Rd.\, Twinsburg\, OH\, 44087\, United States
CATEGORIES:Eco-friendly Home & Gardens,Nature Education,Wild Back Yards
ATTACH;FMTTYPE=image/jpeg:https://www.summitmetroparks.org/wp-content/uploads/event-image-goldfinch.jpg
END:VEVENT
BEGIN:VEVENT
DTSTART;TZID=America/New_York:20250126T140000
DTEND;TZID=America/New_York:20250126T153000
DTSTAMP:20260422T212308
CREATED:20240829T181035Z
LAST-MODIFIED:20240930T145321Z
UID:10003599-1737900000-1737905400@www.summitmetroparks.org
SUMMARY:Back Yards Gone Wild: Mason Bee Houses
DESCRIPTION:Join a naturalist for this bimonthly series on welcoming nature into our yards. This month\, we will learn about mason bees\, essential early-season pollinators\, and make a pair of simple houses to take home. Registration is required and begins 1/16.
URL:https://www.summitmetroparks.org/program-events/back-yards-gone-wild-mason-bee-houses/
LOCATION:LP/Nature Center\, 9999 Liberty Rd.\, Twinsburg\, OH\, 44087\, United States
CATEGORIES:Eco-friendly Home & Gardens,Nature Education
ATTACH;FMTTYPE=image/jpeg:https://www.summitmetroparks.org/wp-content/uploads/Event-Image-Wildflowers.jpg
END:VEVENT
BEGIN:VEVENT
DTSTART;TZID=America/New_York:20250124T120000
DTEND;TZID=America/New_York:20250124T130000
DTSTAMP:20260422T212308
CREATED:20240909T185245Z
LAST-MODIFIED:20240930T144511Z
UID:10003786-1737720000-1737723600@www.summitmetroparks.org
SUMMARY:Bird Feeders 101
DESCRIPTION:Join a naturalist at our bird-feeding window to examine the many types of food and feeders you can use to attract birds right to your back yard.
URL:https://www.summitmetroparks.org/program-events/bird-feeders-101/
LOCATION:FASN/Visitors Center\, 1828 Smith Rd.\, Akron\, OH\, 44313\, United States
CATEGORIES:Eco-friendly Home & Gardens,Nature Education,Wild Back Yards
ATTACH;FMTTYPE=image/jpeg:https://www.summitmetroparks.org/wp-content/uploads/event-image-goldfinch.jpg
END:VEVENT
BEGIN:VEVENT
DTSTART;TZID=America/New_York:20241207T140000
DTEND;TZID=America/New_York:20241207T160000
DTSTAMP:20260422T212308
CREATED:20240829T183420Z
LAST-MODIFIED:20241125T184022Z
UID:10003641-1733580000-1733587200@www.summitmetroparks.org
SUMMARY:Holiday Wreath Making
DESCRIPTION:Join a naturalist to make holiday wreaths! Learn which evergreens make the best wreaths and which of those are native to Ohio. You’ll also learn how to use other native plant materials such as winterberry\, dried grasses and vines to add accents to your wreath. Each person can take home one wreath for the holiday season. Cost is $20/person.  Registration is required and begins 11/14. Space is limited.
URL:https://www.summitmetroparks.org/program-events/holiday-wreath-making-2/
LOCATION:LP/Nature Center\, 9999 Liberty Rd.\, Twinsburg\, OH\, 44087\, United States
CATEGORIES:Eco-friendly Home & Gardens,Educational,Nature Education
ATTACH;FMTTYPE=image/jpeg:https://www.summitmetroparks.org/wp-content/uploads/event-image-winterberry.jpg
END:VEVENT
BEGIN:VEVENT
DTSTART;TZID=America/New_York:20241207T100000
DTEND;TZID=America/New_York:20241207T120000
DTSTAMP:20260422T212308
CREATED:20240829T182834Z
LAST-MODIFIED:20241125T183946Z
UID:10003640-1733565600-1733572800@www.summitmetroparks.org
SUMMARY:Holiday Wreath Making
DESCRIPTION:Join a naturalist to make holiday wreaths! Learn which evergreens make the best wreaths and which of those are native to Ohio. You’ll also learn how to use other native plant materials such as winterberry\, dried grasses and vines to add accents to your wreath. Each person can take home one wreath for the holiday season. Cost is $20/person. Registration is required and begins 11/14. Space is limited.
URL:https://www.summitmetroparks.org/program-events/holiday-wreath-making/
LOCATION:LP/Nature Center\, 9999 Liberty Rd.\, Twinsburg\, OH\, 44087\, United States
CATEGORIES:Eco-friendly Home & Gardens,Educational,Nature Education
ATTACH;FMTTYPE=image/jpeg:https://www.summitmetroparks.org/wp-content/uploads/event-image-winterberry.jpg
END:VEVENT
BEGIN:VEVENT
DTSTART;TZID=America/New_York:20241206T080000
DTEND;TZID=America/New_York:20241206T170000
DTSTAMP:20260422T212308
CREATED:20241206T153456Z
LAST-MODIFIED:20241206T153456Z
UID:10004043-1733472000-1733504400@www.summitmetroparks.org
SUMMARY:Drop-In: Bird Feeder Craft
DESCRIPTION:Want to attract birds to your yard? Drop in and make your own mini bird feeders using sun butter and tree cookies.
URL:https://www.summitmetroparks.org/program-events/drop-in-bird-feeder-craft/
LOCATION:OH
CATEGORIES:Eco-friendly Home & Gardens,Educational,Good For All Ages
ATTACH;FMTTYPE=image/jpeg:https://www.summitmetroparks.org/wp-content/uploads/Event-Image-Spring-Birding.jpg
END:VEVENT
BEGIN:VEVENT
DTSTART;TZID=America/New_York:20241205T180000
DTEND;TZID=America/New_York:20241205T193000
DTSTAMP:20260422T212308
CREATED:20241030T180444Z
LAST-MODIFIED:20241031T121914Z
UID:10004011-1733421600-1733427000@www.summitmetroparks.org
SUMMARY:Good Garden Talks: Winter Sowing
DESCRIPTION:Some call it the lazy way to start your seeds — we call this method smart and fun! Join us in collaboration with Let’s Grow Akron and OSU Extension to learn winter sowing. Grow your seedlings by planting seeds outdoors in vented containers to foster the naturally timed germination of climate-tolerant varieties.
URL:https://www.summitmetroparks.org/program-events/good-garden-talks-winter-sowing/
LOCATION:OH
CATEGORIES:Eco-friendly Home & Gardens,Educational
ATTACH;FMTTYPE=image/jpeg:https://www.summitmetroparks.org/wp-content/uploads/Event-Image-WBY.jpg
END:VEVENT
BEGIN:VEVENT
DTSTART;TZID=America/New_York:20241201T130000
DTEND;TZID=America/New_York:20241201T150000
DTSTAMP:20260422T212308
CREATED:20240909T201032Z
LAST-MODIFIED:20241125T184743Z
UID:10003607-1733058000-1733065200@www.summitmetroparks.org
SUMMARY:Ginger"bird" House Feeders
DESCRIPTION:Join us to create a gingerbread-inspired bird feeder out of seeds\, nuts\, festive foliage and more. We will learn about healthy backyard bird diets and send you home with your nutty creation. Registration is required and begins on 11/24.
URL:https://www.summitmetroparks.org/program-events/gingerbird-house-feeders/
LOCATION:FASN/Visitors Center\, 1828 Smith Rd.\, Akron\, OH\, 44313\, United States
CATEGORIES:Eco-friendly Home & Gardens
ATTACH;FMTTYPE=image/jpeg:https://www.summitmetroparks.org/wp-content/uploads/Event-Image-Fall-Bird.jpg
END:VEVENT
BEGIN:VEVENT
DTSTART;TZID=America/New_York:20241123T140000
DTEND;TZID=America/New_York:20241123T160000
DTSTAMP:20260422T212308
CREATED:20240829T145150Z
LAST-MODIFIED:20240917T152239Z
UID:10003556-1732370400-1732377600@www.summitmetroparks.org
SUMMARY:Birdfeeder Buffet
DESCRIPTION:As winter approaches\, let’s welcome our winter migrants with information about bird feeders you can buy or make yourself this season to keep visitors and year-round residents well fed.
URL:https://www.summitmetroparks.org/program-events/birdfeeder-buffet/
LOCATION:FR/Brushwood Area\, 4955 Townsend Rd.\, Richfield\, OH\, 44286\, United States
CATEGORIES:Eco-friendly Home & Gardens,Nature Education
ATTACH;FMTTYPE=image/jpeg:https://www.summitmetroparks.org/wp-content/uploads/Event-Image-Fall-Bird.jpg
END:VEVENT
BEGIN:VEVENT
DTSTART;TZID=America/New_York:20241117T140000
DTEND;TZID=America/New_York:20241117T153000
DTSTAMP:20260422T212308
CREATED:20240909T160506Z
LAST-MODIFIED:20240916T201425Z
UID:10003793-1731852000-1731857400@www.summitmetroparks.org
SUMMARY:Back Yards Gone Wild: DIY Woodpecker Feeders
DESCRIPTION:Join a naturalist to learn about the fascinating lives of woodpeckers and how to attract them to your yard\, then create a simple bird feeder to take home.
URL:https://www.summitmetroparks.org/program-events/back-yards-gone-wild-diy-woodpecker-feeders/
LOCATION:LP/Nature Center\, 9999 Liberty Rd.\, Twinsburg\, OH\, 44087\, United States
CATEGORIES:Eco-friendly Home & Gardens,Nature Education,Wild Back Yards
ATTACH;FMTTYPE=image/jpeg:https://www.summitmetroparks.org/wp-content/uploads/event-image-woodpecker.jpg
END:VEVENT
BEGIN:VEVENT
DTSTART;TZID=America/New_York:20241107T180000
DTEND;TZID=America/New_York:20241107T193000
DTSTAMP:20260422T212308
CREATED:20241015T193848Z
LAST-MODIFIED:20241016T134140Z
UID:10003902-1731002400-1731007800@www.summitmetroparks.org
SUMMARY:Good Garden Talks: Making Birdhouse Gourds
DESCRIPTION:Join us in collaboration with Let’s Grow Akron and OSU Extension to make a bird house from a gourd! All supplies will be provided. In the event of inclement weather\, the program will be held inside Summit Lake Nature Center. 
URL:https://www.summitmetroparks.org/program-events/good-garden-talks-making-birdhouse-gourds/
LOCATION:SLNC\, 411 Ira Ave.\, Akron\, OH\, 44301\, United States
CATEGORIES:Eco-friendly Home & Gardens
ATTACH;FMTTYPE=image/jpeg:https://www.summitmetroparks.org/wp-content/uploads/event-image-winter-bird-1.jpg
END:VEVENT
BEGIN:VEVENT
DTSTART;TZID=America/New_York:20241024T153000
DTEND;TZID=America/New_York:20241024T163000
DTSTAMP:20260422T212308
CREATED:20240728T141013Z
LAST-MODIFIED:20240814T132053Z
UID:10003449-1729783800-1729787400@www.summitmetroparks.org
SUMMARY:Kids in the Garden
DESCRIPTION:Join us in collaboration with Let’s Grow Akron for this weekly gardening program for children of all ages. Each class builds upon the last and will be centered on what’s growing and ready to harvest in the garden.
URL:https://www.summitmetroparks.org/program-events/kids-in-the-garden-21/
LOCATION:SLNC\, 411 Ira Ave.\, Akron\, OH\, 44301\, United States
CATEGORIES:Eco-friendly Home & Gardens,Nature Education
ATTACH;FMTTYPE=image/jpeg:https://www.summitmetroparks.org/wp-content/uploads/event-image-garden.jpg
END:VEVENT
BEGIN:VEVENT
DTSTART;TZID=America/New_York:20241024T100000
DTEND;TZID=America/New_York:20241024T113000
DTSTAMP:20260422T212308
CREATED:20240728T141337Z
LAST-MODIFIED:20240805T190822Z
UID:10003451-1729764000-1729769400@www.summitmetroparks.org
SUMMARY:Lil Sprouts
DESCRIPTION:This biweekly program is designed to engage young children and accompanying adults in the wonderful world of gardening. Each class builds upon the last and will be centered on what’s growing and ready to harvest! Adults are asked to actively participate with children during the program. Registration is required and begins 9/26.
URL:https://www.summitmetroparks.org/program-events/lil-sprouts-10/
LOCATION:SLNC\, 411 Ira Ave.\, Akron\, OH\, 44301\, United States
CATEGORIES:Eco-friendly Home & Gardens,Nature Education,Wild Back Yards
ATTACH;FMTTYPE=image/jpeg:https://www.summitmetroparks.org/wp-content/uploads/event-image-garden.jpg
END:VEVENT
BEGIN:VEVENT
DTSTART;TZID=America/New_York:20241017T180000
DTEND;TZID=America/New_York:20241017T193000
DTSTAMP:20260422T212308
CREATED:20240728T145626Z
LAST-MODIFIED:20240805T191708Z
UID:10003461-1729188000-1729193400@www.summitmetroparks.org
SUMMARY:Good Garden Talks: Seed Saving & Swap
DESCRIPTION:Join us in collaboration with Let’s Grow Akron and OSU Extension for a short program on seed saving followed by a seed swap. These can be seeds harvested from plants you grow\, or extra seeds leftover from packets. Seeds should be labeled with variety name and packed in small quantities if possible. Vegetables\, herbs and native plants are preferred\, but all seeds are welcome!
URL:https://www.summitmetroparks.org/program-events/good-garden-talks-seed-saving-swap/
LOCATION:GYH/Main Entrance\, 2077 Newton St.\, Akron\, OH\, 44305\, United States
CATEGORIES:Eco-friendly Home & Gardens
ATTACH;FMTTYPE=image/jpeg:https://www.summitmetroparks.org/wp-content/uploads/event-image-garden-tomatoes.jpg
END:VEVENT
BEGIN:VEVENT
DTSTART;TZID=America/New_York:20241017T153000
DTEND;TZID=America/New_York:20241017T163000
DTSTAMP:20260422T212308
CREATED:20240728T145738Z
LAST-MODIFIED:20240814T132046Z
UID:10003462-1729179000-1729182600@www.summitmetroparks.org
SUMMARY:Kids in the Garden
DESCRIPTION:Join us in collaboration with Let’s Grow Akron for this weekly gardening program for children of all ages. Each class builds upon the last and will be centered on what’s growing and ready to harvest in the garden.
URL:https://www.summitmetroparks.org/program-events/kids-in-the-garden-22/
LOCATION:SLNC\, 411 Ira Ave.\, Akron\, OH\, 44301\, United States
CATEGORIES:Eco-friendly Home & Gardens,Nature Education
ATTACH;FMTTYPE=image/jpeg:https://www.summitmetroparks.org/wp-content/uploads/event-image-garden.jpg
END:VEVENT
BEGIN:VEVENT
DTSTART;TZID=America/New_York:20241017T100000
DTEND;TZID=America/New_York:20241017T113000
DTSTAMP:20260422T212308
CREATED:20240910T125711Z
LAST-MODIFIED:20240917T152132Z
UID:10003816-1729159200-1729164600@www.summitmetroparks.org
SUMMARY:Lil' Sprouts
DESCRIPTION:This biweekly program is designed to engage young children and accompanying adults in the wonderful world of gardening. Each class builds upon the last and will be centered on what’s growing and ready to harvest! Adults are asked to actively participate with children during the program. Registration is required and begins on 9/26.
URL:https://www.summitmetroparks.org/program-events/lil-sprouts-14/2024-10-17/
LOCATION:OH
CATEGORIES:Eco-friendly Home & Gardens,Educational,Nature Education
ATTACH;FMTTYPE=image/jpeg:https://www.summitmetroparks.org/wp-content/uploads/event-image-garden.jpg
END:VEVENT
BEGIN:VEVENT
DTSTART;TZID=America/New_York:20241010T153000
DTEND;TZID=America/New_York:20241010T163000
DTSTAMP:20260422T212308
CREATED:20240728T150925Z
LAST-MODIFIED:20240814T132041Z
UID:10003467-1728574200-1728577800@www.summitmetroparks.org
SUMMARY:Kids in the Garden
DESCRIPTION:Join us in collaboration with Let’s Grow Akron for this weekly gardening program for children of all ages. Each class builds upon the last and will be centered on what’s growing and ready to harvest in the garden.
URL:https://www.summitmetroparks.org/program-events/kids-in-the-garden-23/
LOCATION:SLNC\, 411 Ira Ave.\, Akron\, OH\, 44301\, United States
CATEGORIES:Eco-friendly Home & Gardens,Nature Education
ATTACH;FMTTYPE=image/jpeg:https://www.summitmetroparks.org/wp-content/uploads/event-image-garden.jpg
END:VEVENT
BEGIN:VEVENT
DTSTART;TZID=America/New_York:20241003T180000
DTEND;TZID=America/New_York:20241003T193000
DTSTAMP:20260422T212308
CREATED:20240728T151238Z
LAST-MODIFIED:20240805T194047Z
UID:10003468-1727978400-1727983800@www.summitmetroparks.org
SUMMARY:Good Garden Talks: Seed Saving & Swap
DESCRIPTION:Join us in collaboration with Let’s Grow Akron and OSU Extension for a short program on seed saving followed by a seed swap. These can be seeds harvested from plants you grow\, or extra seeds leftover from packets. Seeds should be labeled with variety name and packed in small quantities if possible. Vegetables\, herbs and native plants are preferred\, but all seeds are welcome! Anyone can attend\, even if you don’t have seeds to share.
URL:https://www.summitmetroparks.org/program-events/good-garden-talks-seed-saving-swap-2/
LOCATION:SLNC\, 411 Ira Ave.\, Akron\, OH\, 44301\, United States
CATEGORIES:Eco-friendly Home & Gardens
ATTACH;FMTTYPE=image/jpeg:https://www.summitmetroparks.org/wp-content/uploads/event-image-garden-tomatoes.jpg
END:VEVENT
BEGIN:VEVENT
DTSTART;TZID=America/New_York:20241003T153000
DTEND;TZID=America/New_York:20241003T163000
DTSTAMP:20260422T212308
CREATED:20240728T151506Z
LAST-MODIFIED:20240814T132035Z
UID:10003469-1727969400-1727973000@www.summitmetroparks.org
SUMMARY:Kids in the Garden
DESCRIPTION:Join us in collaboration with Let’s Grow Akron and OSU Extension for a short program on seed saving followed by a seed swap. These can be seeds harvested from plants you grow\, or extra seeds leftover from packets. Seeds should be labeled with variety name and packed in small quantities if possible. Vegetables\, herbs\, and native plants are preferred\, but all seeds are welcome! Anyone can attend\, even if you don’t have seeds to share.
URL:https://www.summitmetroparks.org/program-events/kids-in-the-garden-24/
LOCATION:SLNC\, 411 Ira Ave.\, Akron\, OH\, 44301\, United States
CATEGORIES:Eco-friendly Home & Gardens,Nature Education
ATTACH;FMTTYPE=image/jpeg:https://www.summitmetroparks.org/wp-content/uploads/event-image-garden.jpg
END:VEVENT
BEGIN:VEVENT
DTSTART;TZID=America/New_York:20241003T100000
DTEND;TZID=America/New_York:20241003T113000
DTSTAMP:20260422T212308
CREATED:20240910T125711Z
LAST-MODIFIED:20240917T152132Z
UID:10003815-1727949600-1727955000@www.summitmetroparks.org
SUMMARY:Lil' Sprouts
DESCRIPTION:This biweekly program is designed to engage young children and accompanying adults in the wonderful world of gardening. Each class builds upon the last and will be centered on what’s growing and ready to harvest! Adults are asked to actively participate with children during the program. Registration is required and begins on 9/26.
URL:https://www.summitmetroparks.org/program-events/lil-sprouts-14/2024-10-03/
LOCATION:OH
CATEGORIES:Eco-friendly Home & Gardens,Educational,Nature Education
ATTACH;FMTTYPE=image/jpeg:https://www.summitmetroparks.org/wp-content/uploads/event-image-garden.jpg
END:VEVENT
END:VCALENDAR