BEGIN:VCALENDAR
VERSION:2.0
PRODID:-//Summit Metro Parks - ECPv6.15.20//NONSGML v1.0//EN
CALSCALE:GREGORIAN
METHOD:PUBLISH
X-WR-CALNAME:Summit Metro Parks
X-ORIGINAL-URL:https://www.summitmetroparks.org
X-WR-CALDESC:Events for Summit Metro Parks
REFRESH-INTERVAL;VALUE=DURATION:PT1H
X-Robots-Tag:noindex
X-PUBLISHED-TTL:PT1H
BEGIN:VTIMEZONE
TZID:America/New_York
BEGIN:DAYLIGHT
TZOFFSETFROM:-0500
TZOFFSETTO:-0400
TZNAME:EDT
DTSTART:20230312T070000
END:DAYLIGHT
BEGIN:STANDARD
TZOFFSETFROM:-0400
TZOFFSETTO:-0500
TZNAME:EST
DTSTART:20231105T060000
END:STANDARD
BEGIN:DAYLIGHT
TZOFFSETFROM:-0500
TZOFFSETTO:-0400
TZNAME:EDT
DTSTART:20240310T070000
END:DAYLIGHT
BEGIN:STANDARD
TZOFFSETFROM:-0400
TZOFFSETTO:-0500
TZNAME:EST
DTSTART:20241103T060000
END:STANDARD
BEGIN:DAYLIGHT
TZOFFSETFROM:-0500
TZOFFSETTO:-0400
TZNAME:EDT
DTSTART:20250309T070000
END:DAYLIGHT
BEGIN:STANDARD
TZOFFSETFROM:-0400
TZOFFSETTO:-0500
TZNAME:EST
DTSTART:20251102T060000
END:STANDARD
END:VTIMEZONE
BEGIN:VEVENT
DTSTART;TZID=America/New_York:20240620T180000
DTEND;TZID=America/New_York:20240620T180000
DTSTAMP:20260424T115714
CREATED:20240711T192641Z
LAST-MODIFIED:20240711T192641Z
UID:10003203-1718906400-1718906400@www.summitmetroparks.org
SUMMARY:Good Garden Talks: Weed & Water Management in the Vegetable Garden
DESCRIPTION:Join us in collaboration with Let’s Grow Akron and OSU Extension to learn weed management and proper watering techniques for your vegetable garden. In the event of inclement weather\, the program will be held indoors.
URL:https://www.summitmetroparks.org/program-events/good-garden-talks-weed-water-management-in-the-vegetable-garden/
CATEGORIES:Eco-friendly Home & Gardens,Nature Education
END:VEVENT
BEGIN:VEVENT
DTSTART;TZID=America/New_York:20240620T153000
DTEND;TZID=America/New_York:20240620T153000
DTSTAMP:20260424T115714
CREATED:20240711T192640Z
LAST-MODIFIED:20240711T192640Z
UID:10003201-1718897400-1718897400@www.summitmetroparks.org
SUMMARY:Kids in the Garden
DESCRIPTION:Join us in collaboration with Let's Grow Akron for this weekly gardening program for children of all ages. Each class builds upon the last and will be centered on what's growing and ready to harvest in the garden.
URL:https://www.summitmetroparks.org/program-events/kids-in-the-garden-11/
CATEGORIES:Eco-friendly Home & Gardens,Nature Education
END:VEVENT
BEGIN:VEVENT
DTSTART;TZID=America/New_York:20240620T100000
DTEND;TZID=America/New_York:20240620T100000
DTSTAMP:20260424T115714
CREATED:20240711T192859Z
LAST-MODIFIED:20240711T192859Z
UID:10003242-1718877600-1718877600@www.summitmetroparks.org
SUMMARY:Lil' Sprouts
DESCRIPTION:This biweekly program is designed to engage young children and accompanying adults in the wonderful world of gardening. Each class builds upon the last and will be centered on what’s growing and ready to harvest! Adults are asked to actively participate with children during the program.
URL:https://www.summitmetroparks.org/program-events/lil-sprouts-5/
CATEGORIES:Eco-friendly Home & Gardens,Wild Back Yards
END:VEVENT
BEGIN:VEVENT
DTSTART;TZID=America/New_York:20240613T153000
DTEND;TZID=America/New_York:20240613T153000
DTSTAMP:20260424T115714
CREATED:20240711T192640Z
LAST-MODIFIED:20240711T192640Z
UID:10003202-1718292600-1718292600@www.summitmetroparks.org
SUMMARY:Kids in the Garden
DESCRIPTION:Join us in collaboration with Let's Grow Akron for this weekly gardening program for children of all ages. Each class builds upon the last and will be centered on what's growing and ready to harvest in the garden.
URL:https://www.summitmetroparks.org/program-events/kids-in-the-garden-12/
CATEGORIES:Eco-friendly Home & Gardens,Nature Education
END:VEVENT
BEGIN:VEVENT
DTSTART;TZID=America/New_York:20240606T180000
DTEND;TZID=America/New_York:20240606T180000
DTSTAMP:20260424T115714
CREATED:20240711T192641Z
LAST-MODIFIED:20240711T192641Z
UID:10003204-1717696800-1717696800@www.summitmetroparks.org
SUMMARY:Good Garden Talks: Weed & Water Management in the Vegetable Garden
DESCRIPTION:Join us in collaboration with Let's Grow Akron and OSU Extension to learn weed management and proper watering techniques for your vegetable garden. In the event of inclement weather\, the program will be held indoors.
URL:https://www.summitmetroparks.org/program-events/good-garden-talks-weed-water-management-in-the-vegetable-garden-2/
CATEGORIES:Eco-friendly Home & Gardens,Nature Education
END:VEVENT
BEGIN:VEVENT
DTSTART;TZID=America/New_York:20240606T153000
DTEND;TZID=America/New_York:20240606T153000
DTSTAMP:20260424T115714
CREATED:20240711T192642Z
LAST-MODIFIED:20240711T192642Z
UID:10003205-1717687800-1717687800@www.summitmetroparks.org
SUMMARY:Kids in the Garden
DESCRIPTION:Join us in collaboration with Let's Grow Akron for this weekly gardening program for children of all ages. Each class builds upon the last and will be centered on what's growing and ready to harvest in the garden.
URL:https://www.summitmetroparks.org/program-events/kids-in-the-garden-13/
CATEGORIES:Eco-friendly Home & Gardens,Nature Education
END:VEVENT
BEGIN:VEVENT
DTSTART;TZID=America/New_York:20240606T100000
DTEND;TZID=America/New_York:20240606T100000
DTSTAMP:20260424T115714
CREATED:20240711T192901Z
LAST-MODIFIED:20240711T192901Z
UID:10003245-1717668000-1717668000@www.summitmetroparks.org
SUMMARY:Lil' Sprouts
DESCRIPTION:This biweekly program is designed to engage young children and accompanying adults in the wonderful world of gardening. Each class builds upon the last and will be centered on what’s growing and ready to harvest! Adults are asked to actively participate with children during the program.
URL:https://www.summitmetroparks.org/program-events/lil-sprouts-6/
CATEGORIES:Eco-friendly Home & Gardens,Wild Back Yards
END:VEVENT
BEGIN:VEVENT
DTSTART;TZID=America/New_York:20240530T153000
DTEND;TZID=America/New_York:20240530T153000
DTSTAMP:20260424T115714
CREATED:20240711T192621Z
LAST-MODIFIED:20240711T192621Z
UID:10003199-1717083000-1717083000@www.summitmetroparks.org
SUMMARY:Kids in the Garden
DESCRIPTION:Join us in collaboration with Let's Grow Akron for this weekly gardening program for children of all ages. Each class builds upon the last and will be centered on what's growing and ready to harvest in the garden.
URL:https://www.summitmetroparks.org/program-events/kids-in-the-garden-9/
CATEGORIES:Eco-friendly Home & Gardens,Nature Education
END:VEVENT
BEGIN:VEVENT
DTSTART;TZID=America/New_York:20240523T153000
DTEND;TZID=America/New_York:20240523T153000
DTSTAMP:20260424T115714
CREATED:20240711T192700Z
LAST-MODIFIED:20240711T192700Z
UID:10003206-1716478200-1716478200@www.summitmetroparks.org
SUMMARY:Kids in the Garden
DESCRIPTION:Join us in collaboration with Let's Grow Akron for this weekly gardening program for children of all ages. Each class builds upon the last and will be centered on what's growing and ready to harvest in the garden.
URL:https://www.summitmetroparks.org/program-events/kids-in-the-garden-14/
CATEGORIES:Eco-friendly Home & Gardens,Nature Education
END:VEVENT
BEGIN:VEVENT
DTSTART;TZID=America/New_York:20240523T100000
DTEND;TZID=America/New_York:20240523T100000
DTSTAMP:20260424T115714
CREATED:20240711T192903Z
LAST-MODIFIED:20240711T192903Z
UID:10003246-1716458400-1716458400@www.summitmetroparks.org
SUMMARY:Lil' Sprouts
DESCRIPTION:This biweekly program is designed to engage young children and accompanying adults in the wonderful world of gardening. Each class builds upon the last and will be centered on what's growing and ready to harvest! Adults are asked to actively participate with children during the program.
URL:https://www.summitmetroparks.org/program-events/lil-sprouts-7/
CATEGORIES:Eco-friendly Home & Gardens,Wild Back Yards
END:VEVENT
BEGIN:VEVENT
DTSTART;TZID=America/New_York:20240518T100000
DTEND;TZID=America/New_York:20240518T100000
DTSTAMP:20260424T115714
CREATED:20240711T193023Z
LAST-MODIFIED:20240711T193023Z
UID:10003288-1716026400-1716026400@www.summitmetroparks.org
SUMMARY:3rd Annual Native Plant Festival
DESCRIPTION:Kick off summer by welcoming wildlife into your yard with beautiful\, beneficial native plants! Join Summit Metro Parks staff and local native plant nurseries to learn more about the vital role of native plants in our ecosystem. Browse a wide variety of plants available for purchase or attend an educational session to better understand how to incorporate native plants into your landscaping. Presented by Wayside Furniture.
URL:https://www.summitmetroparks.org/program-events/3rd-annual-native-plant-festival/
CATEGORIES:Eco-friendly Home & Gardens,Nature Education,Special Events,Wild Back Yards
END:VEVENT
BEGIN:VEVENT
DTSTART;TZID=America/New_York:20240518T100000
DTEND;TZID=America/New_York:20240518T100000
DTSTAMP:20260424T115714
CREATED:20240711T192719Z
LAST-MODIFIED:20240711T192719Z
UID:10003214-1716026400-1716026400@www.summitmetroparks.org
SUMMARY:Inviting Biodiversity to Your Back Yard
DESCRIPTION:What do butterflies\, birds\, fireflies and even salamanders have in common? They all need food\, water\, shelter and space to thrive. We'll discuss best practices to turn your back yard of any size into a well-rounded wildlife oasis for a variety of beloved native animals using a combination of native plants and wildlife-friendly features.
URL:https://www.summitmetroparks.org/program-events/inviting-biodiversity-to-your-back-yard/
CATEGORIES:Eco-friendly Home & Gardens,Nature Education,Wild Back Yards
END:VEVENT
BEGIN:VEVENT
DTSTART;TZID=America/New_York:20240516T180000
DTEND;TZID=America/New_York:20240516T180000
DTSTAMP:20260424T115714
CREATED:20240711T192821Z
LAST-MODIFIED:20240711T192821Z
UID:10003232-1715882400-1715882400@www.summitmetroparks.org
SUMMARY:Good Garden Talks: Plant Swap
DESCRIPTION:Join us to swap some plants! These can be cuttings from plants in your yard or freshly grown from seed. Plants should be labeled by name and contained in pots. Vegetables\, herbs and native plants are preferred\, but all plants are welcome! All are encouraged to attend\, even without plants to share. In the event of inclement weather\, the program will be held inside Goodyear Heights Lodge.
URL:https://www.summitmetroparks.org/program-events/good-garden-talks-plant-swap/
CATEGORIES:Eco-friendly Home & Gardens,Nature Education
END:VEVENT
BEGIN:VEVENT
DTSTART;TZID=America/New_York:20240516T153000
DTEND;TZID=America/New_York:20240516T153000
DTSTAMP:20260424T115714
CREATED:20240711T192700Z
LAST-MODIFIED:20240711T192700Z
UID:10003207-1715873400-1715873400@www.summitmetroparks.org
SUMMARY:Kids in the Garden
DESCRIPTION:Join us in collaboration with Let's Grow Akron for this weekly gardening program for children of all ages. Each class builds upon the last and will be centered on what's growing and ready to harvest in the garden.
URL:https://www.summitmetroparks.org/program-events/kids-in-the-garden-15/
CATEGORIES:Eco-friendly Home & Gardens,Nature Education
END:VEVENT
BEGIN:VEVENT
DTSTART;TZID=America/New_York:20240512T173000
DTEND;TZID=America/New_York:20240512T173000
DTSTAMP:20260424T115714
CREATED:20240711T193108Z
LAST-MODIFIED:20240711T193108Z
UID:10003320-1715535000-1715535000@www.summitmetroparks.org
SUMMARY:Guerilla Gardening
DESCRIPTION:Neglected\, abandoned and unmaintained public spaces can burden any community\, but there’s potential for change. Learn how to ethically and responsibly revitalize these overlooked public spaces with guerrilla gardening practices.
URL:https://www.summitmetroparks.org/program-events/guerilla-gardening/
CATEGORIES:Eco-friendly Home & Gardens,Wild Back Yards
END:VEVENT
BEGIN:VEVENT
DTSTART;TZID=America/New_York:20240509T153000
DTEND;TZID=America/New_York:20240509T153000
DTSTAMP:20260424T115714
CREATED:20240711T192701Z
LAST-MODIFIED:20240711T192701Z
UID:10003208-1715268600-1715268600@www.summitmetroparks.org
SUMMARY:Kids in the Garden
DESCRIPTION:Join us in collaboration with Let's Grow Akron for this weekly gardening program for children of all ages. Each class builds upon the last and will be centered on what's growing and ready to harvest in the garden.
URL:https://www.summitmetroparks.org/program-events/kids-in-the-garden-16/
CATEGORIES:Eco-friendly Home & Gardens,Nature Education
END:VEVENT
BEGIN:VEVENT
DTSTART;TZID=America/New_York:20240502T180000
DTEND;TZID=America/New_York:20240502T180000
DTSTAMP:20260424T115714
CREATED:20240711T192822Z
LAST-MODIFIED:20240711T192822Z
UID:10003233-1714672800-1714672800@www.summitmetroparks.org
SUMMARY:Good Garden Talks: Plant Swap
DESCRIPTION:Join us to swap some plants! These can be cuttings from plants in your yard or freshly grown from seed. Plants should be labeled by name and contained in pots. Vegetables\, herbs and native plants are preferred\, but all plants are welcome! All are encouraged to attend\, even without plants to share. In the event of inclement weather\, the program will be held inside Summit Lake Nature Center.
URL:https://www.summitmetroparks.org/program-events/good-garden-talks-plant-swap-2/
CATEGORIES:Eco-friendly Home & Gardens,Nature Education
END:VEVENT
BEGIN:VEVENT
DTSTART;TZID=America/New_York:20240502T153000
DTEND;TZID=America/New_York:20240502T153000
DTSTAMP:20260424T115714
CREATED:20240711T192701Z
LAST-MODIFIED:20240711T192701Z
UID:10003209-1714663800-1714663800@www.summitmetroparks.org
SUMMARY:Kids in the Garden
DESCRIPTION:Join us in collaboration with Let's Grow Akron for this weekly gardening program for children of all ages. Each class builds upon the last and will be centered on what's growing and ready to harvest in the garden.
URL:https://www.summitmetroparks.org/program-events/kids-in-the-garden-17/
CATEGORIES:Eco-friendly Home & Gardens,Nature Education
END:VEVENT
BEGIN:VEVENT
DTSTART;TZID=America/New_York:20240502T100000
DTEND;TZID=America/New_York:20240502T100000
DTSTAMP:20260424T115714
CREATED:20240711T192904Z
LAST-MODIFIED:20240711T192904Z
UID:10003247-1714644000-1714644000@www.summitmetroparks.org
SUMMARY:Lil' Sprouts
DESCRIPTION:This biweekly program is designed to engage young children and accompanying adults in the wonderful world of gardening. Each class builds upon the last and will be centered on what's growing and ready to harvest! Adults are asked to actively participate with children during the program.
URL:https://www.summitmetroparks.org/program-events/lil-sprouts-8/
CATEGORIES:Eco-friendly Home & Gardens,Wild Back Yards
END:VEVENT
BEGIN:VEVENT
DTSTART;TZID=America/New_York:20240425T153000
DTEND;TZID=America/New_York:20240425T153000
DTSTAMP:20260424T115714
CREATED:20240711T193118Z
LAST-MODIFIED:20240711T193118Z
UID:10003322-1714059000-1714059000@www.summitmetroparks.org
SUMMARY:Kids in the Garden
DESCRIPTION:Join us in collaboration with Let's Grow Akron for this weekly gardening program for children of all ages. Each class builds upon the last and will be centered on what's growing and ready to harvest in the garden.
URL:https://www.summitmetroparks.org/program-events/kids-in-the-garden-18/
CATEGORIES:Eco-friendly Home & Gardens,Nature Education
END:VEVENT
BEGIN:VEVENT
DTSTART;TZID=America/New_York:20240425T100000
DTEND;TZID=America/New_York:20240425T100000
DTSTAMP:20260424T115714
CREATED:20240711T193155Z
LAST-MODIFIED:20240711T193155Z
UID:10003345-1714039200-1714039200@www.summitmetroparks.org
SUMMARY:Lil' Sprouts
DESCRIPTION:This biweekly program is designed to engage young children and an accompanying adult in the wonderful world of gardening. Each class builds upon the last and will be centered on what’s growing and ready to harvest! Adults are asked to actively participate with children during the program.
URL:https://www.summitmetroparks.org/program-events/lil-sprouts-9/
CATEGORIES:Eco-friendly Home & Gardens,Wild Back Yards
END:VEVENT
END:VCALENDAR